Workbook

Sheet Jan 2026
A1: =IF($A$3="","Attendance register","Attendance register – "&TEXT($A$3,"mmmm yyyy"))
A2: One row per employee, one column per day. Type a code in each cell; the dropdown lists them. Names come from the Summary sheet.
A3: =IF(C3="","",DATE(YEAR(C3),MONTH(C3),1)) | B3: Month | C3: =DATE(Summary!$B$3,1,1) | K3: Codes: | L3: P | M3: Present | P3: L | Q3: Late | T3: A | U3: Absent | X3: S | Y3: Sick | AB3: V | AC3: Vacation | AF3: H | AG3: Holiday
A4: Yellow cells are yours to fill in. White cells are worked out for you and locked (Review › Unprotect Sheet, no password, if you need to change them).
C5: =IF($A$3="","",IF(C$6>DAY(EOMONTH($A$3,0)),"",CHOOSE(WEEKDAY(DATE(YEAR($A$3),MONTH($A$3),C$6)),"Su","Mo","Tu","We","Th","Fr","Sa"))) | D5: =IF($A$3="","",IF(D$6>DAY(EOMONTH($A$3,0)),"",CHOOSE(WEEKDAY(DATE(YEAR($A$3),MONTH($A$3),D$6)),"Su","Mo","Tu","We","Th","Fr","Sa"))) | E5: =IF($A$3="","",IF(E$6>DAY(EOMONTH($A$3,0)),"",CHOOSE(WEEKDAY(DATE(YEAR($A$3),MONTH($A$3),E$6)),"Su","Mo","Tu","We","Th","Fr","Sa"))) | F5: =IF($A$3="","",IF(F$6>DAY(EOMONTH($A$3,0)),"",CHOOSE(WEEKDAY(DATE(YEAR($A$3),MONTH($A$3),F$6)),"Su","Mo","Tu","We","Th","Fr","Sa"))) | G5: =IF($A$3="","",IF(G$6>DAY(EOMONTH($A$3,0)),"",CHOOSE(WEEKDAY(DATE(YEAR($A$3),MONTH($A$3),G$6)),"Su","Mo","Tu","We","Th","Fr","Sa"))) | H5: =IF($A$3="","",IF(H$6>DAY(EOMONTH($A$3,0)),"",CHOOSE(WEEKDAY(DATE(YEAR($A$3),MONTH($A$3),H$6)),"Su","Mo","Tu","We","Th","Fr","Sa"))) | I5: =IF($A$3="","",IF(I$6>DAY(EOMONTH($A$3,0)),"",CHOOSE(WEEKDAY(DATE(YEAR($A$3),MONTH($A$3),I$6)),"Su","Mo","Tu","We","Th","Fr","Sa"))) | J5: =IF($A$3="","",IF(J$6>DAY(EOMONTH($A$3,0)),"",CHOOSE(WEEKDAY(DATE(YEAR($A$3),MONTH($A$3),J$6)),"Su","Mo","Tu","We","Th","Fr","Sa"))) | ... AG5: =IF($A$3="","",IF(AG$6>DAY(EOMONTH($A$3,0)),"",CHOOSE(WEEKDAY(DATE(YEAR($A$3),MONTH($A$3),AG$6)),"Su","Mo","Tu","We","Th","Fr","Sa")))
A6: # | B6: Employee | C6: 1 | D6: 2 | E6: 3 | F6: 4 | G6: 5 | H6: 6 | I6: 7 | J6: 8 | K6: 9 | L6: 10 | M6: 11 | N6: 12 | O6: 13 | P6: 14 | Q6: 15 | R6: 16 | S6: 17 | T6: 18 | U6: 19 | V6: 20 | W6: 21 | X6: 22 | Y6: 23 | Z6: 24 | AA6: 25 | AB6: 26 | AC6: 27 | AD6: 28 | AE6: 29 | AF6: 30 | AG6: 31 | AH6: Present | AI6: Late | AJ6: Absent | AK6: Sick | AL6: Vacation | AM6: Holiday
A7: =IF(B7="","",ROW()-6) | B7: =IF(Summary!$B7="","",Summary!$B7) | C7: P | D7: H | G7: P | H7: P | I7: P | J7: P | K7: P | N7: P | O7: A | P7: P | Q7: P | R7: P | U7: P | V7: P | W7: P | X7: P | Y7: P | AB7: P | AC7: P | AD7: P | AE7: P | AF7: P | AH7: =IF(B7="","",COUNTIF($C7:$AG7,"P")+COUNTIF($C7:$AG7,"L")) | AI7: =IF(B7="","",COUNTIF($C7:$AG7,"L")) | AJ7: =IF(B7="","",COUNTIF($C7:$AG7,"A")) | AK7: =IF(B7="","",COUNTIF($C7:$AG7,"S")) | AL7: =IF(B7="","",COUNTIF($C7:$AG7,"V")) | AM7: =IF(B7="","",COUNTIF($C7:$AG7,"H"))
A8: =IF(B8="","",ROW()-6) | B8: =IF(Summary!$B8="","",Summary!$B8) | C8: P | D8: H | G8: P | H8: P | I8: P | J8: P | K8: S | N8: P | O8: P | P8: P | Q8: L | R8: P | U8: P | V8: P | W8: P | X8: P | Y8: P | AB8: P | AC8: P | AD8: P | AE8: P | AF8: P | AH8: =IF(B8="","",COUNTIF($C8:$AG8,"P")+COUNTIF($C8:$AG8,"L")) | AI8: =IF(B8="","",COUNTIF($C8:$AG8,"L")) | AJ8: =IF(B8="","",COUNTIF($C8:$AG8,"A")) | AK8: =IF(B8="","",COUNTIF($C8:$AG8,"S")) | AL8: =IF(B8="","",COUNTIF($C8:$AG8,"V")) | AM8: =IF(B8="","",COUNTIF($C8:$AG8,"H"))
A9: =IF(B9="","",ROW()-6) | B9: =IF(Summary!$B9="","",Summary!$B9) | C9: P | D9: H | G9: P | H9: P | I9: P | J9: P | K9: P | N9: P | O9: P | P9: P | Q9: P | R9: P | U9: P | V9: V | W9: V | X9: V | Y9: P | AB9: P | AC9: P | AD9: P | AE9: P | AF9: P | AH9: =IF(B9="","",COUNTIF($C9:$AG9,"P")+COUNTIF($C9:$AG9,"L")) | AI9: =IF(B9="","",COUNTIF($C9:$AG9,"L")) | AJ9: =IF(B9="","",COUNTIF($C9:$AG9,"A")) | AK9: =IF(B9="","",COUNTIF($C9:$AG9,"S")) | AL9: =IF(B9="","",COUNTIF($C9:$AG9,"V")) | AM9: =IF(B9="","",COUNTIF($C9:$AG9,"H"))
A10: =IF(B10="","",ROW()-6) | B10: =IF(Summary!$B10="","",Summary!$B10) | AH10: =IF(B10="","",COUNTIF($C10:$AG10,"P")+COUNTIF($C10:$AG10,"L")) | AI10: =IF(B10="","",COUNTIF($C10:$AG10,"L")) | AJ10: =IF(B10="","",COUNTIF($C10:$AG10,"A")) | AK10: =IF(B10="","",COUNTIF($C10:$AG10,"S")) | AL10: =IF(B10="","",COUNTIF($C10:$AG10,"V")) | AM10: =IF(B10="","",COUNTIF($C10:$AG10,"H"))
A11: =IF(B11="","",ROW()-6) | B11: =IF(Summary!$B11="","",Summary!$B11) | AH11: =IF(B11="","",COUNTIF($C11:$AG11,"P")+COUNTIF($C11:$AG11,"L")) | AI11: =IF(B11="","",COUNTIF($C11:$AG11,"L")) | AJ11: =IF(B11="","",COUNTIF($C11:$AG11,"A")) | AK11: =IF(B11="","",COUNTIF($C11:$AG11,"S")) | AL11: =IF(B11="","",COUNTIF($C11:$AG11,"V")) | AM11: =IF(B11="","",COUNTIF($C11:$AG11,"H"))
A12: =IF(B12="","",ROW()-6) | B12: =IF(Summary!$B12="","",Summary!$B12) | AH12: =IF(B12="","",COUNTIF($C12:$AG12,"P")+COUNTIF($C12:$AG12,"L")) | AI12: =IF(B12="","",COUNTIF($C12:$AG12,"L")) | AJ12: =IF(B12="","",COUNTIF($C12:$AG12,"A")) | AK12: =IF(B12="","",COUNTIF($C12:$AG12,"S")) | AL12: =IF(B12="","",COUNTIF($C12:$AG12,"V")) | AM12: =IF(B12="","",COUNTIF($C12:$AG12,"H"))
A13: =IF(B13="","",ROW()-6) | B13: =IF(Summary!$B13="","",Summary!$B13) | AH13: =IF(B13="","",COUNTIF($C13:$AG13,"P")+COUNTIF($C13:$AG13,"L")) | AI13: =IF(B13="","",COUNTIF($C13:$AG13,"L")) | AJ13: =IF(B13="","",COUNTIF($C13:$AG13,"A")) | AK13: =IF(B13="","",COUNTIF($C13:$AG13,"S")) | AL13: =IF(B13="","",COUNTIF($C13:$AG13,"V")) | AM13: =IF(B13="","",COUNTIF($C13:$AG13,"H"))
A14: =IF(B14="","",ROW()-6) | B14: =IF(Summary!$B14="","",Summary!$B14) | AH14: =IF(B14="","",COUNTIF($C14:$AG14,"P")+COUNTIF($C14:$AG14,"L")) | AI14: =IF(B14="","",COUNTIF($C14:$AG14,"L")) | AJ14: =IF(B14="","",COUNTIF($C14:$AG14,"A")) | AK14: =IF(B14="","",COUNTIF($C14:$AG14,"S")) | AL14: =IF(B14="","",COUNTIF($C14:$AG14,"V")) | AM14: =IF(B14="","",COUNTIF($C14:$AG14,"H"))
A15: =IF(B15="","",ROW()-6) | B15: =IF(Summary!$B15="","",Summary!$B15) | AH15: =IF(B15="","",COUNTIF($C15:$AG15,"P")+COUNTIF($C15:$AG15,"L")) | AI15: =IF(B15="","",COUNTIF($C15:$AG15,"L")) | AJ15: =IF(B15="","",COUNTIF($C15:$AG15,"A")) | AK15: =IF(B15="","",COUNTIF($C15:$AG15,"S")) | AL15: =IF(B15="","",COUNTIF($C15:$AG15,"V")) | AM15: =IF(B15="","",COUNTIF($C15:$AG15,"H"))
A16: =IF(B16="","",ROW()-6) | B16: =IF(Summary!$B16="","",Summary!$B16) | AH16: =IF(B16="","",COUNTIF($C16:$AG16,"P")+COUNTIF($C16:$AG16,"L")) | AI16: =IF(B16="","",COUNTIF($C16:$AG16,"L")) | AJ16: =IF(B16="","",COUNTIF($C16:$AG16,"A")) | AK16: =IF(B16="","",COUNTIF($C16:$AG16,"S")) | AL16: =IF(B16="","",COUNTIF($C16:$AG16,"V")) | AM16: =IF(B16="","",COUNTIF($C16:$AG16,"H"))
A17: =IF(B17="","",ROW()-6) | B17: =IF(Summary!$B17="","",Summary!$B17) | AH17: =IF(B17="","",COUNTIF($C17:$AG17,"P")+COUNTIF($C17:$AG17,"L")) | AI17: =IF(B17="","",COUNTIF($C17:$AG17,"L")) | AJ17: =IF(B17="","",COUNTIF($C17:$AG17,"A")) | AK17: =IF(B17="","",COUNTIF($C17:$AG17,"S")) | AL17: =IF(B17="","",COUNTIF($C17:$AG17,"V")) | AM17: =IF(B17="","",COUNTIF($C17:$AG17,"H"))
A18: =IF(B18="","",ROW()-6) | B18: =IF(Summary!$B18="","",Summary!$B18) | AH18: =IF(B18="","",COUNTIF($C18:$AG18,"P")+COUNTIF($C18:$AG18,"L")) | AI18: =IF(B18="","",COUNTIF($C18:$AG18,"L")) | AJ18: =IF(B18="","",COUNTIF($C18:$AG18,"A")) | AK18: =IF(B18="","",COUNTIF($C18:$AG18,"S")) | AL18: =IF(B18="","",COUNTIF($C18:$AG18,"V")) | AM18: =IF(B18="","",COUNTIF($C18:$AG18,"H"))
A19: =IF(B19="","",ROW()-6) | B19: =IF(Summary!$B19="","",Summary!$B19) | AH19: =IF(B19="","",COUNTIF($C19:$AG19,"P")+COUNTIF($C19:$AG19,"L")) | AI19: =IF(B19="","",COUNTIF($C19:$AG19,"L")) | AJ19: =IF(B19="","",COUNTIF($C19:$AG19,"A")) | AK19: =IF(B19="","",COUNTIF($C19:$AG19,"S")) | AL19: =IF(B19="","",COUNTIF($C19:$AG19,"V")) | AM19: =IF(B19="","",COUNTIF($C19:$AG19,"H"))
A20: =IF(B20="","",ROW()-6) | B20: =IF(Summary!$B20="","",Summary!$B20) | AH20: =IF(B20="","",COUNTIF($C20:$AG20,"P")+COUNTIF($C20:$AG20,"L")) | AI20: =IF(B20="","",COUNTIF($C20:$AG20,"L")) | AJ20: =IF(B20="","",COUNTIF($C20:$AG20,"A")) | AK20: =IF(B20="","",COUNTIF($C20:$AG20,"S")) | AL20: =IF(B20="","",COUNTIF($C20:$AG20,"V")) | AM20: =IF(B20="","",COUNTIF($C20:$AG20,"H"))
A21: =IF(B21="","",ROW()-6) | B21: =IF(Summary!$B21="","",Summary!$B21) | AH21: =IF(B21="","",COUNTIF($C21:$AG21,"P")+COUNTIF($C21:$AG21,"L")) | AI21: =IF(B21="","",COUNTIF($C21:$AG21,"L")) | AJ21: =IF(B21="","",COUNTIF($C21:$AG21,"A")) | AK21: =IF(B21="","",COUNTIF($C21:$AG21,"S")) | AL21: =IF(B21="","",COUNTIF($C21:$AG21,"V")) | AM21: =IF(B21="","",COUNTIF($C21:$AG21,"H"))
... A36: =IF(B36="","",ROW()-6) | B36: =IF(Summary!$B36="","",Summary!$B36) | AH36: =IF(B36="","",COUNTIF($C36:$AG36,"P")+COUNTIF($C36:$AG36,"L")) | AI36: =IF(B36="","",COUNTIF($C36:$AG36,"L")) | AJ36: =IF(B36="","",COUNTIF($C36:$AG36,"A")) | AK36: =IF(B36="","",COUNTIF($C36:$AG36,"S")) | AL36: =IF(B36="","",COUNTIF($C36:$AG36,"V")) | AM36: =IF(B36="","",COUNTIF($C36:$AG36,"H"))
A37: Totals per day
B38: Present (P + L) | C38: =IF(C$5="","",COUNTIF(C$7:C$36,"P")+COUNTIF(C$7:C$36,"L")) | D38: =IF(D$5="","",COUNTIF(D$7:D$36,"P")+COUNTIF(D$7:D$36,"L")) | E38: =IF(E$5="","",COUNTIF(E$7:E$36,"P")+COUNTIF(E$7:E$36,"L")) | F38: =IF(F$5="","",COUNTIF(F$7:F$36,"P")+COUNTIF(F$7:F$36,"L")) | G38: =IF(G$5="","",COUNTIF(G$7:G$36,"P")+COUNTIF(G$7:G$36,"L")) | H38: =IF(H$5="","",COUNTIF(H$7:H$36,"P")+COUNTIF(H$7:H$36,"L")) | I38: =IF(I$5="","",COUNTIF(I$7:I$36,"P")+COUNTIF(I$7:I$36,"L")) | J38: =IF(J$5="","",COUNTIF(J$7:J$36,"P")+COUNTIF(J$7:J$36,"L")) | ... AG38: =IF(AG$5="","",COUNTIF(AG$7:AG$36,"P")+COUNTIF(AG$7:AG$36,"L")) | AH38: =SUM(C38:AG38)
B39: Late | C39: =IF(C$5="","",COUNTIF(C$7:C$36,"L")) | D39: =IF(D$5="","",COUNTIF(D$7:D$36,"L")) | E39: =IF(E$5="","",COUNTIF(E$7:E$36,"L")) | F39: =IF(F$5="","",COUNTIF(F$7:F$36,"L")) | G39: =IF(G$5="","",COUNTIF(G$7:G$36,"L")) | H39: =IF(H$5="","",COUNTIF(H$7:H$36,"L")) | I39: =IF(I$5="","",COUNTIF(I$7:I$36,"L")) | J39: =IF(J$5="","",COUNTIF(J$7:J$36,"L")) | ... AG39: =IF(AG$5="","",COUNTIF(AG$7:AG$36,"L")) | AH39: =SUM(C39:AG39)
B40: Absent | C40: =IF(C$5="","",COUNTIF(C$7:C$36,"A")) | D40: =IF(D$5="","",COUNTIF(D$7:D$36,"A")) | E40: =IF(E$5="","",COUNTIF(E$7:E$36,"A")) | F40: =IF(F$5="","",COUNTIF(F$7:F$36,"A")) | G40: =IF(G$5="","",COUNTIF(G$7:G$36,"A")) | H40: =IF(H$5="","",COUNTIF(H$7:H$36,"A")) | I40: =IF(I$5="","",COUNTIF(I$7:I$36,"A")) | J40: =IF(J$5="","",COUNTIF(J$7:J$36,"A")) | ... AG40: =IF(AG$5="","",COUNTIF(AG$7:AG$36,"A")) | AH40: =SUM(C40:AG40)
B41: Sick | C41: =IF(C$5="","",COUNTIF(C$7:C$36,"S")) | D41: =IF(D$5="","",COUNTIF(D$7:D$36,"S")) | E41: =IF(E$5="","",COUNTIF(E$7:E$36,"S")) | F41: =IF(F$5="","",COUNTIF(F$7:F$36,"S")) | G41: =IF(G$5="","",COUNTIF(G$7:G$36,"S")) | H41: =IF(H$5="","",COUNTIF(H$7:H$36,"S")) | I41: =IF(I$5="","",COUNTIF(I$7:I$36,"S")) | J41: =IF(J$5="","",COUNTIF(J$7:J$36,"S")) | ... AG41: =IF(AG$5="","",COUNTIF(AG$7:AG$36,"S")) | AH41: =SUM(C41:AG41)
B42: Vacation | C42: =IF(C$5="","",COUNTIF(C$7:C$36,"V")) | D42: =IF(D$5="","",COUNTIF(D$7:D$36,"V")) | E42: =IF(E$5="","",COUNTIF(E$7:E$36,"V")) | F42: =IF(F$5="","",COUNTIF(F$7:F$36,"V")) | G42: =IF(G$5="","",COUNTIF(G$7:G$36,"V")) | H42: =IF(H$5="","",COUNTIF(H$7:H$36,"V")) | I42: =IF(I$5="","",COUNTIF(I$7:I$36,"V")) | J42: =IF(J$5="","",COUNTIF(J$7:J$36,"V")) | ... AG42: =IF(AG$5="","",COUNTIF(AG$7:AG$36,"V")) | AH42: =SUM(C42:AG42)
B43: Holiday | C43: =IF(C$5="","",COUNTIF(C$7:C$36,"H")) | D43: =IF(D$5="","",COUNTIF(D$7:D$36,"H")) | E43: =IF(E$5="","",COUNTIF(E$7:E$36,"H")) | F43: =IF(F$5="","",COUNTIF(F$7:F$36,"H")) | G43: =IF(G$5="","",COUNTIF(G$7:G$36,"H")) | H43: =IF(H$5="","",COUNTIF(H$7:H$36,"H")) | I43: =IF(I$5="","",COUNTIF(I$7:I$36,"H")) | J43: =IF(J$5="","",COUNTIF(J$7:J$36,"H")) | ... AG43: =IF(AG$5="","",COUNTIF(AG$7:AG$36,"H")) | AH43: =SUM(C43:AG43)
A45: Made with PunchClock · punchclock.ai/tools

Sheet Feb 2026
A1: =IF($A$3="","Attendance register","Attendance register – "&TEXT($A$3,"mmmm yyyy"))
A2: One row per employee, one column per day. Type a code in each cell; the dropdown lists them. Names come from the Summary sheet.
A3: =IF(C3="","",DATE(YEAR(C3),MONTH(C3),1)) | B3: Month | C3: =DATE(Summary!$B$3,2,1) | K3: Codes: | L3: P | M3: Present | P3: L | Q3: Late | T3: A | U3: Absent | X3: S | Y3: Sick | AB3: V | AC3: Vacation | AF3: H | AG3: Holiday
A4: Yellow cells are yours to fill in. White cells are worked out for you and locked (Review › Unprotect Sheet, no password, if you need to change them).
C5: =IF($A$3="","",IF(C$6>DAY(EOMONTH($A$3,0)),"",CHOOSE(WEEKDAY(DATE(YEAR($A$3),MONTH($A$3),C$6)),"Su","Mo","Tu","We","Th","Fr","Sa"))) | D5: =IF($A$3="","",IF(D$6>DAY(EOMONTH($A$3,0)),"",CHOOSE(WEEKDAY(DATE(YEAR($A$3),MONTH($A$3),D$6)),"Su","Mo","Tu","We","Th","Fr","Sa"))) | E5: =IF($A$3="","",IF(E$6>DAY(EOMONTH($A$3,0)),"",CHOOSE(WEEKDAY(DATE(YEAR($A$3),MONTH($A$3),E$6)),"Su","Mo","Tu","We","Th","Fr","Sa"))) | F5: =IF($A$3="","",IF(F$6>DAY(EOMONTH($A$3,0)),"",CHOOSE(WEEKDAY(DATE(YEAR($A$3),MONTH($A$3),F$6)),"Su","Mo","Tu","We","Th","Fr","Sa"))) | G5: =IF($A$3="","",IF(G$6>DAY(EOMONTH($A$3,0)),"",CHOOSE(WEEKDAY(DATE(YEAR($A$3),MONTH($A$3),G$6)),"Su","Mo","Tu","We","Th","Fr","Sa"))) | H5: =IF($A$3="","",IF(H$6>DAY(EOMONTH($A$3,0)),"",CHOOSE(WEEKDAY(DATE(YEAR($A$3),MONTH($A$3),H$6)),"Su","Mo","Tu","We","Th","Fr","Sa"))) | I5: =IF($A$3="","",IF(I$6>DAY(EOMONTH($A$3,0)),"",CHOOSE(WEEKDAY(DATE(YEAR($A$3),MONTH($A$3),I$6)),"Su","Mo","Tu","We","Th","Fr","Sa"))) | J5: =IF($A$3="","",IF(J$6>DAY(EOMONTH($A$3,0)),"",CHOOSE(WEEKDAY(DATE(YEAR($A$3),MONTH($A$3),J$6)),"Su","Mo","Tu","We","Th","Fr","Sa"))) | ... AG5: =IF($A$3="","",IF(AG$6>DAY(EOMONTH($A$3,0)),"",CHOOSE(WEEKDAY(DATE(YEAR($A$3),MONTH($A$3),AG$6)),"Su","Mo","Tu","We","Th","Fr","Sa")))
A6: # | B6: Employee | C6: 1 | D6: 2 | E6: 3 | F6: 4 | G6: 5 | H6: 6 | I6: 7 | J6: 8 | K6: 9 | L6: 10 | M6: 11 | N6: 12 | O6: 13 | P6: 14 | Q6: 15 | R6: 16 | S6: 17 | T6: 18 | U6: 19 | V6: 20 | W6: 21 | X6: 22 | Y6: 23 | Z6: 24 | AA6: 25 | AB6: 26 | AC6: 27 | AD6: 28 | AE6: 29 | AF6: 30 | AG6: 31 | AH6: Present | AI6: Late | AJ6: Absent | AK6: Sick | AL6: Vacation | AM6: Holiday
A7: =IF(B7="","",ROW()-6) | B7: =IF(Summary!$B7="","",Summary!$B7) | AH7: =IF(B7="","",COUNTIF($C7:$AG7,"P")+COUNTIF($C7:$AG7,"L")) | AI7: =IF(B7="","",COUNTIF($C7:$AG7,"L")) | AJ7: =IF(B7="","",COUNTIF($C7:$AG7,"A")) | AK7: =IF(B7="","",COUNTIF($C7:$AG7,"S")) | AL7: =IF(B7="","",COUNTIF($C7:$AG7,"V")) | AM7: =IF(B7="","",COUNTIF($C7:$AG7,"H"))
A8: =IF(B8="","",ROW()-6) | B8: =IF(Summary!$B8="","",Summary!$B8) | AH8: =IF(B8="","",COUNTIF($C8:$AG8,"P")+COUNTIF($C8:$AG8,"L")) | AI8: =IF(B8="","",COUNTIF($C8:$AG8,"L")) | AJ8: =IF(B8="","",COUNTIF($C8:$AG8,"A")) | AK8: =IF(B8="","",COUNTIF($C8:$AG8,"S")) | AL8: =IF(B8="","",COUNTIF($C8:$AG8,"V")) | AM8: =IF(B8="","",COUNTIF($C8:$AG8,"H"))
A9: =IF(B9="","",ROW()-6) | B9: =IF(Summary!$B9="","",Summary!$B9) | AH9: =IF(B9="","",COUNTIF($C9:$AG9,"P")+COUNTIF($C9:$AG9,"L")) | AI9: =IF(B9="","",COUNTIF($C9:$AG9,"L")) | AJ9: =IF(B9="","",COUNTIF($C9:$AG9,"A")) | AK9: =IF(B9="","",COUNTIF($C9:$AG9,"S")) | AL9: =IF(B9="","",COUNTIF($C9:$AG9,"V")) | AM9: =IF(B9="","",COUNTIF($C9:$AG9,"H"))
A10: =IF(B10="","",ROW()-6) | B10: =IF(Summary!$B10="","",Summary!$B10) | AH10: =IF(B10="","",COUNTIF($C10:$AG10,"P")+COUNTIF($C10:$AG10,"L")) | AI10: =IF(B10="","",COUNTIF($C10:$AG10,"L")) | AJ10: =IF(B10="","",COUNTIF($C10:$AG10,"A")) | AK10: =IF(B10="","",COUNTIF($C10:$AG10,"S")) | AL10: =IF(B10="","",COUNTIF($C10:$AG10,"V")) | AM10: =IF(B10="","",COUNTIF($C10:$AG10,"H"))
A11: =IF(B11="","",ROW()-6) | B11: =IF(Summary!$B11="","",Summary!$B11) | AH11: =IF(B11="","",COUNTIF($C11:$AG11,"P")+COUNTIF($C11:$AG11,"L")) | AI11: =IF(B11="","",COUNTIF($C11:$AG11,"L")) | AJ11: =IF(B11="","",COUNTIF($C11:$AG11,"A")) | AK11: =IF(B11="","",COUNTIF($C11:$AG11,"S")) | AL11: =IF(B11="","",COUNTIF($C11:$AG11,"V")) | AM11: =IF(B11="","",COUNTIF($C11:$AG11,"H"))
A12: =IF(B12="","",ROW()-6) | B12: =IF(Summary!$B12="","",Summary!$B12) | AH12: =IF(B12="","",COUNTIF($C12:$AG12,"P")+COUNTIF($C12:$AG12,"L")) | AI12: =IF(B12="","",COUNTIF($C12:$AG12,"L")) | AJ12: =IF(B12="","",COUNTIF($C12:$AG12,"A")) | AK12: =IF(B12="","",COUNTIF($C12:$AG12,"S")) | AL12: =IF(B12="","",COUNTIF($C12:$AG12,"V")) | AM12: =IF(B12="","",COUNTIF($C12:$AG12,"H"))
A13: =IF(B13="","",ROW()-6) | B13: =IF(Summary!$B13="","",Summary!$B13) | AH13: =IF(B13="","",COUNTIF($C13:$AG13,"P")+COUNTIF($C13:$AG13,"L")) | AI13: =IF(B13="","",COUNTIF($C13:$AG13,"L")) | AJ13: =IF(B13="","",COUNTIF($C13:$AG13,"A")) | AK13: =IF(B13="","",COUNTIF($C13:$AG13,"S")) | AL13: =IF(B13="","",COUNTIF($C13:$AG13,"V")) | AM13: =IF(B13="","",COUNTIF($C13:$AG13,"H"))
A14: =IF(B14="","",ROW()-6) | B14: =IF(Summary!$B14="","",Summary!$B14) | AH14: =IF(B14="","",COUNTIF($C14:$AG14,"P")+COUNTIF($C14:$AG14,"L")) | AI14: =IF(B14="","",COUNTIF($C14:$AG14,"L")) | AJ14: =IF(B14="","",COUNTIF($C14:$AG14,"A")) | AK14: =IF(B14="","",COUNTIF($C14:$AG14,"S")) | AL14: =IF(B14="","",COUNTIF($C14:$AG14,"V")) | AM14: =IF(B14="","",COUNTIF($C14:$AG14,"H"))
A15: =IF(B15="","",ROW()-6) | B15: =IF(Summary!$B15="","",Summary!$B15) | AH15: =IF(B15="","",COUNTIF($C15:$AG15,"P")+COUNTIF($C15:$AG15,"L")) | AI15: =IF(B15="","",COUNTIF($C15:$AG15,"L")) | AJ15: =IF(B15="","",COUNTIF($C15:$AG15,"A")) | AK15: =IF(B15="","",COUNTIF($C15:$AG15,"S")) | AL15: =IF(B15="","",COUNTIF($C15:$AG15,"V")) | AM15: =IF(B15="","",COUNTIF($C15:$AG15,"H"))
A16: =IF(B16="","",ROW()-6) | B16: =IF(Summary!$B16="","",Summary!$B16) | AH16: =IF(B16="","",COUNTIF($C16:$AG16,"P")+COUNTIF($C16:$AG16,"L")) | AI16: =IF(B16="","",COUNTIF($C16:$AG16,"L")) | AJ16: =IF(B16="","",COUNTIF($C16:$AG16,"A")) | AK16: =IF(B16="","",COUNTIF($C16:$AG16,"S")) | AL16: =IF(B16="","",COUNTIF($C16:$AG16,"V")) | AM16: =IF(B16="","",COUNTIF($C16:$AG16,"H"))
A17: =IF(B17="","",ROW()-6) | B17: =IF(Summary!$B17="","",Summary!$B17) | AH17: =IF(B17="","",COUNTIF($C17:$AG17,"P")+COUNTIF($C17:$AG17,"L")) | AI17: =IF(B17="","",COUNTIF($C17:$AG17,"L")) | AJ17: =IF(B17="","",COUNTIF($C17:$AG17,"A")) | AK17: =IF(B17="","",COUNTIF($C17:$AG17,"S")) | AL17: =IF(B17="","",COUNTIF($C17:$AG17,"V")) | AM17: =IF(B17="","",COUNTIF($C17:$AG17,"H"))
A18: =IF(B18="","",ROW()-6) | B18: =IF(Summary!$B18="","",Summary!$B18) | AH18: =IF(B18="","",COUNTIF($C18:$AG18,"P")+COUNTIF($C18:$AG18,"L")) | AI18: =IF(B18="","",COUNTIF($C18:$AG18,"L")) | AJ18: =IF(B18="","",COUNTIF($C18:$AG18,"A")) | AK18: =IF(B18="","",COUNTIF($C18:$AG18,"S")) | AL18: =IF(B18="","",COUNTIF($C18:$AG18,"V")) | AM18: =IF(B18="","",COUNTIF($C18:$AG18,"H"))
... A36: =IF(B36="","",ROW()-6) | B36: =IF(Summary!$B36="","",Summary!$B36) | AH36: =IF(B36="","",COUNTIF($C36:$AG36,"P")+COUNTIF($C36:$AG36,"L")) | AI36: =IF(B36="","",COUNTIF($C36:$AG36,"L")) | AJ36: =IF(B36="","",COUNTIF($C36:$AG36,"A")) | AK36: =IF(B36="","",COUNTIF($C36:$AG36,"S")) | AL36: =IF(B36="","",COUNTIF($C36:$AG36,"V")) | AM36: =IF(B36="","",COUNTIF($C36:$AG36,"H"))
A37: Totals per day
B38: Present (P + L) | C38: =IF(C$5="","",COUNTIF(C$7:C$36,"P")+COUNTIF(C$7:C$36,"L")) | D38: =IF(D$5="","",COUNTIF(D$7:D$36,"P")+COUNTIF(D$7:D$36,"L")) | E38: =IF(E$5="","",COUNTIF(E$7:E$36,"P")+COUNTIF(E$7:E$36,"L")) | F38: =IF(F$5="","",COUNTIF(F$7:F$36,"P")+COUNTIF(F$7:F$36,"L")) | G38: =IF(G$5="","",COUNTIF(G$7:G$36,"P")+COUNTIF(G$7:G$36,"L")) | H38: =IF(H$5="","",COUNTIF(H$7:H$36,"P")+COUNTIF(H$7:H$36,"L")) | I38: =IF(I$5="","",COUNTIF(I$7:I$36,"P")+COUNTIF(I$7:I$36,"L")) | J38: =IF(J$5="","",COUNTIF(J$7:J$36,"P")+COUNTIF(J$7:J$36,"L")) | ... AG38: =IF(AG$5="","",COUNTIF(AG$7:AG$36,"P")+COUNTIF(AG$7:AG$36,"L")) | AH38: =SUM(C38:AG38)
B39: Late | C39: =IF(C$5="","",COUNTIF(C$7:C$36,"L")) | D39: =IF(D$5="","",COUNTIF(D$7:D$36,"L")) | E39: =IF(E$5="","",COUNTIF(E$7:E$36,"L")) | F39: =IF(F$5="","",COUNTIF(F$7:F$36,"L")) | G39: =IF(G$5="","",COUNTIF(G$7:G$36,"L")) | H39: =IF(H$5="","",COUNTIF(H$7:H$36,"L")) | I39: =IF(I$5="","",COUNTIF(I$7:I$36,"L")) | J39: =IF(J$5="","",COUNTIF(J$7:J$36,"L")) | ... AG39: =IF(AG$5="","",COUNTIF(AG$7:AG$36,"L")) | AH39: =SUM(C39:AG39)
B40: Absent | C40: =IF(C$5="","",COUNTIF(C$7:C$36,"A")) | D40: =IF(D$5="","",COUNTIF(D$7:D$36,"A")) | E40: =IF(E$5="","",COUNTIF(E$7:E$36,"A")) | F40: =IF(F$5="","",COUNTIF(F$7:F$36,"A")) | G40: =IF(G$5="","",COUNTIF(G$7:G$36,"A")) | H40: =IF(H$5="","",COUNTIF(H$7:H$36,"A")) | I40: =IF(I$5="","",COUNTIF(I$7:I$36,"A")) | J40: =IF(J$5="","",COUNTIF(J$7:J$36,"A")) | ... AG40: =IF(AG$5="","",COUNTIF(AG$7:AG$36,"A")) | AH40: =SUM(C40:AG40)
B41: Sick | C41: =IF(C$5="","",COUNTIF(C$7:C$36,"S")) | D41: =IF(D$5="","",COUNTIF(D$7:D$36,"S")) | E41: =IF(E$5="","",COUNTIF(E$7:E$36,"S")) | F41: =IF(F$5="","",COUNTIF(F$7:F$36,"S")) | G41: =IF(G$5="","",COUNTIF(G$7:G$36,"S")) | H41: =IF(H$5="","",COUNTIF(H$7:H$36,"S")) | I41: =IF(I$5="","",COUNTIF(I$7:I$36,"S")) | J41: =IF(J$5="","",COUNTIF(J$7:J$36,"S")) | ... AG41: =IF(AG$5="","",COUNTIF(AG$7:AG$36,"S")) | AH41: =SUM(C41:AG41)
B42: Vacation | C42: =IF(C$5="","",COUNTIF(C$7:C$36,"V")) | D42: =IF(D$5="","",COUNTIF(D$7:D$36,"V")) | E42: =IF(E$5="","",COUNTIF(E$7:E$36,"V")) | F42: =IF(F$5="","",COUNTIF(F$7:F$36,"V")) | G42: =IF(G$5="","",COUNTIF(G$7:G$36,"V")) | H42: =IF(H$5="","",COUNTIF(H$7:H$36,"V")) | I42: =IF(I$5="","",COUNTIF(I$7:I$36,"V")) | J42: =IF(J$5="","",COUNTIF(J$7:J$36,"V")) | ... AG42: =IF(AG$5="","",COUNTIF(AG$7:AG$36,"V")) | AH42: =SUM(C42:AG42)
B43: Holiday | C43: =IF(C$5="","",COUNTIF(C$7:C$36,"H")) | D43: =IF(D$5="","",COUNTIF(D$7:D$36,"H")) | E43: =IF(E$5="","",COUNTIF(E$7:E$36,"H")) | F43: =IF(F$5="","",COUNTIF(F$7:F$36,"H")) | G43: =IF(G$5="","",COUNTIF(G$7:G$36,"H")) | H43: =IF(H$5="","",COUNTIF(H$7:H$36,"H")) | I43: =IF(I$5="","",COUNTIF(I$7:I$36,"H")) | J43: =IF(J$5="","",COUNTIF(J$7:J$36,"H")) | ... AG43: =IF(AG$5="","",COUNTIF(AG$7:AG$36,"H")) | AH43: =SUM(C43:AG43)
A45: Made with PunchClock · punchclock.ai/tools

Sheet Mar 2026
A1: =IF($A$3="","Attendance register","Attendance register – "&TEXT($A$3,"mmmm yyyy"))
A2: One row per employee, one column per day. Type a code in each cell; the dropdown lists them. Names come from the Summary sheet.
A3: =IF(C3="","",DATE(YEAR(C3),MONTH(C3),1)) | B3: Month | C3: =DATE(Summary!$B$3,3,1) | K3: Codes: | L3: P | M3: Present | P3: L | Q3: Late | T3: A | U3: Absent | X3: S | Y3: Sick | AB3: V | AC3: Vacation | AF3: H | AG3: Holiday
A4: Yellow cells are yours to fill in. White cells are worked out for you and locked (Review › Unprotect Sheet, no password, if you need to change them).
C5: =IF($A$3="","",IF(C$6>DAY(EOMONTH($A$3,0)),"",CHOOSE(WEEKDAY(DATE(YEAR($A$3),MONTH($A$3),C$6)),"Su","Mo","Tu","We","Th","Fr","Sa"))) | D5: =IF($A$3="","",IF(D$6>DAY(EOMONTH($A$3,0)),"",CHOOSE(WEEKDAY(DATE(YEAR($A$3),MONTH($A$3),D$6)),"Su","Mo","Tu","We","Th","Fr","Sa"))) | E5: =IF($A$3="","",IF(E$6>DAY(EOMONTH($A$3,0)),"",CHOOSE(WEEKDAY(DATE(YEAR($A$3),MONTH($A$3),E$6)),"Su","Mo","Tu","We","Th","Fr","Sa"))) | F5: =IF($A$3="","",IF(F$6>DAY(EOMONTH($A$3,0)),"",CHOOSE(WEEKDAY(DATE(YEAR($A$3),MONTH($A$3),F$6)),"Su","Mo","Tu","We","Th","Fr","Sa"))) | G5: =IF($A$3="","",IF(G$6>DAY(EOMONTH($A$3,0)),"",CHOOSE(WEEKDAY(DATE(YEAR($A$3),MONTH($A$3),G$6)),"Su","Mo","Tu","We","Th","Fr","Sa"))) | H5: =IF($A$3="","",IF(H$6>DAY(EOMONTH($A$3,0)),"",CHOOSE(WEEKDAY(DATE(YEAR($A$3),MONTH($A$3),H$6)),"Su","Mo","Tu","We","Th","Fr","Sa"))) | I5: =IF($A$3="","",IF(I$6>DAY(EOMONTH($A$3,0)),"",CHOOSE(WEEKDAY(DATE(YEAR($A$3),MONTH($A$3),I$6)),"Su","Mo","Tu","We","Th","Fr","Sa"))) | J5: =IF($A$3="","",IF(J$6>DAY(EOMONTH($A$3,0)),"",CHOOSE(WEEKDAY(DATE(YEAR($A$3),MONTH($A$3),J$6)),"Su","Mo","Tu","We","Th","Fr","Sa"))) | ... AG5: =IF($A$3="","",IF(AG$6>DAY(EOMONTH($A$3,0)),"",CHOOSE(WEEKDAY(DATE(YEAR($A$3),MONTH($A$3),AG$6)),"Su","Mo","Tu","We","Th","Fr","Sa")))
A6: # | B6: Employee | C6: 1 | D6: 2 | E6: 3 | F6: 4 | G6: 5 | H6: 6 | I6: 7 | J6: 8 | K6: 9 | L6: 10 | M6: 11 | N6: 12 | O6: 13 | P6: 14 | Q6: 15 | R6: 16 | S6: 17 | T6: 18 | U6: 19 | V6: 20 | W6: 21 | X6: 22 | Y6: 23 | Z6: 24 | AA6: 25 | AB6: 26 | AC6: 27 | AD6: 28 | AE6: 29 | AF6: 30 | AG6: 31 | AH6: Present | AI6: Late | AJ6: Absent | AK6: Sick | AL6: Vacation | AM6: Holiday
A7: =IF(B7="","",ROW()-6) | B7: =IF(Summary!$B7="","",Summary!$B7) | AH7: =IF(B7="","",COUNTIF($C7:$AG7,"P")+COUNTIF($C7:$AG7,"L")) | AI7: =IF(B7="","",COUNTIF($C7:$AG7,"L")) | AJ7: =IF(B7="","",COUNTIF($C7:$AG7,"A")) | AK7: =IF(B7="","",COUNTIF($C7:$AG7,"S")) | AL7: =IF(B7="","",COUNTIF($C7:$AG7,"V")) | AM7: =IF(B7="","",COUNTIF($C7:$AG7,"H"))
A8: =IF(B8="","",ROW()-6) | B8: =IF(Summary!$B8="","",Summary!$B8) | AH8: =IF(B8="","",COUNTIF($C8:$AG8,"P")+COUNTIF($C8:$AG8,"L")) | AI8: =IF(B8="","",COUNTIF($C8:$AG8,"L")) | AJ8: =IF(B8="","",COUNTIF($C8:$AG8,"A")) | AK8: =IF(B8="","",COUNTIF($C8:$AG8,"S")) | AL8: =IF(B8="","",COUNTIF($C8:$AG8,"V")) | AM8: =IF(B8="","",COUNTIF($C8:$AG8,"H"))
A9: =IF(B9="","",ROW()-6) | B9: =IF(Summary!$B9="","",Summary!$B9) | AH9: =IF(B9="","",COUNTIF($C9:$AG9,"P")+COUNTIF($C9:$AG9,"L")) | AI9: =IF(B9="","",COUNTIF($C9:$AG9,"L")) | AJ9: =IF(B9="","",COUNTIF($C9:$AG9,"A")) | AK9: =IF(B9="","",COUNTIF($C9:$AG9,"S")) | AL9: =IF(B9="","",COUNTIF($C9:$AG9,"V")) | AM9: =IF(B9="","",COUNTIF($C9:$AG9,"H"))
A10: =IF(B10="","",ROW()-6) | B10: =IF(Summary!$B10="","",Summary!$B10) | AH10: =IF(B10="","",COUNTIF($C10:$AG10,"P")+COUNTIF($C10:$AG10,"L")) | AI10: =IF(B10="","",COUNTIF($C10:$AG10,"L")) | AJ10: =IF(B10="","",COUNTIF($C10:$AG10,"A")) | AK10: =IF(B10="","",COUNTIF($C10:$AG10,"S")) | AL10: =IF(B10="","",COUNTIF($C10:$AG10,"V")) | AM10: =IF(B10="","",COUNTIF($C10:$AG10,"H"))
A11: =IF(B11="","",ROW()-6) | B11: =IF(Summary!$B11="","",Summary!$B11) | AH11: =IF(B11="","",COUNTIF($C11:$AG11,"P")+COUNTIF($C11:$AG11,"L")) | AI11: =IF(B11="","",COUNTIF($C11:$AG11,"L")) | AJ11: =IF(B11="","",COUNTIF($C11:$AG11,"A")) | AK11: =IF(B11="","",COUNTIF($C11:$AG11,"S")) | AL11: =IF(B11="","",COUNTIF($C11:$AG11,"V")) | AM11: =IF(B11="","",COUNTIF($C11:$AG11,"H"))
A12: =IF(B12="","",ROW()-6) | B12: =IF(Summary!$B12="","",Summary!$B12) | AH12: =IF(B12="","",COUNTIF($C12:$AG12,"P")+COUNTIF($C12:$AG12,"L")) | AI12: =IF(B12="","",COUNTIF($C12:$AG12,"L")) | AJ12: =IF(B12="","",COUNTIF($C12:$AG12,"A")) | AK12: =IF(B12="","",COUNTIF($C12:$AG12,"S")) | AL12: =IF(B12="","",COUNTIF($C12:$AG12,"V")) | AM12: =IF(B12="","",COUNTIF($C12:$AG12,"H"))
A13: =IF(B13="","",ROW()-6) | B13: =IF(Summary!$B13="","",Summary!$B13) | AH13: =IF(B13="","",COUNTIF($C13:$AG13,"P")+COUNTIF($C13:$AG13,"L")) | AI13: =IF(B13="","",COUNTIF($C13:$AG13,"L")) | AJ13: =IF(B13="","",COUNTIF($C13:$AG13,"A")) | AK13: =IF(B13="","",COUNTIF($C13:$AG13,"S")) | AL13: =IF(B13="","",COUNTIF($C13:$AG13,"V")) | AM13: =IF(B13="","",COUNTIF($C13:$AG13,"H"))
A14: =IF(B14="","",ROW()-6) | B14: =IF(Summary!$B14="","",Summary!$B14) | AH14: =IF(B14="","",COUNTIF($C14:$AG14,"P")+COUNTIF($C14:$AG14,"L")) | AI14: =IF(B14="","",COUNTIF($C14:$AG14,"L")) | AJ14: =IF(B14="","",COUNTIF($C14:$AG14,"A")) | AK14: =IF(B14="","",COUNTIF($C14:$AG14,"S")) | AL14: =IF(B14="","",COUNTIF($C14:$AG14,"V")) | AM14: =IF(B14="","",COUNTIF($C14:$AG14,"H"))
A15: =IF(B15="","",ROW()-6) | B15: =IF(Summary!$B15="","",Summary!$B15) | AH15: =IF(B15="","",COUNTIF($C15:$AG15,"P")+COUNTIF($C15:$AG15,"L")) | AI15: =IF(B15="","",COUNTIF($C15:$AG15,"L")) | AJ15: =IF(B15="","",COUNTIF($C15:$AG15,"A")) | AK15: =IF(B15="","",COUNTIF($C15:$AG15,"S")) | AL15: =IF(B15="","",COUNTIF($C15:$AG15,"V")) | AM15: =IF(B15="","",COUNTIF($C15:$AG15,"H"))
A16: =IF(B16="","",ROW()-6) | B16: =IF(Summary!$B16="","",Summary!$B16) | AH16: =IF(B16="","",COUNTIF($C16:$AG16,"P")+COUNTIF($C16:$AG16,"L")) | AI16: =IF(B16="","",COUNTIF($C16:$AG16,"L")) | AJ16: =IF(B16="","",COUNTIF($C16:$AG16,"A")) | AK16: =IF(B16="","",COUNTIF($C16:$AG16,"S")) | AL16: =IF(B16="","",COUNTIF($C16:$AG16,"V")) | AM16: =IF(B16="","",COUNTIF($C16:$AG16,"H"))
A17: =IF(B17="","",ROW()-6) | B17: =IF(Summary!$B17="","",Summary!$B17) | AH17: =IF(B17="","",COUNTIF($C17:$AG17,"P")+COUNTIF($C17:$AG17,"L")) | AI17: =IF(B17="","",COUNTIF($C17:$AG17,"L")) | AJ17: =IF(B17="","",COUNTIF($C17:$AG17,"A")) | AK17: =IF(B17="","",COUNTIF($C17:$AG17,"S")) | AL17: =IF(B17="","",COUNTIF($C17:$AG17,"V")) | AM17: =IF(B17="","",COUNTIF($C17:$AG17,"H"))
A18: =IF(B18="","",ROW()-6) | B18: =IF(Summary!$B18="","",Summary!$B18) | AH18: =IF(B18="","",COUNTIF($C18:$AG18,"P")+COUNTIF($C18:$AG18,"L")) | AI18: =IF(B18="","",COUNTIF($C18:$AG18,"L")) | AJ18: =IF(B18="","",COUNTIF($C18:$AG18,"A")) | AK18: =IF(B18="","",COUNTIF($C18:$AG18,"S")) | AL18: =IF(B18="","",COUNTIF($C18:$AG18,"V")) | AM18: =IF(B18="","",COUNTIF($C18:$AG18,"H"))
... A36: =IF(B36="","",ROW()-6) | B36: =IF(Summary!$B36="","",Summary!$B36) | AH36: =IF(B36="","",COUNTIF($C36:$AG36,"P")+COUNTIF($C36:$AG36,"L")) | AI36: =IF(B36="","",COUNTIF($C36:$AG36,"L")) | AJ36: =IF(B36="","",COUNTIF($C36:$AG36,"A")) | AK36: =IF(B36="","",COUNTIF($C36:$AG36,"S")) | AL36: =IF(B36="","",COUNTIF($C36:$AG36,"V")) | AM36: =IF(B36="","",COUNTIF($C36:$AG36,"H"))
A37: Totals per day
B38: Present (P + L) | C38: =IF(C$5="","",COUNTIF(C$7:C$36,"P")+COUNTIF(C$7:C$36,"L")) | D38: =IF(D$5="","",COUNTIF(D$7:D$36,"P")+COUNTIF(D$7:D$36,"L")) | E38: =IF(E$5="","",COUNTIF(E$7:E$36,"P")+COUNTIF(E$7:E$36,"L")) | F38: =IF(F$5="","",COUNTIF(F$7:F$36,"P")+COUNTIF(F$7:F$36,"L")) | G38: =IF(G$5="","",COUNTIF(G$7:G$36,"P")+COUNTIF(G$7:G$36,"L")) | H38: =IF(H$5="","",COUNTIF(H$7:H$36,"P")+COUNTIF(H$7:H$36,"L")) | I38: =IF(I$5="","",COUNTIF(I$7:I$36,"P")+COUNTIF(I$7:I$36,"L")) | J38: =IF(J$5="","",COUNTIF(J$7:J$36,"P")+COUNTIF(J$7:J$36,"L")) | ... AG38: =IF(AG$5="","",COUNTIF(AG$7:AG$36,"P")+COUNTIF(AG$7:AG$36,"L")) | AH38: =SUM(C38:AG38)
B39: Late | C39: =IF(C$5="","",COUNTIF(C$7:C$36,"L")) | D39: =IF(D$5="","",COUNTIF(D$7:D$36,"L")) | E39: =IF(E$5="","",COUNTIF(E$7:E$36,"L")) | F39: =IF(F$5="","",COUNTIF(F$7:F$36,"L")) | G39: =IF(G$5="","",COUNTIF(G$7:G$36,"L")) | H39: =IF(H$5="","",COUNTIF(H$7:H$36,"L")) | I39: =IF(I$5="","",COUNTIF(I$7:I$36,"L")) | J39: =IF(J$5="","",COUNTIF(J$7:J$36,"L")) | ... AG39: =IF(AG$5="","",COUNTIF(AG$7:AG$36,"L")) | AH39: =SUM(C39:AG39)
B40: Absent | C40: =IF(C$5="","",COUNTIF(C$7:C$36,"A")) | D40: =IF(D$5="","",COUNTIF(D$7:D$36,"A")) | E40: =IF(E$5="","",COUNTIF(E$7:E$36,"A")) | F40: =IF(F$5="","",COUNTIF(F$7:F$36,"A")) | G40: =IF(G$5="","",COUNTIF(G$7:G$36,"A")) | H40: =IF(H$5="","",COUNTIF(H$7:H$36,"A")) | I40: =IF(I$5="","",COUNTIF(I$7:I$36,"A")) | J40: =IF(J$5="","",COUNTIF(J$7:J$36,"A")) | ... AG40: =IF(AG$5="","",COUNTIF(AG$7:AG$36,"A")) | AH40: =SUM(C40:AG40)
B41: Sick | C41: =IF(C$5="","",COUNTIF(C$7:C$36,"S")) | D41: =IF(D$5="","",COUNTIF(D$7:D$36,"S")) | E41: =IF(E$5="","",COUNTIF(E$7:E$36,"S")) | F41: =IF(F$5="","",COUNTIF(F$7:F$36,"S")) | G41: =IF(G$5="","",COUNTIF(G$7:G$36,"S")) | H41: =IF(H$5="","",COUNTIF(H$7:H$36,"S")) | I41: =IF(I$5="","",COUNTIF(I$7:I$36,"S")) | J41: =IF(J$5="","",COUNTIF(J$7:J$36,"S")) | ... AG41: =IF(AG$5="","",COUNTIF(AG$7:AG$36,"S")) | AH41: =SUM(C41:AG41)
B42: Vacation | C42: =IF(C$5="","",COUNTIF(C$7:C$36,"V")) | D42: =IF(D$5="","",COUNTIF(D$7:D$36,"V")) | E42: =IF(E$5="","",COUNTIF(E$7:E$36,"V")) | F42: =IF(F$5="","",COUNTIF(F$7:F$36,"V")) | G42: =IF(G$5="","",COUNTIF(G$7:G$36,"V")) | H42: =IF(H$5="","",COUNTIF(H$7:H$36,"V")) | I42: =IF(I$5="","",COUNTIF(I$7:I$36,"V")) | J42: =IF(J$5="","",COUNTIF(J$7:J$36,"V")) | ... AG42: =IF(AG$5="","",COUNTIF(AG$7:AG$36,"V")) | AH42: =SUM(C42:AG42)
B43: Holiday | C43: =IF(C$5="","",COUNTIF(C$7:C$36,"H")) | D43: =IF(D$5="","",COUNTIF(D$7:D$36,"H")) | E43: =IF(E$5="","",COUNTIF(E$7:E$36,"H")) | F43: =IF(F$5="","",COUNTIF(F$7:F$36,"H")) | G43: =IF(G$5="","",COUNTIF(G$7:G$36,"H")) | H43: =IF(H$5="","",COUNTIF(H$7:H$36,"H")) | I43: =IF(I$5="","",COUNTIF(I$7:I$36,"H")) | J43: =IF(J$5="","",COUNTIF(J$7:J$36,"H")) | ... AG43: =IF(AG$5="","",COUNTIF(AG$7:AG$36,"H")) | AH43: =SUM(C43:AG43)
A45: Made with PunchClock · punchclock.ai/tools

Sheet Apr 2026
A1: =IF($A$3="","Attendance register","Attendance register – "&TEXT($A$3,"mmmm yyyy"))
A2: One row per employee, one column per day. Type a code in each cell; the dropdown lists them. Names come from the Summary sheet.
A3: =IF(C3="","",DATE(YEAR(C3),MONTH(C3),1)) | B3: Month | C3: =DATE(Summary!$B$3,4,1) | K3: Codes: | L3: P | M3: Present | P3: L | Q3: Late | T3: A | U3: Absent | X3: S | Y3: Sick | AB3: V | AC3: Vacation | AF3: H | AG3: Holiday
A4: Yellow cells are yours to fill in. White cells are worked out for you and locked (Review › Unprotect Sheet, no password, if you need to change them).
C5: =IF($A$3="","",IF(C$6>DAY(EOMONTH($A$3,0)),"",CHOOSE(WEEKDAY(DATE(YEAR($A$3),MONTH($A$3),C$6)),"Su","Mo","Tu","We","Th","Fr","Sa"))) | D5: =IF($A$3="","",IF(D$6>DAY(EOMONTH($A$3,0)),"",CHOOSE(WEEKDAY(DATE(YEAR($A$3),MONTH($A$3),D$6)),"Su","Mo","Tu","We","Th","Fr","Sa"))) | E5: =IF($A$3="","",IF(E$6>DAY(EOMONTH($A$3,0)),"",CHOOSE(WEEKDAY(DATE(YEAR($A$3),MONTH($A$3),E$6)),"Su","Mo","Tu","We","Th","Fr","Sa"))) | F5: =IF($A$3="","",IF(F$6>DAY(EOMONTH($A$3,0)),"",CHOOSE(WEEKDAY(DATE(YEAR($A$3),MONTH($A$3),F$6)),"Su","Mo","Tu","We","Th","Fr","Sa"))) | G5: =IF($A$3="","",IF(G$6>DAY(EOMONTH($A$3,0)),"",CHOOSE(WEEKDAY(DATE(YEAR($A$3),MONTH($A$3),G$6)),"Su","Mo","Tu","We","Th","Fr","Sa"))) | H5: =IF($A$3="","",IF(H$6>DAY(EOMONTH($A$3,0)),"",CHOOSE(WEEKDAY(DATE(YEAR($A$3),MONTH($A$3),H$6)),"Su","Mo","Tu","We","Th","Fr","Sa"))) | I5: =IF($A$3="","",IF(I$6>DAY(EOMONTH($A$3,0)),"",CHOOSE(WEEKDAY(DATE(YEAR($A$3),MONTH($A$3),I$6)),"Su","Mo","Tu","We","Th","Fr","Sa"))) | J5: =IF($A$3="","",IF(J$6>DAY(EOMONTH($A$3,0)),"",CHOOSE(WEEKDAY(DATE(YEAR($A$3),MONTH($A$3),J$6)),"Su","Mo","Tu","We","Th","Fr","Sa"))) | ... AG5: =IF($A$3="","",IF(AG$6>DAY(EOMONTH($A$3,0)),"",CHOOSE(WEEKDAY(DATE(YEAR($A$3),MONTH($A$3),AG$6)),"Su","Mo","Tu","We","Th","Fr","Sa")))
A6: # | B6: Employee | C6: 1 | D6: 2 | E6: 3 | F6: 4 | G6: 5 | H6: 6 | I6: 7 | J6: 8 | K6: 9 | L6: 10 | M6: 11 | N6: 12 | O6: 13 | P6: 14 | Q6: 15 | R6: 16 | S6: 17 | T6: 18 | U6: 19 | V6: 20 | W6: 21 | X6: 22 | Y6: 23 | Z6: 24 | AA6: 25 | AB6: 26 | AC6: 27 | AD6: 28 | AE6: 29 | AF6: 30 | AG6: 31 | AH6: Present | AI6: Late | AJ6: Absent | AK6: Sick | AL6: Vacation | AM6: Holiday
A7: =IF(B7="","",ROW()-6) | B7: =IF(Summary!$B7="","",Summary!$B7) | AH7: =IF(B7="","",COUNTIF($C7:$AG7,"P")+COUNTIF($C7:$AG7,"L")) | AI7: =IF(B7="","",COUNTIF($C7:$AG7,"L")) | AJ7: =IF(B7="","",COUNTIF($C7:$AG7,"A")) | AK7: =IF(B7="","",COUNTIF($C7:$AG7,"S")) | AL7: =IF(B7="","",COUNTIF($C7:$AG7,"V")) | AM7: =IF(B7="","",COUNTIF($C7:$AG7,"H"))
A8: =IF(B8="","",ROW()-6) | B8: =IF(Summary!$B8="","",Summary!$B8) | AH8: =IF(B8="","",COUNTIF($C8:$AG8,"P")+COUNTIF($C8:$AG8,"L")) | AI8: =IF(B8="","",COUNTIF($C8:$AG8,"L")) | AJ8: =IF(B8="","",COUNTIF($C8:$AG8,"A")) | AK8: =IF(B8="","",COUNTIF($C8:$AG8,"S")) | AL8: =IF(B8="","",COUNTIF($C8:$AG8,"V")) | AM8: =IF(B8="","",COUNTIF($C8:$AG8,"H"))
A9: =IF(B9="","",ROW()-6) | B9: =IF(Summary!$B9="","",Summary!$B9) | AH9: =IF(B9="","",COUNTIF($C9:$AG9,"P")+COUNTIF($C9:$AG9,"L")) | AI9: =IF(B9="","",COUNTIF($C9:$AG9,"L")) | AJ9: =IF(B9="","",COUNTIF($C9:$AG9,"A")) | AK9: =IF(B9="","",COUNTIF($C9:$AG9,"S")) | AL9: =IF(B9="","",COUNTIF($C9:$AG9,"V")) | AM9: =IF(B9="","",COUNTIF($C9:$AG9,"H"))
A10: =IF(B10="","",ROW()-6) | B10: =IF(Summary!$B10="","",Summary!$B10) | AH10: =IF(B10="","",COUNTIF($C10:$AG10,"P")+COUNTIF($C10:$AG10,"L")) | AI10: =IF(B10="","",COUNTIF($C10:$AG10,"L")) | AJ10: =IF(B10="","",COUNTIF($C10:$AG10,"A")) | AK10: =IF(B10="","",COUNTIF($C10:$AG10,"S")) | AL10: =IF(B10="","",COUNTIF($C10:$AG10,"V")) | AM10: =IF(B10="","",COUNTIF($C10:$AG10,"H"))
A11: =IF(B11="","",ROW()-6) | B11: =IF(Summary!$B11="","",Summary!$B11) | AH11: =IF(B11="","",COUNTIF($C11:$AG11,"P")+COUNTIF($C11:$AG11,"L")) | AI11: =IF(B11="","",COUNTIF($C11:$AG11,"L")) | AJ11: =IF(B11="","",COUNTIF($C11:$AG11,"A")) | AK11: =IF(B11="","",COUNTIF($C11:$AG11,"S")) | AL11: =IF(B11="","",COUNTIF($C11:$AG11,"V")) | AM11: =IF(B11="","",COUNTIF($C11:$AG11,"H"))
A12: =IF(B12="","",ROW()-6) | B12: =IF(Summary!$B12="","",Summary!$B12) | AH12: =IF(B12="","",COUNTIF($C12:$AG12,"P")+COUNTIF($C12:$AG12,"L")) | AI12: =IF(B12="","",COUNTIF($C12:$AG12,"L")) | AJ12: =IF(B12="","",COUNTIF($C12:$AG12,"A")) | AK12: =IF(B12="","",COUNTIF($C12:$AG12,"S")) | AL12: =IF(B12="","",COUNTIF($C12:$AG12,"V")) | AM12: =IF(B12="","",COUNTIF($C12:$AG12,"H"))
A13: =IF(B13="","",ROW()-6) | B13: =IF(Summary!$B13="","",Summary!$B13) | AH13: =IF(B13="","",COUNTIF($C13:$AG13,"P")+COUNTIF($C13:$AG13,"L")) | AI13: =IF(B13="","",COUNTIF($C13:$AG13,"L")) | AJ13: =IF(B13="","",COUNTIF($C13:$AG13,"A")) | AK13: =IF(B13="","",COUNTIF($C13:$AG13,"S")) | AL13: =IF(B13="","",COUNTIF($C13:$AG13,"V")) | AM13: =IF(B13="","",COUNTIF($C13:$AG13,"H"))
A14: =IF(B14="","",ROW()-6) | B14: =IF(Summary!$B14="","",Summary!$B14) | AH14: =IF(B14="","",COUNTIF($C14:$AG14,"P")+COUNTIF($C14:$AG14,"L")) | AI14: =IF(B14="","",COUNTIF($C14:$AG14,"L")) | AJ14: =IF(B14="","",COUNTIF($C14:$AG14,"A")) | AK14: =IF(B14="","",COUNTIF($C14:$AG14,"S")) | AL14: =IF(B14="","",COUNTIF($C14:$AG14,"V")) | AM14: =IF(B14="","",COUNTIF($C14:$AG14,"H"))
A15: =IF(B15="","",ROW()-6) | B15: =IF(Summary!$B15="","",Summary!$B15) | AH15: =IF(B15="","",COUNTIF($C15:$AG15,"P")+COUNTIF($C15:$AG15,"L")) | AI15: =IF(B15="","",COUNTIF($C15:$AG15,"L")) | AJ15: =IF(B15="","",COUNTIF($C15:$AG15,"A")) | AK15: =IF(B15="","",COUNTIF($C15:$AG15,"S")) | AL15: =IF(B15="","",COUNTIF($C15:$AG15,"V")) | AM15: =IF(B15="","",COUNTIF($C15:$AG15,"H"))
A16: =IF(B16="","",ROW()-6) | B16: =IF(Summary!$B16="","",Summary!$B16) | AH16: =IF(B16="","",COUNTIF($C16:$AG16,"P")+COUNTIF($C16:$AG16,"L")) | AI16: =IF(B16="","",COUNTIF($C16:$AG16,"L")) | AJ16: =IF(B16="","",COUNTIF($C16:$AG16,"A")) | AK16: =IF(B16="","",COUNTIF($C16:$AG16,"S")) | AL16: =IF(B16="","",COUNTIF($C16:$AG16,"V")) | AM16: =IF(B16="","",COUNTIF($C16:$AG16,"H"))
A17: =IF(B17="","",ROW()-6) | B17: =IF(Summary!$B17="","",Summary!$B17) | AH17: =IF(B17="","",COUNTIF($C17:$AG17,"P")+COUNTIF($C17:$AG17,"L")) | AI17: =IF(B17="","",COUNTIF($C17:$AG17,"L")) | AJ17: =IF(B17="","",COUNTIF($C17:$AG17,"A")) | AK17: =IF(B17="","",COUNTIF($C17:$AG17,"S")) | AL17: =IF(B17="","",COUNTIF($C17:$AG17,"V")) | AM17: =IF(B17="","",COUNTIF($C17:$AG17,"H"))
A18: =IF(B18="","",ROW()-6) | B18: =IF(Summary!$B18="","",Summary!$B18) | AH18: =IF(B18="","",COUNTIF($C18:$AG18,"P")+COUNTIF($C18:$AG18,"L")) | AI18: =IF(B18="","",COUNTIF($C18:$AG18,"L")) | AJ18: =IF(B18="","",COUNTIF($C18:$AG18,"A")) | AK18: =IF(B18="","",COUNTIF($C18:$AG18,"S")) | AL18: =IF(B18="","",COUNTIF($C18:$AG18,"V")) | AM18: =IF(B18="","",COUNTIF($C18:$AG18,"H"))
... A36: =IF(B36="","",ROW()-6) | B36: =IF(Summary!$B36="","",Summary!$B36) | AH36: =IF(B36="","",COUNTIF($C36:$AG36,"P")+COUNTIF($C36:$AG36,"L")) | AI36: =IF(B36="","",COUNTIF($C36:$AG36,"L")) | AJ36: =IF(B36="","",COUNTIF($C36:$AG36,"A")) | AK36: =IF(B36="","",COUNTIF($C36:$AG36,"S")) | AL36: =IF(B36="","",COUNTIF($C36:$AG36,"V")) | AM36: =IF(B36="","",COUNTIF($C36:$AG36,"H"))
A37: Totals per day
B38: Present (P + L) | C38: =IF(C$5="","",COUNTIF(C$7:C$36,"P")+COUNTIF(C$7:C$36,"L")) | D38: =IF(D$5="","",COUNTIF(D$7:D$36,"P")+COUNTIF(D$7:D$36,"L")) | E38: =IF(E$5="","",COUNTIF(E$7:E$36,"P")+COUNTIF(E$7:E$36,"L")) | F38: =IF(F$5="","",COUNTIF(F$7:F$36,"P")+COUNTIF(F$7:F$36,"L")) | G38: =IF(G$5="","",COUNTIF(G$7:G$36,"P")+COUNTIF(G$7:G$36,"L")) | H38: =IF(H$5="","",COUNTIF(H$7:H$36,"P")+COUNTIF(H$7:H$36,"L")) | I38: =IF(I$5="","",COUNTIF(I$7:I$36,"P")+COUNTIF(I$7:I$36,"L")) | J38: =IF(J$5="","",COUNTIF(J$7:J$36,"P")+COUNTIF(J$7:J$36,"L")) | ... AG38: =IF(AG$5="","",COUNTIF(AG$7:AG$36,"P")+COUNTIF(AG$7:AG$36,"L")) | AH38: =SUM(C38:AG38)
B39: Late | C39: =IF(C$5="","",COUNTIF(C$7:C$36,"L")) | D39: =IF(D$5="","",COUNTIF(D$7:D$36,"L")) | E39: =IF(E$5="","",COUNTIF(E$7:E$36,"L")) | F39: =IF(F$5="","",COUNTIF(F$7:F$36,"L")) | G39: =IF(G$5="","",COUNTIF(G$7:G$36,"L")) | H39: =IF(H$5="","",COUNTIF(H$7:H$36,"L")) | I39: =IF(I$5="","",COUNTIF(I$7:I$36,"L")) | J39: =IF(J$5="","",COUNTIF(J$7:J$36,"L")) | ... AG39: =IF(AG$5="","",COUNTIF(AG$7:AG$36,"L")) | AH39: =SUM(C39:AG39)
B40: Absent | C40: =IF(C$5="","",COUNTIF(C$7:C$36,"A")) | D40: =IF(D$5="","",COUNTIF(D$7:D$36,"A")) | E40: =IF(E$5="","",COUNTIF(E$7:E$36,"A")) | F40: =IF(F$5="","",COUNTIF(F$7:F$36,"A")) | G40: =IF(G$5="","",COUNTIF(G$7:G$36,"A")) | H40: =IF(H$5="","",COUNTIF(H$7:H$36,"A")) | I40: =IF(I$5="","",COUNTIF(I$7:I$36,"A")) | J40: =IF(J$5="","",COUNTIF(J$7:J$36,"A")) | ... AG40: =IF(AG$5="","",COUNTIF(AG$7:AG$36,"A")) | AH40: =SUM(C40:AG40)
B41: Sick | C41: =IF(C$5="","",COUNTIF(C$7:C$36,"S")) | D41: =IF(D$5="","",COUNTIF(D$7:D$36,"S")) | E41: =IF(E$5="","",COUNTIF(E$7:E$36,"S")) | F41: =IF(F$5="","",COUNTIF(F$7:F$36,"S")) | G41: =IF(G$5="","",COUNTIF(G$7:G$36,"S")) | H41: =IF(H$5="","",COUNTIF(H$7:H$36,"S")) | I41: =IF(I$5="","",COUNTIF(I$7:I$36,"S")) | J41: =IF(J$5="","",COUNTIF(J$7:J$36,"S")) | ... AG41: =IF(AG$5="","",COUNTIF(AG$7:AG$36,"S")) | AH41: =SUM(C41:AG41)
B42: Vacation | C42: =IF(C$5="","",COUNTIF(C$7:C$36,"V")) | D42: =IF(D$5="","",COUNTIF(D$7:D$36,"V")) | E42: =IF(E$5="","",COUNTIF(E$7:E$36,"V")) | F42: =IF(F$5="","",COUNTIF(F$7:F$36,"V")) | G42: =IF(G$5="","",COUNTIF(G$7:G$36,"V")) | H42: =IF(H$5="","",COUNTIF(H$7:H$36,"V")) | I42: =IF(I$5="","",COUNTIF(I$7:I$36,"V")) | J42: =IF(J$5="","",COUNTIF(J$7:J$36,"V")) | ... AG42: =IF(AG$5="","",COUNTIF(AG$7:AG$36,"V")) | AH42: =SUM(C42:AG42)
B43: Holiday | C43: =IF(C$5="","",COUNTIF(C$7:C$36,"H")) | D43: =IF(D$5="","",COUNTIF(D$7:D$36,"H")) | E43: =IF(E$5="","",COUNTIF(E$7:E$36,"H")) | F43: =IF(F$5="","",COUNTIF(F$7:F$36,"H")) | G43: =IF(G$5="","",COUNTIF(G$7:G$36,"H")) | H43: =IF(H$5="","",COUNTIF(H$7:H$36,"H")) | I43: =IF(I$5="","",COUNTIF(I$7:I$36,"H")) | J43: =IF(J$5="","",COUNTIF(J$7:J$36,"H")) | ... AG43: =IF(AG$5="","",COUNTIF(AG$7:AG$36,"H")) | AH43: =SUM(C43:AG43)
A45: Made with PunchClock · punchclock.ai/tools

Sheet May 2026
A1: =IF($A$3="","Attendance register","Attendance register – "&TEXT($A$3,"mmmm yyyy"))
A2: One row per employee, one column per day. Type a code in each cell; the dropdown lists them. Names come from the Summary sheet.
A3: =IF(C3="","",DATE(YEAR(C3),MONTH(C3),1)) | B3: Month | C3: =DATE(Summary!$B$3,5,1) | K3: Codes: | L3: P | M3: Present | P3: L | Q3: Late | T3: A | U3: Absent | X3: S | Y3: Sick | AB3: V | AC3: Vacation | AF3: H | AG3: Holiday
A4: Yellow cells are yours to fill in. White cells are worked out for you and locked (Review › Unprotect Sheet, no password, if you need to change them).
C5: =IF($A$3="","",IF(C$6>DAY(EOMONTH($A$3,0)),"",CHOOSE(WEEKDAY(DATE(YEAR($A$3),MONTH($A$3),C$6)),"Su","Mo","Tu","We","Th","Fr","Sa"))) | D5: =IF($A$3="","",IF(D$6>DAY(EOMONTH($A$3,0)),"",CHOOSE(WEEKDAY(DATE(YEAR($A$3),MONTH($A$3),D$6)),"Su","Mo","Tu","We","Th","Fr","Sa"))) | E5: =IF($A$3="","",IF(E$6>DAY(EOMONTH($A$3,0)),"",CHOOSE(WEEKDAY(DATE(YEAR($A$3),MONTH($A$3),E$6)),"Su","Mo","Tu","We","Th","Fr","Sa"))) | F5: =IF($A$3="","",IF(F$6>DAY(EOMONTH($A$3,0)),"",CHOOSE(WEEKDAY(DATE(YEAR($A$3),MONTH($A$3),F$6)),"Su","Mo","Tu","We","Th","Fr","Sa"))) | G5: =IF($A$3="","",IF(G$6>DAY(EOMONTH($A$3,0)),"",CHOOSE(WEEKDAY(DATE(YEAR($A$3),MONTH($A$3),G$6)),"Su","Mo","Tu","We","Th","Fr","Sa"))) | H5: =IF($A$3="","",IF(H$6>DAY(EOMONTH($A$3,0)),"",CHOOSE(WEEKDAY(DATE(YEAR($A$3),MONTH($A$3),H$6)),"Su","Mo","Tu","We","Th","Fr","Sa"))) | I5: =IF($A$3="","",IF(I$6>DAY(EOMONTH($A$3,0)),"",CHOOSE(WEEKDAY(DATE(YEAR($A$3),MONTH($A$3),I$6)),"Su","Mo","Tu","We","Th","Fr","Sa"))) | J5: =IF($A$3="","",IF(J$6>DAY(EOMONTH($A$3,0)),"",CHOOSE(WEEKDAY(DATE(YEAR($A$3),MONTH($A$3),J$6)),"Su","Mo","Tu","We","Th","Fr","Sa"))) | ... AG5: =IF($A$3="","",IF(AG$6>DAY(EOMONTH($A$3,0)),"",CHOOSE(WEEKDAY(DATE(YEAR($A$3),MONTH($A$3),AG$6)),"Su","Mo","Tu","We","Th","Fr","Sa")))
A6: # | B6: Employee | C6: 1 | D6: 2 | E6: 3 | F6: 4 | G6: 5 | H6: 6 | I6: 7 | J6: 8 | K6: 9 | L6: 10 | M6: 11 | N6: 12 | O6: 13 | P6: 14 | Q6: 15 | R6: 16 | S6: 17 | T6: 18 | U6: 19 | V6: 20 | W6: 21 | X6: 22 | Y6: 23 | Z6: 24 | AA6: 25 | AB6: 26 | AC6: 27 | AD6: 28 | AE6: 29 | AF6: 30 | AG6: 31 | AH6: Present | AI6: Late | AJ6: Absent | AK6: Sick | AL6: Vacation | AM6: Holiday
A7: =IF(B7="","",ROW()-6) | B7: =IF(Summary!$B7="","",Summary!$B7) | AH7: =IF(B7="","",COUNTIF($C7:$AG7,"P")+COUNTIF($C7:$AG7,"L")) | AI7: =IF(B7="","",COUNTIF($C7:$AG7,"L")) | AJ7: =IF(B7="","",COUNTIF($C7:$AG7,"A")) | AK7: =IF(B7="","",COUNTIF($C7:$AG7,"S")) | AL7: =IF(B7="","",COUNTIF($C7:$AG7,"V")) | AM7: =IF(B7="","",COUNTIF($C7:$AG7,"H"))
A8: =IF(B8="","",ROW()-6) | B8: =IF(Summary!$B8="","",Summary!$B8) | AH8: =IF(B8="","",COUNTIF($C8:$AG8,"P")+COUNTIF($C8:$AG8,"L")) | AI8: =IF(B8="","",COUNTIF($C8:$AG8,"L")) | AJ8: =IF(B8="","",COUNTIF($C8:$AG8,"A")) | AK8: =IF(B8="","",COUNTIF($C8:$AG8,"S")) | AL8: =IF(B8="","",COUNTIF($C8:$AG8,"V")) | AM8: =IF(B8="","",COUNTIF($C8:$AG8,"H"))
A9: =IF(B9="","",ROW()-6) | B9: =IF(Summary!$B9="","",Summary!$B9) | AH9: =IF(B9="","",COUNTIF($C9:$AG9,"P")+COUNTIF($C9:$AG9,"L")) | AI9: =IF(B9="","",COUNTIF($C9:$AG9,"L")) | AJ9: =IF(B9="","",COUNTIF($C9:$AG9,"A")) | AK9: =IF(B9="","",COUNTIF($C9:$AG9,"S")) | AL9: =IF(B9="","",COUNTIF($C9:$AG9,"V")) | AM9: =IF(B9="","",COUNTIF($C9:$AG9,"H"))
A10: =IF(B10="","",ROW()-6) | B10: =IF(Summary!$B10="","",Summary!$B10) | AH10: =IF(B10="","",COUNTIF($C10:$AG10,"P")+COUNTIF($C10:$AG10,"L")) | AI10: =IF(B10="","",COUNTIF($C10:$AG10,"L")) | AJ10: =IF(B10="","",COUNTIF($C10:$AG10,"A")) | AK10: =IF(B10="","",COUNTIF($C10:$AG10,"S")) | AL10: =IF(B10="","",COUNTIF($C10:$AG10,"V")) | AM10: =IF(B10="","",COUNTIF($C10:$AG10,"H"))
A11: =IF(B11="","",ROW()-6) | B11: =IF(Summary!$B11="","",Summary!$B11) | AH11: =IF(B11="","",COUNTIF($C11:$AG11,"P")+COUNTIF($C11:$AG11,"L")) | AI11: =IF(B11="","",COUNTIF($C11:$AG11,"L")) | AJ11: =IF(B11="","",COUNTIF($C11:$AG11,"A")) | AK11: =IF(B11="","",COUNTIF($C11:$AG11,"S")) | AL11: =IF(B11="","",COUNTIF($C11:$AG11,"V")) | AM11: =IF(B11="","",COUNTIF($C11:$AG11,"H"))
A12: =IF(B12="","",ROW()-6) | B12: =IF(Summary!$B12="","",Summary!$B12) | AH12: =IF(B12="","",COUNTIF($C12:$AG12,"P")+COUNTIF($C12:$AG12,"L")) | AI12: =IF(B12="","",COUNTIF($C12:$AG12,"L")) | AJ12: =IF(B12="","",COUNTIF($C12:$AG12,"A")) | AK12: =IF(B12="","",COUNTIF($C12:$AG12,"S")) | AL12: =IF(B12="","",COUNTIF($C12:$AG12,"V")) | AM12: =IF(B12="","",COUNTIF($C12:$AG12,"H"))
A13: =IF(B13="","",ROW()-6) | B13: =IF(Summary!$B13="","",Summary!$B13) | AH13: =IF(B13="","",COUNTIF($C13:$AG13,"P")+COUNTIF($C13:$AG13,"L")) | AI13: =IF(B13="","",COUNTIF($C13:$AG13,"L")) | AJ13: =IF(B13="","",COUNTIF($C13:$AG13,"A")) | AK13: =IF(B13="","",COUNTIF($C13:$AG13,"S")) | AL13: =IF(B13="","",COUNTIF($C13:$AG13,"V")) | AM13: =IF(B13="","",COUNTIF($C13:$AG13,"H"))
A14: =IF(B14="","",ROW()-6) | B14: =IF(Summary!$B14="","",Summary!$B14) | AH14: =IF(B14="","",COUNTIF($C14:$AG14,"P")+COUNTIF($C14:$AG14,"L")) | AI14: =IF(B14="","",COUNTIF($C14:$AG14,"L")) | AJ14: =IF(B14="","",COUNTIF($C14:$AG14,"A")) | AK14: =IF(B14="","",COUNTIF($C14:$AG14,"S")) | AL14: =IF(B14="","",COUNTIF($C14:$AG14,"V")) | AM14: =IF(B14="","",COUNTIF($C14:$AG14,"H"))
A15: =IF(B15="","",ROW()-6) | B15: =IF(Summary!$B15="","",Summary!$B15) | AH15: =IF(B15="","",COUNTIF($C15:$AG15,"P")+COUNTIF($C15:$AG15,"L")) | AI15: =IF(B15="","",COUNTIF($C15:$AG15,"L")) | AJ15: =IF(B15="","",COUNTIF($C15:$AG15,"A")) | AK15: =IF(B15="","",COUNTIF($C15:$AG15,"S")) | AL15: =IF(B15="","",COUNTIF($C15:$AG15,"V")) | AM15: =IF(B15="","",COUNTIF($C15:$AG15,"H"))
A16: =IF(B16="","",ROW()-6) | B16: =IF(Summary!$B16="","",Summary!$B16) | AH16: =IF(B16="","",COUNTIF($C16:$AG16,"P")+COUNTIF($C16:$AG16,"L")) | AI16: =IF(B16="","",COUNTIF($C16:$AG16,"L")) | AJ16: =IF(B16="","",COUNTIF($C16:$AG16,"A")) | AK16: =IF(B16="","",COUNTIF($C16:$AG16,"S")) | AL16: =IF(B16="","",COUNTIF($C16:$AG16,"V")) | AM16: =IF(B16="","",COUNTIF($C16:$AG16,"H"))
A17: =IF(B17="","",ROW()-6) | B17: =IF(Summary!$B17="","",Summary!$B17) | AH17: =IF(B17="","",COUNTIF($C17:$AG17,"P")+COUNTIF($C17:$AG17,"L")) | AI17: =IF(B17="","",COUNTIF($C17:$AG17,"L")) | AJ17: =IF(B17="","",COUNTIF($C17:$AG17,"A")) | AK17: =IF(B17="","",COUNTIF($C17:$AG17,"S")) | AL17: =IF(B17="","",COUNTIF($C17:$AG17,"V")) | AM17: =IF(B17="","",COUNTIF($C17:$AG17,"H"))
A18: =IF(B18="","",ROW()-6) | B18: =IF(Summary!$B18="","",Summary!$B18) | AH18: =IF(B18="","",COUNTIF($C18:$AG18,"P")+COUNTIF($C18:$AG18,"L")) | AI18: =IF(B18="","",COUNTIF($C18:$AG18,"L")) | AJ18: =IF(B18="","",COUNTIF($C18:$AG18,"A")) | AK18: =IF(B18="","",COUNTIF($C18:$AG18,"S")) | AL18: =IF(B18="","",COUNTIF($C18:$AG18,"V")) | AM18: =IF(B18="","",COUNTIF($C18:$AG18,"H"))
... A36: =IF(B36="","",ROW()-6) | B36: =IF(Summary!$B36="","",Summary!$B36) | AH36: =IF(B36="","",COUNTIF($C36:$AG36,"P")+COUNTIF($C36:$AG36,"L")) | AI36: =IF(B36="","",COUNTIF($C36:$AG36,"L")) | AJ36: =IF(B36="","",COUNTIF($C36:$AG36,"A")) | AK36: =IF(B36="","",COUNTIF($C36:$AG36,"S")) | AL36: =IF(B36="","",COUNTIF($C36:$AG36,"V")) | AM36: =IF(B36="","",COUNTIF($C36:$AG36,"H"))
A37: Totals per day
B38: Present (P + L) | C38: =IF(C$5="","",COUNTIF(C$7:C$36,"P")+COUNTIF(C$7:C$36,"L")) | D38: =IF(D$5="","",COUNTIF(D$7:D$36,"P")+COUNTIF(D$7:D$36,"L")) | E38: =IF(E$5="","",COUNTIF(E$7:E$36,"P")+COUNTIF(E$7:E$36,"L")) | F38: =IF(F$5="","",COUNTIF(F$7:F$36,"P")+COUNTIF(F$7:F$36,"L")) | G38: =IF(G$5="","",COUNTIF(G$7:G$36,"P")+COUNTIF(G$7:G$36,"L")) | H38: =IF(H$5="","",COUNTIF(H$7:H$36,"P")+COUNTIF(H$7:H$36,"L")) | I38: =IF(I$5="","",COUNTIF(I$7:I$36,"P")+COUNTIF(I$7:I$36,"L")) | J38: =IF(J$5="","",COUNTIF(J$7:J$36,"P")+COUNTIF(J$7:J$36,"L")) | ... AG38: =IF(AG$5="","",COUNTIF(AG$7:AG$36,"P")+COUNTIF(AG$7:AG$36,"L")) | AH38: =SUM(C38:AG38)
B39: Late | C39: =IF(C$5="","",COUNTIF(C$7:C$36,"L")) | D39: =IF(D$5="","",COUNTIF(D$7:D$36,"L")) | E39: =IF(E$5="","",COUNTIF(E$7:E$36,"L")) | F39: =IF(F$5="","",COUNTIF(F$7:F$36,"L")) | G39: =IF(G$5="","",COUNTIF(G$7:G$36,"L")) | H39: =IF(H$5="","",COUNTIF(H$7:H$36,"L")) | I39: =IF(I$5="","",COUNTIF(I$7:I$36,"L")) | J39: =IF(J$5="","",COUNTIF(J$7:J$36,"L")) | ... AG39: =IF(AG$5="","",COUNTIF(AG$7:AG$36,"L")) | AH39: =SUM(C39:AG39)
B40: Absent | C40: =IF(C$5="","",COUNTIF(C$7:C$36,"A")) | D40: =IF(D$5="","",COUNTIF(D$7:D$36,"A")) | E40: =IF(E$5="","",COUNTIF(E$7:E$36,"A")) | F40: =IF(F$5="","",COUNTIF(F$7:F$36,"A")) | G40: =IF(G$5="","",COUNTIF(G$7:G$36,"A")) | H40: =IF(H$5="","",COUNTIF(H$7:H$36,"A")) | I40: =IF(I$5="","",COUNTIF(I$7:I$36,"A")) | J40: =IF(J$5="","",COUNTIF(J$7:J$36,"A")) | ... AG40: =IF(AG$5="","",COUNTIF(AG$7:AG$36,"A")) | AH40: =SUM(C40:AG40)
B41: Sick | C41: =IF(C$5="","",COUNTIF(C$7:C$36,"S")) | D41: =IF(D$5="","",COUNTIF(D$7:D$36,"S")) | E41: =IF(E$5="","",COUNTIF(E$7:E$36,"S")) | F41: =IF(F$5="","",COUNTIF(F$7:F$36,"S")) | G41: =IF(G$5="","",COUNTIF(G$7:G$36,"S")) | H41: =IF(H$5="","",COUNTIF(H$7:H$36,"S")) | I41: =IF(I$5="","",COUNTIF(I$7:I$36,"S")) | J41: =IF(J$5="","",COUNTIF(J$7:J$36,"S")) | ... AG41: =IF(AG$5="","",COUNTIF(AG$7:AG$36,"S")) | AH41: =SUM(C41:AG41)
B42: Vacation | C42: =IF(C$5="","",COUNTIF(C$7:C$36,"V")) | D42: =IF(D$5="","",COUNTIF(D$7:D$36,"V")) | E42: =IF(E$5="","",COUNTIF(E$7:E$36,"V")) | F42: =IF(F$5="","",COUNTIF(F$7:F$36,"V")) | G42: =IF(G$5="","",COUNTIF(G$7:G$36,"V")) | H42: =IF(H$5="","",COUNTIF(H$7:H$36,"V")) | I42: =IF(I$5="","",COUNTIF(I$7:I$36,"V")) | J42: =IF(J$5="","",COUNTIF(J$7:J$36,"V")) | ... AG42: =IF(AG$5="","",COUNTIF(AG$7:AG$36,"V")) | AH42: =SUM(C42:AG42)
B43: Holiday | C43: =IF(C$5="","",COUNTIF(C$7:C$36,"H")) | D43: =IF(D$5="","",COUNTIF(D$7:D$36,"H")) | E43: =IF(E$5="","",COUNTIF(E$7:E$36,"H")) | F43: =IF(F$5="","",COUNTIF(F$7:F$36,"H")) | G43: =IF(G$5="","",COUNTIF(G$7:G$36,"H")) | H43: =IF(H$5="","",COUNTIF(H$7:H$36,"H")) | I43: =IF(I$5="","",COUNTIF(I$7:I$36,"H")) | J43: =IF(J$5="","",COUNTIF(J$7:J$36,"H")) | ... AG43: =IF(AG$5="","",COUNTIF(AG$7:AG$36,"H")) | AH43: =SUM(C43:AG43)
A45: Made with PunchClock · punchclock.ai/tools

Sheet Jun 2026
A1: =IF($A$3="","Attendance register","Attendance register – "&TEXT($A$3,"mmmm yyyy"))
A2: One row per employee, one column per day. Type a code in each cell; the dropdown lists them. Names come from the Summary sheet.
A3: =IF(C3="","",DATE(YEAR(C3),MONTH(C3),1)) | B3: Month | C3: =DATE(Summary!$B$3,6,1) | K3: Codes: | L3: P | M3: Present | P3: L | Q3: Late | T3: A | U3: Absent | X3: S | Y3: Sick | AB3: V | AC3: Vacation | AF3: H | AG3: Holiday
A4: Yellow cells are yours to fill in. White cells are worked out for you and locked (Review › Unprotect Sheet, no password, if you need to change them).
C5: =IF($A$3="","",IF(C$6>DAY(EOMONTH($A$3,0)),"",CHOOSE(WEEKDAY(DATE(YEAR($A$3),MONTH($A$3),C$6)),"Su","Mo","Tu","We","Th","Fr","Sa"))) | D5: =IF($A$3="","",IF(D$6>DAY(EOMONTH($A$3,0)),"",CHOOSE(WEEKDAY(DATE(YEAR($A$3),MONTH($A$3),D$6)),"Su","Mo","Tu","We","Th","Fr","Sa"))) | E5: =IF($A$3="","",IF(E$6>DAY(EOMONTH($A$3,0)),"",CHOOSE(WEEKDAY(DATE(YEAR($A$3),MONTH($A$3),E$6)),"Su","Mo","Tu","We","Th","Fr","Sa"))) | F5: =IF($A$3="","",IF(F$6>DAY(EOMONTH($A$3,0)),"",CHOOSE(WEEKDAY(DATE(YEAR($A$3),MONTH($A$3),F$6)),"Su","Mo","Tu","We","Th","Fr","Sa"))) | G5: =IF($A$3="","",IF(G$6>DAY(EOMONTH($A$3,0)),"",CHOOSE(WEEKDAY(DATE(YEAR($A$3),MONTH($A$3),G$6)),"Su","Mo","Tu","We","Th","Fr","Sa"))) | H5: =IF($A$3="","",IF(H$6>DAY(EOMONTH($A$3,0)),"",CHOOSE(WEEKDAY(DATE(YEAR($A$3),MONTH($A$3),H$6)),"Su","Mo","Tu","We","Th","Fr","Sa"))) | I5: =IF($A$3="","",IF(I$6>DAY(EOMONTH($A$3,0)),"",CHOOSE(WEEKDAY(DATE(YEAR($A$3),MONTH($A$3),I$6)),"Su","Mo","Tu","We","Th","Fr","Sa"))) | J5: =IF($A$3="","",IF(J$6>DAY(EOMONTH($A$3,0)),"",CHOOSE(WEEKDAY(DATE(YEAR($A$3),MONTH($A$3),J$6)),"Su","Mo","Tu","We","Th","Fr","Sa"))) | ... AG5: =IF($A$3="","",IF(AG$6>DAY(EOMONTH($A$3,0)),"",CHOOSE(WEEKDAY(DATE(YEAR($A$3),MONTH($A$3),AG$6)),"Su","Mo","Tu","We","Th","Fr","Sa")))
A6: # | B6: Employee | C6: 1 | D6: 2 | E6: 3 | F6: 4 | G6: 5 | H6: 6 | I6: 7 | J6: 8 | K6: 9 | L6: 10 | M6: 11 | N6: 12 | O6: 13 | P6: 14 | Q6: 15 | R6: 16 | S6: 17 | T6: 18 | U6: 19 | V6: 20 | W6: 21 | X6: 22 | Y6: 23 | Z6: 24 | AA6: 25 | AB6: 26 | AC6: 27 | AD6: 28 | AE6: 29 | AF6: 30 | AG6: 31 | AH6: Present | AI6: Late | AJ6: Absent | AK6: Sick | AL6: Vacation | AM6: Holiday
A7: =IF(B7="","",ROW()-6) | B7: =IF(Summary!$B7="","",Summary!$B7) | AH7: =IF(B7="","",COUNTIF($C7:$AG7,"P")+COUNTIF($C7:$AG7,"L")) | AI7: =IF(B7="","",COUNTIF($C7:$AG7,"L")) | AJ7: =IF(B7="","",COUNTIF($C7:$AG7,"A")) | AK7: =IF(B7="","",COUNTIF($C7:$AG7,"S")) | AL7: =IF(B7="","",COUNTIF($C7:$AG7,"V")) | AM7: =IF(B7="","",COUNTIF($C7:$AG7,"H"))
A8: =IF(B8="","",ROW()-6) | B8: =IF(Summary!$B8="","",Summary!$B8) | AH8: =IF(B8="","",COUNTIF($C8:$AG8,"P")+COUNTIF($C8:$AG8,"L")) | AI8: =IF(B8="","",COUNTIF($C8:$AG8,"L")) | AJ8: =IF(B8="","",COUNTIF($C8:$AG8,"A")) | AK8: =IF(B8="","",COUNTIF($C8:$AG8,"S")) | AL8: =IF(B8="","",COUNTIF($C8:$AG8,"V")) | AM8: =IF(B8="","",COUNTIF($C8:$AG8,"H"))
A9: =IF(B9="","",ROW()-6) | B9: =IF(Summary!$B9="","",Summary!$B9) | AH9: =IF(B9="","",COUNTIF($C9:$AG9,"P")+COUNTIF($C9:$AG9,"L")) | AI9: =IF(B9="","",COUNTIF($C9:$AG9,"L")) | AJ9: =IF(B9="","",COUNTIF($C9:$AG9,"A")) | AK9: =IF(B9="","",COUNTIF($C9:$AG9,"S")) | AL9: =IF(B9="","",COUNTIF($C9:$AG9,"V")) | AM9: =IF(B9="","",COUNTIF($C9:$AG9,"H"))
A10: =IF(B10="","",ROW()-6) | B10: =IF(Summary!$B10="","",Summary!$B10) | AH10: =IF(B10="","",COUNTIF($C10:$AG10,"P")+COUNTIF($C10:$AG10,"L")) | AI10: =IF(B10="","",COUNTIF($C10:$AG10,"L")) | AJ10: =IF(B10="","",COUNTIF($C10:$AG10,"A")) | AK10: =IF(B10="","",COUNTIF($C10:$AG10,"S")) | AL10: =IF(B10="","",COUNTIF($C10:$AG10,"V")) | AM10: =IF(B10="","",COUNTIF($C10:$AG10,"H"))
A11: =IF(B11="","",ROW()-6) | B11: =IF(Summary!$B11="","",Summary!$B11) | AH11: =IF(B11="","",COUNTIF($C11:$AG11,"P")+COUNTIF($C11:$AG11,"L")) | AI11: =IF(B11="","",COUNTIF($C11:$AG11,"L")) | AJ11: =IF(B11="","",COUNTIF($C11:$AG11,"A")) | AK11: =IF(B11="","",COUNTIF($C11:$AG11,"S")) | AL11: =IF(B11="","",COUNTIF($C11:$AG11,"V")) | AM11: =IF(B11="","",COUNTIF($C11:$AG11,"H"))
A12: =IF(B12="","",ROW()-6) | B12: =IF(Summary!$B12="","",Summary!$B12) | AH12: =IF(B12="","",COUNTIF($C12:$AG12,"P")+COUNTIF($C12:$AG12,"L")) | AI12: =IF(B12="","",COUNTIF($C12:$AG12,"L")) | AJ12: =IF(B12="","",COUNTIF($C12:$AG12,"A")) | AK12: =IF(B12="","",COUNTIF($C12:$AG12,"S")) | AL12: =IF(B12="","",COUNTIF($C12:$AG12,"V")) | AM12: =IF(B12="","",COUNTIF($C12:$AG12,"H"))
A13: =IF(B13="","",ROW()-6) | B13: =IF(Summary!$B13="","",Summary!$B13) | AH13: =IF(B13="","",COUNTIF($C13:$AG13,"P")+COUNTIF($C13:$AG13,"L")) | AI13: =IF(B13="","",COUNTIF($C13:$AG13,"L")) | AJ13: =IF(B13="","",COUNTIF($C13:$AG13,"A")) | AK13: =IF(B13="","",COUNTIF($C13:$AG13,"S")) | AL13: =IF(B13="","",COUNTIF($C13:$AG13,"V")) | AM13: =IF(B13="","",COUNTIF($C13:$AG13,"H"))
A14: =IF(B14="","",ROW()-6) | B14: =IF(Summary!$B14="","",Summary!$B14) | AH14: =IF(B14="","",COUNTIF($C14:$AG14,"P")+COUNTIF($C14:$AG14,"L")) | AI14: =IF(B14="","",COUNTIF($C14:$AG14,"L")) | AJ14: =IF(B14="","",COUNTIF($C14:$AG14,"A")) | AK14: =IF(B14="","",COUNTIF($C14:$AG14,"S")) | AL14: =IF(B14="","",COUNTIF($C14:$AG14,"V")) | AM14: =IF(B14="","",COUNTIF($C14:$AG14,"H"))
A15: =IF(B15="","",ROW()-6) | B15: =IF(Summary!$B15="","",Summary!$B15) | AH15: =IF(B15="","",COUNTIF($C15:$AG15,"P")+COUNTIF($C15:$AG15,"L")) | AI15: =IF(B15="","",COUNTIF($C15:$AG15,"L")) | AJ15: =IF(B15="","",COUNTIF($C15:$AG15,"A")) | AK15: =IF(B15="","",COUNTIF($C15:$AG15,"S")) | AL15: =IF(B15="","",COUNTIF($C15:$AG15,"V")) | AM15: =IF(B15="","",COUNTIF($C15:$AG15,"H"))
A16: =IF(B16="","",ROW()-6) | B16: =IF(Summary!$B16="","",Summary!$B16) | AH16: =IF(B16="","",COUNTIF($C16:$AG16,"P")+COUNTIF($C16:$AG16,"L")) | AI16: =IF(B16="","",COUNTIF($C16:$AG16,"L")) | AJ16: =IF(B16="","",COUNTIF($C16:$AG16,"A")) | AK16: =IF(B16="","",COUNTIF($C16:$AG16,"S")) | AL16: =IF(B16="","",COUNTIF($C16:$AG16,"V")) | AM16: =IF(B16="","",COUNTIF($C16:$AG16,"H"))
A17: =IF(B17="","",ROW()-6) | B17: =IF(Summary!$B17="","",Summary!$B17) | AH17: =IF(B17="","",COUNTIF($C17:$AG17,"P")+COUNTIF($C17:$AG17,"L")) | AI17: =IF(B17="","",COUNTIF($C17:$AG17,"L")) | AJ17: =IF(B17="","",COUNTIF($C17:$AG17,"A")) | AK17: =IF(B17="","",COUNTIF($C17:$AG17,"S")) | AL17: =IF(B17="","",COUNTIF($C17:$AG17,"V")) | AM17: =IF(B17="","",COUNTIF($C17:$AG17,"H"))
A18: =IF(B18="","",ROW()-6) | B18: =IF(Summary!$B18="","",Summary!$B18) | AH18: =IF(B18="","",COUNTIF($C18:$AG18,"P")+COUNTIF($C18:$AG18,"L")) | AI18: =IF(B18="","",COUNTIF($C18:$AG18,"L")) | AJ18: =IF(B18="","",COUNTIF($C18:$AG18,"A")) | AK18: =IF(B18="","",COUNTIF($C18:$AG18,"S")) | AL18: =IF(B18="","",COUNTIF($C18:$AG18,"V")) | AM18: =IF(B18="","",COUNTIF($C18:$AG18,"H"))
... A36: =IF(B36="","",ROW()-6) | B36: =IF(Summary!$B36="","",Summary!$B36) | AH36: =IF(B36="","",COUNTIF($C36:$AG36,"P")+COUNTIF($C36:$AG36,"L")) | AI36: =IF(B36="","",COUNTIF($C36:$AG36,"L")) | AJ36: =IF(B36="","",COUNTIF($C36:$AG36,"A")) | AK36: =IF(B36="","",COUNTIF($C36:$AG36,"S")) | AL36: =IF(B36="","",COUNTIF($C36:$AG36,"V")) | AM36: =IF(B36="","",COUNTIF($C36:$AG36,"H"))
A37: Totals per day
B38: Present (P + L) | C38: =IF(C$5="","",COUNTIF(C$7:C$36,"P")+COUNTIF(C$7:C$36,"L")) | D38: =IF(D$5="","",COUNTIF(D$7:D$36,"P")+COUNTIF(D$7:D$36,"L")) | E38: =IF(E$5="","",COUNTIF(E$7:E$36,"P")+COUNTIF(E$7:E$36,"L")) | F38: =IF(F$5="","",COUNTIF(F$7:F$36,"P")+COUNTIF(F$7:F$36,"L")) | G38: =IF(G$5="","",COUNTIF(G$7:G$36,"P")+COUNTIF(G$7:G$36,"L")) | H38: =IF(H$5="","",COUNTIF(H$7:H$36,"P")+COUNTIF(H$7:H$36,"L")) | I38: =IF(I$5="","",COUNTIF(I$7:I$36,"P")+COUNTIF(I$7:I$36,"L")) | J38: =IF(J$5="","",COUNTIF(J$7:J$36,"P")+COUNTIF(J$7:J$36,"L")) | ... AG38: =IF(AG$5="","",COUNTIF(AG$7:AG$36,"P")+COUNTIF(AG$7:AG$36,"L")) | AH38: =SUM(C38:AG38)
B39: Late | C39: =IF(C$5="","",COUNTIF(C$7:C$36,"L")) | D39: =IF(D$5="","",COUNTIF(D$7:D$36,"L")) | E39: =IF(E$5="","",COUNTIF(E$7:E$36,"L")) | F39: =IF(F$5="","",COUNTIF(F$7:F$36,"L")) | G39: =IF(G$5="","",COUNTIF(G$7:G$36,"L")) | H39: =IF(H$5="","",COUNTIF(H$7:H$36,"L")) | I39: =IF(I$5="","",COUNTIF(I$7:I$36,"L")) | J39: =IF(J$5="","",COUNTIF(J$7:J$36,"L")) | ... AG39: =IF(AG$5="","",COUNTIF(AG$7:AG$36,"L")) | AH39: =SUM(C39:AG39)
B40: Absent | C40: =IF(C$5="","",COUNTIF(C$7:C$36,"A")) | D40: =IF(D$5="","",COUNTIF(D$7:D$36,"A")) | E40: =IF(E$5="","",COUNTIF(E$7:E$36,"A")) | F40: =IF(F$5="","",COUNTIF(F$7:F$36,"A")) | G40: =IF(G$5="","",COUNTIF(G$7:G$36,"A")) | H40: =IF(H$5="","",COUNTIF(H$7:H$36,"A")) | I40: =IF(I$5="","",COUNTIF(I$7:I$36,"A")) | J40: =IF(J$5="","",COUNTIF(J$7:J$36,"A")) | ... AG40: =IF(AG$5="","",COUNTIF(AG$7:AG$36,"A")) | AH40: =SUM(C40:AG40)
B41: Sick | C41: =IF(C$5="","",COUNTIF(C$7:C$36,"S")) | D41: =IF(D$5="","",COUNTIF(D$7:D$36,"S")) | E41: =IF(E$5="","",COUNTIF(E$7:E$36,"S")) | F41: =IF(F$5="","",COUNTIF(F$7:F$36,"S")) | G41: =IF(G$5="","",COUNTIF(G$7:G$36,"S")) | H41: =IF(H$5="","",COUNTIF(H$7:H$36,"S")) | I41: =IF(I$5="","",COUNTIF(I$7:I$36,"S")) | J41: =IF(J$5="","",COUNTIF(J$7:J$36,"S")) | ... AG41: =IF(AG$5="","",COUNTIF(AG$7:AG$36,"S")) | AH41: =SUM(C41:AG41)
B42: Vacation | C42: =IF(C$5="","",COUNTIF(C$7:C$36,"V")) | D42: =IF(D$5="","",COUNTIF(D$7:D$36,"V")) | E42: =IF(E$5="","",COUNTIF(E$7:E$36,"V")) | F42: =IF(F$5="","",COUNTIF(F$7:F$36,"V")) | G42: =IF(G$5="","",COUNTIF(G$7:G$36,"V")) | H42: =IF(H$5="","",COUNTIF(H$7:H$36,"V")) | I42: =IF(I$5="","",COUNTIF(I$7:I$36,"V")) | J42: =IF(J$5="","",COUNTIF(J$7:J$36,"V")) | ... AG42: =IF(AG$5="","",COUNTIF(AG$7:AG$36,"V")) | AH42: =SUM(C42:AG42)
B43: Holiday | C43: =IF(C$5="","",COUNTIF(C$7:C$36,"H")) | D43: =IF(D$5="","",COUNTIF(D$7:D$36,"H")) | E43: =IF(E$5="","",COUNTIF(E$7:E$36,"H")) | F43: =IF(F$5="","",COUNTIF(F$7:F$36,"H")) | G43: =IF(G$5="","",COUNTIF(G$7:G$36,"H")) | H43: =IF(H$5="","",COUNTIF(H$7:H$36,"H")) | I43: =IF(I$5="","",COUNTIF(I$7:I$36,"H")) | J43: =IF(J$5="","",COUNTIF(J$7:J$36,"H")) | ... AG43: =IF(AG$5="","",COUNTIF(AG$7:AG$36,"H")) | AH43: =SUM(C43:AG43)
A45: Made with PunchClock · punchclock.ai/tools

Sheet Jul 2026
A1: =IF($A$3="","Attendance register","Attendance register – "&TEXT($A$3,"mmmm yyyy"))
A2: One row per employee, one column per day. Type a code in each cell; the dropdown lists them. Names come from the Summary sheet.
A3: =IF(C3="","",DATE(YEAR(C3),MONTH(C3),1)) | B3: Month | C3: =DATE(Summary!$B$3,7,1) | K3: Codes: | L3: P | M3: Present | P3: L | Q3: Late | T3: A | U3: Absent | X3: S | Y3: Sick | AB3: V | AC3: Vacation | AF3: H | AG3: Holiday
A4: Yellow cells are yours to fill in. White cells are worked out for you and locked (Review › Unprotect Sheet, no password, if you need to change them).
C5: =IF($A$3="","",IF(C$6>DAY(EOMONTH($A$3,0)),"",CHOOSE(WEEKDAY(DATE(YEAR($A$3),MONTH($A$3),C$6)),"Su","Mo","Tu","We","Th","Fr","Sa"))) | D5: =IF($A$3="","",IF(D$6>DAY(EOMONTH($A$3,0)),"",CHOOSE(WEEKDAY(DATE(YEAR($A$3),MONTH($A$3),D$6)),"Su","Mo","Tu","We","Th","Fr","Sa"))) | E5: =IF($A$3="","",IF(E$6>DAY(EOMONTH($A$3,0)),"",CHOOSE(WEEKDAY(DATE(YEAR($A$3),MONTH($A$3),E$6)),"Su","Mo","Tu","We","Th","Fr","Sa"))) | F5: =IF($A$3="","",IF(F$6>DAY(EOMONTH($A$3,0)),"",CHOOSE(WEEKDAY(DATE(YEAR($A$3),MONTH($A$3),F$6)),"Su","Mo","Tu","We","Th","Fr","Sa"))) | G5: =IF($A$3="","",IF(G$6>DAY(EOMONTH($A$3,0)),"",CHOOSE(WEEKDAY(DATE(YEAR($A$3),MONTH($A$3),G$6)),"Su","Mo","Tu","We","Th","Fr","Sa"))) | H5: =IF($A$3="","",IF(H$6>DAY(EOMONTH($A$3,0)),"",CHOOSE(WEEKDAY(DATE(YEAR($A$3),MONTH($A$3),H$6)),"Su","Mo","Tu","We","Th","Fr","Sa"))) | I5: =IF($A$3="","",IF(I$6>DAY(EOMONTH($A$3,0)),"",CHOOSE(WEEKDAY(DATE(YEAR($A$3),MONTH($A$3),I$6)),"Su","Mo","Tu","We","Th","Fr","Sa"))) | J5: =IF($A$3="","",IF(J$6>DAY(EOMONTH($A$3,0)),"",CHOOSE(WEEKDAY(DATE(YEAR($A$3),MONTH($A$3),J$6)),"Su","Mo","Tu","We","Th","Fr","Sa"))) | ... AG5: =IF($A$3="","",IF(AG$6>DAY(EOMONTH($A$3,0)),"",CHOOSE(WEEKDAY(DATE(YEAR($A$3),MONTH($A$3),AG$6)),"Su","Mo","Tu","We","Th","Fr","Sa")))
A6: # | B6: Employee | C6: 1 | D6: 2 | E6: 3 | F6: 4 | G6: 5 | H6: 6 | I6: 7 | J6: 8 | K6: 9 | L6: 10 | M6: 11 | N6: 12 | O6: 13 | P6: 14 | Q6: 15 | R6: 16 | S6: 17 | T6: 18 | U6: 19 | V6: 20 | W6: 21 | X6: 22 | Y6: 23 | Z6: 24 | AA6: 25 | AB6: 26 | AC6: 27 | AD6: 28 | AE6: 29 | AF6: 30 | AG6: 31 | AH6: Present | AI6: Late | AJ6: Absent | AK6: Sick | AL6: Vacation | AM6: Holiday
A7: =IF(B7="","",ROW()-6) | B7: =IF(Summary!$B7="","",Summary!$B7) | AH7: =IF(B7="","",COUNTIF($C7:$AG7,"P")+COUNTIF($C7:$AG7,"L")) | AI7: =IF(B7="","",COUNTIF($C7:$AG7,"L")) | AJ7: =IF(B7="","",COUNTIF($C7:$AG7,"A")) | AK7: =IF(B7="","",COUNTIF($C7:$AG7,"S")) | AL7: =IF(B7="","",COUNTIF($C7:$AG7,"V")) | AM7: =IF(B7="","",COUNTIF($C7:$AG7,"H"))
A8: =IF(B8="","",ROW()-6) | B8: =IF(Summary!$B8="","",Summary!$B8) | AH8: =IF(B8="","",COUNTIF($C8:$AG8,"P")+COUNTIF($C8:$AG8,"L")) | AI8: =IF(B8="","",COUNTIF($C8:$AG8,"L")) | AJ8: =IF(B8="","",COUNTIF($C8:$AG8,"A")) | AK8: =IF(B8="","",COUNTIF($C8:$AG8,"S")) | AL8: =IF(B8="","",COUNTIF($C8:$AG8,"V")) | AM8: =IF(B8="","",COUNTIF($C8:$AG8,"H"))
A9: =IF(B9="","",ROW()-6) | B9: =IF(Summary!$B9="","",Summary!$B9) | AH9: =IF(B9="","",COUNTIF($C9:$AG9,"P")+COUNTIF($C9:$AG9,"L")) | AI9: =IF(B9="","",COUNTIF($C9:$AG9,"L")) | AJ9: =IF(B9="","",COUNTIF($C9:$AG9,"A")) | AK9: =IF(B9="","",COUNTIF($C9:$AG9,"S")) | AL9: =IF(B9="","",COUNTIF($C9:$AG9,"V")) | AM9: =IF(B9="","",COUNTIF($C9:$AG9,"H"))
A10: =IF(B10="","",ROW()-6) | B10: =IF(Summary!$B10="","",Summary!$B10) | AH10: =IF(B10="","",COUNTIF($C10:$AG10,"P")+COUNTIF($C10:$AG10,"L")) | AI10: =IF(B10="","",COUNTIF($C10:$AG10,"L")) | AJ10: =IF(B10="","",COUNTIF($C10:$AG10,"A")) | AK10: =IF(B10="","",COUNTIF($C10:$AG10,"S")) | AL10: =IF(B10="","",COUNTIF($C10:$AG10,"V")) | AM10: =IF(B10="","",COUNTIF($C10:$AG10,"H"))
A11: =IF(B11="","",ROW()-6) | B11: =IF(Summary!$B11="","",Summary!$B11) | AH11: =IF(B11="","",COUNTIF($C11:$AG11,"P")+COUNTIF($C11:$AG11,"L")) | AI11: =IF(B11="","",COUNTIF($C11:$AG11,"L")) | AJ11: =IF(B11="","",COUNTIF($C11:$AG11,"A")) | AK11: =IF(B11="","",COUNTIF($C11:$AG11,"S")) | AL11: =IF(B11="","",COUNTIF($C11:$AG11,"V")) | AM11: =IF(B11="","",COUNTIF($C11:$AG11,"H"))
A12: =IF(B12="","",ROW()-6) | B12: =IF(Summary!$B12="","",Summary!$B12) | AH12: =IF(B12="","",COUNTIF($C12:$AG12,"P")+COUNTIF($C12:$AG12,"L")) | AI12: =IF(B12="","",COUNTIF($C12:$AG12,"L")) | AJ12: =IF(B12="","",COUNTIF($C12:$AG12,"A")) | AK12: =IF(B12="","",COUNTIF($C12:$AG12,"S")) | AL12: =IF(B12="","",COUNTIF($C12:$AG12,"V")) | AM12: =IF(B12="","",COUNTIF($C12:$AG12,"H"))
A13: =IF(B13="","",ROW()-6) | B13: =IF(Summary!$B13="","",Summary!$B13) | AH13: =IF(B13="","",COUNTIF($C13:$AG13,"P")+COUNTIF($C13:$AG13,"L")) | AI13: =IF(B13="","",COUNTIF($C13:$AG13,"L")) | AJ13: =IF(B13="","",COUNTIF($C13:$AG13,"A")) | AK13: =IF(B13="","",COUNTIF($C13:$AG13,"S")) | AL13: =IF(B13="","",COUNTIF($C13:$AG13,"V")) | AM13: =IF(B13="","",COUNTIF($C13:$AG13,"H"))
A14: =IF(B14="","",ROW()-6) | B14: =IF(Summary!$B14="","",Summary!$B14) | AH14: =IF(B14="","",COUNTIF($C14:$AG14,"P")+COUNTIF($C14:$AG14,"L")) | AI14: =IF(B14="","",COUNTIF($C14:$AG14,"L")) | AJ14: =IF(B14="","",COUNTIF($C14:$AG14,"A")) | AK14: =IF(B14="","",COUNTIF($C14:$AG14,"S")) | AL14: =IF(B14="","",COUNTIF($C14:$AG14,"V")) | AM14: =IF(B14="","",COUNTIF($C14:$AG14,"H"))
A15: =IF(B15="","",ROW()-6) | B15: =IF(Summary!$B15="","",Summary!$B15) | AH15: =IF(B15="","",COUNTIF($C15:$AG15,"P")+COUNTIF($C15:$AG15,"L")) | AI15: =IF(B15="","",COUNTIF($C15:$AG15,"L")) | AJ15: =IF(B15="","",COUNTIF($C15:$AG15,"A")) | AK15: =IF(B15="","",COUNTIF($C15:$AG15,"S")) | AL15: =IF(B15="","",COUNTIF($C15:$AG15,"V")) | AM15: =IF(B15="","",COUNTIF($C15:$AG15,"H"))
A16: =IF(B16="","",ROW()-6) | B16: =IF(Summary!$B16="","",Summary!$B16) | AH16: =IF(B16="","",COUNTIF($C16:$AG16,"P")+COUNTIF($C16:$AG16,"L")) | AI16: =IF(B16="","",COUNTIF($C16:$AG16,"L")) | AJ16: =IF(B16="","",COUNTIF($C16:$AG16,"A")) | AK16: =IF(B16="","",COUNTIF($C16:$AG16,"S")) | AL16: =IF(B16="","",COUNTIF($C16:$AG16,"V")) | AM16: =IF(B16="","",COUNTIF($C16:$AG16,"H"))
A17: =IF(B17="","",ROW()-6) | B17: =IF(Summary!$B17="","",Summary!$B17) | AH17: =IF(B17="","",COUNTIF($C17:$AG17,"P")+COUNTIF($C17:$AG17,"L")) | AI17: =IF(B17="","",COUNTIF($C17:$AG17,"L")) | AJ17: =IF(B17="","",COUNTIF($C17:$AG17,"A")) | AK17: =IF(B17="","",COUNTIF($C17:$AG17,"S")) | AL17: =IF(B17="","",COUNTIF($C17:$AG17,"V")) | AM17: =IF(B17="","",COUNTIF($C17:$AG17,"H"))
A18: =IF(B18="","",ROW()-6) | B18: =IF(Summary!$B18="","",Summary!$B18) | AH18: =IF(B18="","",COUNTIF($C18:$AG18,"P")+COUNTIF($C18:$AG18,"L")) | AI18: =IF(B18="","",COUNTIF($C18:$AG18,"L")) | AJ18: =IF(B18="","",COUNTIF($C18:$AG18,"A")) | AK18: =IF(B18="","",COUNTIF($C18:$AG18,"S")) | AL18: =IF(B18="","",COUNTIF($C18:$AG18,"V")) | AM18: =IF(B18="","",COUNTIF($C18:$AG18,"H"))
... A36: =IF(B36="","",ROW()-6) | B36: =IF(Summary!$B36="","",Summary!$B36) | AH36: =IF(B36="","",COUNTIF($C36:$AG36,"P")+COUNTIF($C36:$AG36,"L")) | AI36: =IF(B36="","",COUNTIF($C36:$AG36,"L")) | AJ36: =IF(B36="","",COUNTIF($C36:$AG36,"A")) | AK36: =IF(B36="","",COUNTIF($C36:$AG36,"S")) | AL36: =IF(B36="","",COUNTIF($C36:$AG36,"V")) | AM36: =IF(B36="","",COUNTIF($C36:$AG36,"H"))
A37: Totals per day
B38: Present (P + L) | C38: =IF(C$5="","",COUNTIF(C$7:C$36,"P")+COUNTIF(C$7:C$36,"L")) | D38: =IF(D$5="","",COUNTIF(D$7:D$36,"P")+COUNTIF(D$7:D$36,"L")) | E38: =IF(E$5="","",COUNTIF(E$7:E$36,"P")+COUNTIF(E$7:E$36,"L")) | F38: =IF(F$5="","",COUNTIF(F$7:F$36,"P")+COUNTIF(F$7:F$36,"L")) | G38: =IF(G$5="","",COUNTIF(G$7:G$36,"P")+COUNTIF(G$7:G$36,"L")) | H38: =IF(H$5="","",COUNTIF(H$7:H$36,"P")+COUNTIF(H$7:H$36,"L")) | I38: =IF(I$5="","",COUNTIF(I$7:I$36,"P")+COUNTIF(I$7:I$36,"L")) | J38: =IF(J$5="","",COUNTIF(J$7:J$36,"P")+COUNTIF(J$7:J$36,"L")) | ... AG38: =IF(AG$5="","",COUNTIF(AG$7:AG$36,"P")+COUNTIF(AG$7:AG$36,"L")) | AH38: =SUM(C38:AG38)
B39: Late | C39: =IF(C$5="","",COUNTIF(C$7:C$36,"L")) | D39: =IF(D$5="","",COUNTIF(D$7:D$36,"L")) | E39: =IF(E$5="","",COUNTIF(E$7:E$36,"L")) | F39: =IF(F$5="","",COUNTIF(F$7:F$36,"L")) | G39: =IF(G$5="","",COUNTIF(G$7:G$36,"L")) | H39: =IF(H$5="","",COUNTIF(H$7:H$36,"L")) | I39: =IF(I$5="","",COUNTIF(I$7:I$36,"L")) | J39: =IF(J$5="","",COUNTIF(J$7:J$36,"L")) | ... AG39: =IF(AG$5="","",COUNTIF(AG$7:AG$36,"L")) | AH39: =SUM(C39:AG39)
B40: Absent | C40: =IF(C$5="","",COUNTIF(C$7:C$36,"A")) | D40: =IF(D$5="","",COUNTIF(D$7:D$36,"A")) | E40: =IF(E$5="","",COUNTIF(E$7:E$36,"A")) | F40: =IF(F$5="","",COUNTIF(F$7:F$36,"A")) | G40: =IF(G$5="","",COUNTIF(G$7:G$36,"A")) | H40: =IF(H$5="","",COUNTIF(H$7:H$36,"A")) | I40: =IF(I$5="","",COUNTIF(I$7:I$36,"A")) | J40: =IF(J$5="","",COUNTIF(J$7:J$36,"A")) | ... AG40: =IF(AG$5="","",COUNTIF(AG$7:AG$36,"A")) | AH40: =SUM(C40:AG40)
B41: Sick | C41: =IF(C$5="","",COUNTIF(C$7:C$36,"S")) | D41: =IF(D$5="","",COUNTIF(D$7:D$36,"S")) | E41: =IF(E$5="","",COUNTIF(E$7:E$36,"S")) | F41: =IF(F$5="","",COUNTIF(F$7:F$36,"S")) | G41: =IF(G$5="","",COUNTIF(G$7:G$36,"S")) | H41: =IF(H$5="","",COUNTIF(H$7:H$36,"S")) | I41: =IF(I$5="","",COUNTIF(I$7:I$36,"S")) | J41: =IF(J$5="","",COUNTIF(J$7:J$36,"S")) | ... AG41: =IF(AG$5="","",COUNTIF(AG$7:AG$36,"S")) | AH41: =SUM(C41:AG41)
B42: Vacation | C42: =IF(C$5="","",COUNTIF(C$7:C$36,"V")) | D42: =IF(D$5="","",COUNTIF(D$7:D$36,"V")) | E42: =IF(E$5="","",COUNTIF(E$7:E$36,"V")) | F42: =IF(F$5="","",COUNTIF(F$7:F$36,"V")) | G42: =IF(G$5="","",COUNTIF(G$7:G$36,"V")) | H42: =IF(H$5="","",COUNTIF(H$7:H$36,"V")) | I42: =IF(I$5="","",COUNTIF(I$7:I$36,"V")) | J42: =IF(J$5="","",COUNTIF(J$7:J$36,"V")) | ... AG42: =IF(AG$5="","",COUNTIF(AG$7:AG$36,"V")) | AH42: =SUM(C42:AG42)
B43: Holiday | C43: =IF(C$5="","",COUNTIF(C$7:C$36,"H")) | D43: =IF(D$5="","",COUNTIF(D$7:D$36,"H")) | E43: =IF(E$5="","",COUNTIF(E$7:E$36,"H")) | F43: =IF(F$5="","",COUNTIF(F$7:F$36,"H")) | G43: =IF(G$5="","",COUNTIF(G$7:G$36,"H")) | H43: =IF(H$5="","",COUNTIF(H$7:H$36,"H")) | I43: =IF(I$5="","",COUNTIF(I$7:I$36,"H")) | J43: =IF(J$5="","",COUNTIF(J$7:J$36,"H")) | ... AG43: =IF(AG$5="","",COUNTIF(AG$7:AG$36,"H")) | AH43: =SUM(C43:AG43)
A45: Made with PunchClock · punchclock.ai/tools

Sheet Aug 2026
A1: =IF($A$3="","Attendance register","Attendance register – "&TEXT($A$3,"mmmm yyyy"))
A2: One row per employee, one column per day. Type a code in each cell; the dropdown lists them. Names come from the Summary sheet.
A3: =IF(C3="","",DATE(YEAR(C3),MONTH(C3),1)) | B3: Month | C3: =DATE(Summary!$B$3,8,1) | K3: Codes: | L3: P | M3: Present | P3: L | Q3: Late | T3: A | U3: Absent | X3: S | Y3: Sick | AB3: V | AC3: Vacation | AF3: H | AG3: Holiday
A4: Yellow cells are yours to fill in. White cells are worked out for you and locked (Review › Unprotect Sheet, no password, if you need to change them).
C5: =IF($A$3="","",IF(C$6>DAY(EOMONTH($A$3,0)),"",CHOOSE(WEEKDAY(DATE(YEAR($A$3),MONTH($A$3),C$6)),"Su","Mo","Tu","We","Th","Fr","Sa"))) | D5: =IF($A$3="","",IF(D$6>DAY(EOMONTH($A$3,0)),"",CHOOSE(WEEKDAY(DATE(YEAR($A$3),MONTH($A$3),D$6)),"Su","Mo","Tu","We","Th","Fr","Sa"))) | E5: =IF($A$3="","",IF(E$6>DAY(EOMONTH($A$3,0)),"",CHOOSE(WEEKDAY(DATE(YEAR($A$3),MONTH($A$3),E$6)),"Su","Mo","Tu","We","Th","Fr","Sa"))) | F5: =IF($A$3="","",IF(F$6>DAY(EOMONTH($A$3,0)),"",CHOOSE(WEEKDAY(DATE(YEAR($A$3),MONTH($A$3),F$6)),"Su","Mo","Tu","We","Th","Fr","Sa"))) | G5: =IF($A$3="","",IF(G$6>DAY(EOMONTH($A$3,0)),"",CHOOSE(WEEKDAY(DATE(YEAR($A$3),MONTH($A$3),G$6)),"Su","Mo","Tu","We","Th","Fr","Sa"))) | H5: =IF($A$3="","",IF(H$6>DAY(EOMONTH($A$3,0)),"",CHOOSE(WEEKDAY(DATE(YEAR($A$3),MONTH($A$3),H$6)),"Su","Mo","Tu","We","Th","Fr","Sa"))) | I5: =IF($A$3="","",IF(I$6>DAY(EOMONTH($A$3,0)),"",CHOOSE(WEEKDAY(DATE(YEAR($A$3),MONTH($A$3),I$6)),"Su","Mo","Tu","We","Th","Fr","Sa"))) | J5: =IF($A$3="","",IF(J$6>DAY(EOMONTH($A$3,0)),"",CHOOSE(WEEKDAY(DATE(YEAR($A$3),MONTH($A$3),J$6)),"Su","Mo","Tu","We","Th","Fr","Sa"))) | ... AG5: =IF($A$3="","",IF(AG$6>DAY(EOMONTH($A$3,0)),"",CHOOSE(WEEKDAY(DATE(YEAR($A$3),MONTH($A$3),AG$6)),"Su","Mo","Tu","We","Th","Fr","Sa")))
A6: # | B6: Employee | C6: 1 | D6: 2 | E6: 3 | F6: 4 | G6: 5 | H6: 6 | I6: 7 | J6: 8 | K6: 9 | L6: 10 | M6: 11 | N6: 12 | O6: 13 | P6: 14 | Q6: 15 | R6: 16 | S6: 17 | T6: 18 | U6: 19 | V6: 20 | W6: 21 | X6: 22 | Y6: 23 | Z6: 24 | AA6: 25 | AB6: 26 | AC6: 27 | AD6: 28 | AE6: 29 | AF6: 30 | AG6: 31 | AH6: Present | AI6: Late | AJ6: Absent | AK6: Sick | AL6: Vacation | AM6: Holiday
A7: =IF(B7="","",ROW()-6) | B7: =IF(Summary!$B7="","",Summary!$B7) | AH7: =IF(B7="","",COUNTIF($C7:$AG7,"P")+COUNTIF($C7:$AG7,"L")) | AI7: =IF(B7="","",COUNTIF($C7:$AG7,"L")) | AJ7: =IF(B7="","",COUNTIF($C7:$AG7,"A")) | AK7: =IF(B7="","",COUNTIF($C7:$AG7,"S")) | AL7: =IF(B7="","",COUNTIF($C7:$AG7,"V")) | AM7: =IF(B7="","",COUNTIF($C7:$AG7,"H"))
A8: =IF(B8="","",ROW()-6) | B8: =IF(Summary!$B8="","",Summary!$B8) | AH8: =IF(B8="","",COUNTIF($C8:$AG8,"P")+COUNTIF($C8:$AG8,"L")) | AI8: =IF(B8="","",COUNTIF($C8:$AG8,"L")) | AJ8: =IF(B8="","",COUNTIF($C8:$AG8,"A")) | AK8: =IF(B8="","",COUNTIF($C8:$AG8,"S")) | AL8: =IF(B8="","",COUNTIF($C8:$AG8,"V")) | AM8: =IF(B8="","",COUNTIF($C8:$AG8,"H"))
A9: =IF(B9="","",ROW()-6) | B9: =IF(Summary!$B9="","",Summary!$B9) | AH9: =IF(B9="","",COUNTIF($C9:$AG9,"P")+COUNTIF($C9:$AG9,"L")) | AI9: =IF(B9="","",COUNTIF($C9:$AG9,"L")) | AJ9: =IF(B9="","",COUNTIF($C9:$AG9,"A")) | AK9: =IF(B9="","",COUNTIF($C9:$AG9,"S")) | AL9: =IF(B9="","",COUNTIF($C9:$AG9,"V")) | AM9: =IF(B9="","",COUNTIF($C9:$AG9,"H"))
A10: =IF(B10="","",ROW()-6) | B10: =IF(Summary!$B10="","",Summary!$B10) | AH10: =IF(B10="","",COUNTIF($C10:$AG10,"P")+COUNTIF($C10:$AG10,"L")) | AI10: =IF(B10="","",COUNTIF($C10:$AG10,"L")) | AJ10: =IF(B10="","",COUNTIF($C10:$AG10,"A")) | AK10: =IF(B10="","",COUNTIF($C10:$AG10,"S")) | AL10: =IF(B10="","",COUNTIF($C10:$AG10,"V")) | AM10: =IF(B10="","",COUNTIF($C10:$AG10,"H"))
A11: =IF(B11="","",ROW()-6) | B11: =IF(Summary!$B11="","",Summary!$B11) | AH11: =IF(B11="","",COUNTIF($C11:$AG11,"P")+COUNTIF($C11:$AG11,"L")) | AI11: =IF(B11="","",COUNTIF($C11:$AG11,"L")) | AJ11: =IF(B11="","",COUNTIF($C11:$AG11,"A")) | AK11: =IF(B11="","",COUNTIF($C11:$AG11,"S")) | AL11: =IF(B11="","",COUNTIF($C11:$AG11,"V")) | AM11: =IF(B11="","",COUNTIF($C11:$AG11,"H"))
A12: =IF(B12="","",ROW()-6) | B12: =IF(Summary!$B12="","",Summary!$B12) | AH12: =IF(B12="","",COUNTIF($C12:$AG12,"P")+COUNTIF($C12:$AG12,"L")) | AI12: =IF(B12="","",COUNTIF($C12:$AG12,"L")) | AJ12: =IF(B12="","",COUNTIF($C12:$AG12,"A")) | AK12: =IF(B12="","",COUNTIF($C12:$AG12,"S")) | AL12: =IF(B12="","",COUNTIF($C12:$AG12,"V")) | AM12: =IF(B12="","",COUNTIF($C12:$AG12,"H"))
A13: =IF(B13="","",ROW()-6) | B13: =IF(Summary!$B13="","",Summary!$B13) | AH13: =IF(B13="","",COUNTIF($C13:$AG13,"P")+COUNTIF($C13:$AG13,"L")) | AI13: =IF(B13="","",COUNTIF($C13:$AG13,"L")) | AJ13: =IF(B13="","",COUNTIF($C13:$AG13,"A")) | AK13: =IF(B13="","",COUNTIF($C13:$AG13,"S")) | AL13: =IF(B13="","",COUNTIF($C13:$AG13,"V")) | AM13: =IF(B13="","",COUNTIF($C13:$AG13,"H"))
A14: =IF(B14="","",ROW()-6) | B14: =IF(Summary!$B14="","",Summary!$B14) | AH14: =IF(B14="","",COUNTIF($C14:$AG14,"P")+COUNTIF($C14:$AG14,"L")) | AI14: =IF(B14="","",COUNTIF($C14:$AG14,"L")) | AJ14: =IF(B14="","",COUNTIF($C14:$AG14,"A")) | AK14: =IF(B14="","",COUNTIF($C14:$AG14,"S")) | AL14: =IF(B14="","",COUNTIF($C14:$AG14,"V")) | AM14: =IF(B14="","",COUNTIF($C14:$AG14,"H"))
A15: =IF(B15="","",ROW()-6) | B15: =IF(Summary!$B15="","",Summary!$B15) | AH15: =IF(B15="","",COUNTIF($C15:$AG15,"P")+COUNTIF($C15:$AG15,"L")) | AI15: =IF(B15="","",COUNTIF($C15:$AG15,"L")) | AJ15: =IF(B15="","",COUNTIF($C15:$AG15,"A")) | AK15: =IF(B15="","",COUNTIF($C15:$AG15,"S")) | AL15: =IF(B15="","",COUNTIF($C15:$AG15,"V")) | AM15: =IF(B15="","",COUNTIF($C15:$AG15,"H"))
A16: =IF(B16="","",ROW()-6) | B16: =IF(Summary!$B16="","",Summary!$B16) | AH16: =IF(B16="","",COUNTIF($C16:$AG16,"P")+COUNTIF($C16:$AG16,"L")) | AI16: =IF(B16="","",COUNTIF($C16:$AG16,"L")) | AJ16: =IF(B16="","",COUNTIF($C16:$AG16,"A")) | AK16: =IF(B16="","",COUNTIF($C16:$AG16,"S")) | AL16: =IF(B16="","",COUNTIF($C16:$AG16,"V")) | AM16: =IF(B16="","",COUNTIF($C16:$AG16,"H"))
A17: =IF(B17="","",ROW()-6) | B17: =IF(Summary!$B17="","",Summary!$B17) | AH17: =IF(B17="","",COUNTIF($C17:$AG17,"P")+COUNTIF($C17:$AG17,"L")) | AI17: =IF(B17="","",COUNTIF($C17:$AG17,"L")) | AJ17: =IF(B17="","",COUNTIF($C17:$AG17,"A")) | AK17: =IF(B17="","",COUNTIF($C17:$AG17,"S")) | AL17: =IF(B17="","",COUNTIF($C17:$AG17,"V")) | AM17: =IF(B17="","",COUNTIF($C17:$AG17,"H"))
A18: =IF(B18="","",ROW()-6) | B18: =IF(Summary!$B18="","",Summary!$B18) | AH18: =IF(B18="","",COUNTIF($C18:$AG18,"P")+COUNTIF($C18:$AG18,"L")) | AI18: =IF(B18="","",COUNTIF($C18:$AG18,"L")) | AJ18: =IF(B18="","",COUNTIF($C18:$AG18,"A")) | AK18: =IF(B18="","",COUNTIF($C18:$AG18,"S")) | AL18: =IF(B18="","",COUNTIF($C18:$AG18,"V")) | AM18: =IF(B18="","",COUNTIF($C18:$AG18,"H"))
... A36: =IF(B36="","",ROW()-6) | B36: =IF(Summary!$B36="","",Summary!$B36) | AH36: =IF(B36="","",COUNTIF($C36:$AG36,"P")+COUNTIF($C36:$AG36,"L")) | AI36: =IF(B36="","",COUNTIF($C36:$AG36,"L")) | AJ36: =IF(B36="","",COUNTIF($C36:$AG36,"A")) | AK36: =IF(B36="","",COUNTIF($C36:$AG36,"S")) | AL36: =IF(B36="","",COUNTIF($C36:$AG36,"V")) | AM36: =IF(B36="","",COUNTIF($C36:$AG36,"H"))
A37: Totals per day
B38: Present (P + L) | C38: =IF(C$5="","",COUNTIF(C$7:C$36,"P")+COUNTIF(C$7:C$36,"L")) | D38: =IF(D$5="","",COUNTIF(D$7:D$36,"P")+COUNTIF(D$7:D$36,"L")) | E38: =IF(E$5="","",COUNTIF(E$7:E$36,"P")+COUNTIF(E$7:E$36,"L")) | F38: =IF(F$5="","",COUNTIF(F$7:F$36,"P")+COUNTIF(F$7:F$36,"L")) | G38: =IF(G$5="","",COUNTIF(G$7:G$36,"P")+COUNTIF(G$7:G$36,"L")) | H38: =IF(H$5="","",COUNTIF(H$7:H$36,"P")+COUNTIF(H$7:H$36,"L")) | I38: =IF(I$5="","",COUNTIF(I$7:I$36,"P")+COUNTIF(I$7:I$36,"L")) | J38: =IF(J$5="","",COUNTIF(J$7:J$36,"P")+COUNTIF(J$7:J$36,"L")) | ... AG38: =IF(AG$5="","",COUNTIF(AG$7:AG$36,"P")+COUNTIF(AG$7:AG$36,"L")) | AH38: =SUM(C38:AG38)
B39: Late | C39: =IF(C$5="","",COUNTIF(C$7:C$36,"L")) | D39: =IF(D$5="","",COUNTIF(D$7:D$36,"L")) | E39: =IF(E$5="","",COUNTIF(E$7:E$36,"L")) | F39: =IF(F$5="","",COUNTIF(F$7:F$36,"L")) | G39: =IF(G$5="","",COUNTIF(G$7:G$36,"L")) | H39: =IF(H$5="","",COUNTIF(H$7:H$36,"L")) | I39: =IF(I$5="","",COUNTIF(I$7:I$36,"L")) | J39: =IF(J$5="","",COUNTIF(J$7:J$36,"L")) | ... AG39: =IF(AG$5="","",COUNTIF(AG$7:AG$36,"L")) | AH39: =SUM(C39:AG39)
B40: Absent | C40: =IF(C$5="","",COUNTIF(C$7:C$36,"A")) | D40: =IF(D$5="","",COUNTIF(D$7:D$36,"A")) | E40: =IF(E$5="","",COUNTIF(E$7:E$36,"A")) | F40: =IF(F$5="","",COUNTIF(F$7:F$36,"A")) | G40: =IF(G$5="","",COUNTIF(G$7:G$36,"A")) | H40: =IF(H$5="","",COUNTIF(H$7:H$36,"A")) | I40: =IF(I$5="","",COUNTIF(I$7:I$36,"A")) | J40: =IF(J$5="","",COUNTIF(J$7:J$36,"A")) | ... AG40: =IF(AG$5="","",COUNTIF(AG$7:AG$36,"A")) | AH40: =SUM(C40:AG40)
B41: Sick | C41: =IF(C$5="","",COUNTIF(C$7:C$36,"S")) | D41: =IF(D$5="","",COUNTIF(D$7:D$36,"S")) | E41: =IF(E$5="","",COUNTIF(E$7:E$36,"S")) | F41: =IF(F$5="","",COUNTIF(F$7:F$36,"S")) | G41: =IF(G$5="","",COUNTIF(G$7:G$36,"S")) | H41: =IF(H$5="","",COUNTIF(H$7:H$36,"S")) | I41: =IF(I$5="","",COUNTIF(I$7:I$36,"S")) | J41: =IF(J$5="","",COUNTIF(J$7:J$36,"S")) | ... AG41: =IF(AG$5="","",COUNTIF(AG$7:AG$36,"S")) | AH41: =SUM(C41:AG41)
B42: Vacation | C42: =IF(C$5="","",COUNTIF(C$7:C$36,"V")) | D42: =IF(D$5="","",COUNTIF(D$7:D$36,"V")) | E42: =IF(E$5="","",COUNTIF(E$7:E$36,"V")) | F42: =IF(F$5="","",COUNTIF(F$7:F$36,"V")) | G42: =IF(G$5="","",COUNTIF(G$7:G$36,"V")) | H42: =IF(H$5="","",COUNTIF(H$7:H$36,"V")) | I42: =IF(I$5="","",COUNTIF(I$7:I$36,"V")) | J42: =IF(J$5="","",COUNTIF(J$7:J$36,"V")) | ... AG42: =IF(AG$5="","",COUNTIF(AG$7:AG$36,"V")) | AH42: =SUM(C42:AG42)
B43: Holiday | C43: =IF(C$5="","",COUNTIF(C$7:C$36,"H")) | D43: =IF(D$5="","",COUNTIF(D$7:D$36,"H")) | E43: =IF(E$5="","",COUNTIF(E$7:E$36,"H")) | F43: =IF(F$5="","",COUNTIF(F$7:F$36,"H")) | G43: =IF(G$5="","",COUNTIF(G$7:G$36,"H")) | H43: =IF(H$5="","",COUNTIF(H$7:H$36,"H")) | I43: =IF(I$5="","",COUNTIF(I$7:I$36,"H")) | J43: =IF(J$5="","",COUNTIF(J$7:J$36,"H")) | ... AG43: =IF(AG$5="","",COUNTIF(AG$7:AG$36,"H")) | AH43: =SUM(C43:AG43)
A45: Made with PunchClock · punchclock.ai/tools

Sheet Sep 2026
A1: =IF($A$3="","Attendance register","Attendance register – "&TEXT($A$3,"mmmm yyyy"))
A2: One row per employee, one column per day. Type a code in each cell; the dropdown lists them. Names come from the Summary sheet.
A3: =IF(C3="","",DATE(YEAR(C3),MONTH(C3),1)) | B3: Month | C3: =DATE(Summary!$B$3,9,1) | K3: Codes: | L3: P | M3: Present | P3: L | Q3: Late | T3: A | U3: Absent | X3: S | Y3: Sick | AB3: V | AC3: Vacation | AF3: H | AG3: Holiday
A4: Yellow cells are yours to fill in. White cells are worked out for you and locked (Review › Unprotect Sheet, no password, if you need to change them).
C5: =IF($A$3="","",IF(C$6>DAY(EOMONTH($A$3,0)),"",CHOOSE(WEEKDAY(DATE(YEAR($A$3),MONTH($A$3),C$6)),"Su","Mo","Tu","We","Th","Fr","Sa"))) | D5: =IF($A$3="","",IF(D$6>DAY(EOMONTH($A$3,0)),"",CHOOSE(WEEKDAY(DATE(YEAR($A$3),MONTH($A$3),D$6)),"Su","Mo","Tu","We","Th","Fr","Sa"))) | E5: =IF($A$3="","",IF(E$6>DAY(EOMONTH($A$3,0)),"",CHOOSE(WEEKDAY(DATE(YEAR($A$3),MONTH($A$3),E$6)),"Su","Mo","Tu","We","Th","Fr","Sa"))) | F5: =IF($A$3="","",IF(F$6>DAY(EOMONTH($A$3,0)),"",CHOOSE(WEEKDAY(DATE(YEAR($A$3),MONTH($A$3),F$6)),"Su","Mo","Tu","We","Th","Fr","Sa"))) | G5: =IF($A$3="","",IF(G$6>DAY(EOMONTH($A$3,0)),"",CHOOSE(WEEKDAY(DATE(YEAR($A$3),MONTH($A$3),G$6)),"Su","Mo","Tu","We","Th","Fr","Sa"))) | H5: =IF($A$3="","",IF(H$6>DAY(EOMONTH($A$3,0)),"",CHOOSE(WEEKDAY(DATE(YEAR($A$3),MONTH($A$3),H$6)),"Su","Mo","Tu","We","Th","Fr","Sa"))) | I5: =IF($A$3="","",IF(I$6>DAY(EOMONTH($A$3,0)),"",CHOOSE(WEEKDAY(DATE(YEAR($A$3),MONTH($A$3),I$6)),"Su","Mo","Tu","We","Th","Fr","Sa"))) | J5: =IF($A$3="","",IF(J$6>DAY(EOMONTH($A$3,0)),"",CHOOSE(WEEKDAY(DATE(YEAR($A$3),MONTH($A$3),J$6)),"Su","Mo","Tu","We","Th","Fr","Sa"))) | ... AG5: =IF($A$3="","",IF(AG$6>DAY(EOMONTH($A$3,0)),"",CHOOSE(WEEKDAY(DATE(YEAR($A$3),MONTH($A$3),AG$6)),"Su","Mo","Tu","We","Th","Fr","Sa")))
A6: # | B6: Employee | C6: 1 | D6: 2 | E6: 3 | F6: 4 | G6: 5 | H6: 6 | I6: 7 | J6: 8 | K6: 9 | L6: 10 | M6: 11 | N6: 12 | O6: 13 | P6: 14 | Q6: 15 | R6: 16 | S6: 17 | T6: 18 | U6: 19 | V6: 20 | W6: 21 | X6: 22 | Y6: 23 | Z6: 24 | AA6: 25 | AB6: 26 | AC6: 27 | AD6: 28 | AE6: 29 | AF6: 30 | AG6: 31 | AH6: Present | AI6: Late | AJ6: Absent | AK6: Sick | AL6: Vacation | AM6: Holiday
A7: =IF(B7="","",ROW()-6) | B7: =IF(Summary!$B7="","",Summary!$B7) | AH7: =IF(B7="","",COUNTIF($C7:$AG7,"P")+COUNTIF($C7:$AG7,"L")) | AI7: =IF(B7="","",COUNTIF($C7:$AG7,"L")) | AJ7: =IF(B7="","",COUNTIF($C7:$AG7,"A")) | AK7: =IF(B7="","",COUNTIF($C7:$AG7,"S")) | AL7: =IF(B7="","",COUNTIF($C7:$AG7,"V")) | AM7: =IF(B7="","",COUNTIF($C7:$AG7,"H"))
A8: =IF(B8="","",ROW()-6) | B8: =IF(Summary!$B8="","",Summary!$B8) | AH8: =IF(B8="","",COUNTIF($C8:$AG8,"P")+COUNTIF($C8:$AG8,"L")) | AI8: =IF(B8="","",COUNTIF($C8:$AG8,"L")) | AJ8: =IF(B8="","",COUNTIF($C8:$AG8,"A")) | AK8: =IF(B8="","",COUNTIF($C8:$AG8,"S")) | AL8: =IF(B8="","",COUNTIF($C8:$AG8,"V")) | AM8: =IF(B8="","",COUNTIF($C8:$AG8,"H"))
A9: =IF(B9="","",ROW()-6) | B9: =IF(Summary!$B9="","",Summary!$B9) | AH9: =IF(B9="","",COUNTIF($C9:$AG9,"P")+COUNTIF($C9:$AG9,"L")) | AI9: =IF(B9="","",COUNTIF($C9:$AG9,"L")) | AJ9: =IF(B9="","",COUNTIF($C9:$AG9,"A")) | AK9: =IF(B9="","",COUNTIF($C9:$AG9,"S")) | AL9: =IF(B9="","",COUNTIF($C9:$AG9,"V")) | AM9: =IF(B9="","",COUNTIF($C9:$AG9,"H"))
A10: =IF(B10="","",ROW()-6) | B10: =IF(Summary!$B10="","",Summary!$B10) | AH10: =IF(B10="","",COUNTIF($C10:$AG10,"P")+COUNTIF($C10:$AG10,"L")) | AI10: =IF(B10="","",COUNTIF($C10:$AG10,"L")) | AJ10: =IF(B10="","",COUNTIF($C10:$AG10,"A")) | AK10: =IF(B10="","",COUNTIF($C10:$AG10,"S")) | AL10: =IF(B10="","",COUNTIF($C10:$AG10,"V")) | AM10: =IF(B10="","",COUNTIF($C10:$AG10,"H"))
A11: =IF(B11="","",ROW()-6) | B11: =IF(Summary!$B11="","",Summary!$B11) | AH11: =IF(B11="","",COUNTIF($C11:$AG11,"P")+COUNTIF($C11:$AG11,"L")) | AI11: =IF(B11="","",COUNTIF($C11:$AG11,"L")) | AJ11: =IF(B11="","",COUNTIF($C11:$AG11,"A")) | AK11: =IF(B11="","",COUNTIF($C11:$AG11,"S")) | AL11: =IF(B11="","",COUNTIF($C11:$AG11,"V")) | AM11: =IF(B11="","",COUNTIF($C11:$AG11,"H"))
A12: =IF(B12="","",ROW()-6) | B12: =IF(Summary!$B12="","",Summary!$B12) | AH12: =IF(B12="","",COUNTIF($C12:$AG12,"P")+COUNTIF($C12:$AG12,"L")) | AI12: =IF(B12="","",COUNTIF($C12:$AG12,"L")) | AJ12: =IF(B12="","",COUNTIF($C12:$AG12,"A")) | AK12: =IF(B12="","",COUNTIF($C12:$AG12,"S")) | AL12: =IF(B12="","",COUNTIF($C12:$AG12,"V")) | AM12: =IF(B12="","",COUNTIF($C12:$AG12,"H"))
A13: =IF(B13="","",ROW()-6) | B13: =IF(Summary!$B13="","",Summary!$B13) | AH13: =IF(B13="","",COUNTIF($C13:$AG13,"P")+COUNTIF($C13:$AG13,"L")) | AI13: =IF(B13="","",COUNTIF($C13:$AG13,"L")) | AJ13: =IF(B13="","",COUNTIF($C13:$AG13,"A")) | AK13: =IF(B13="","",COUNTIF($C13:$AG13,"S")) | AL13: =IF(B13="","",COUNTIF($C13:$AG13,"V")) | AM13: =IF(B13="","",COUNTIF($C13:$AG13,"H"))
A14: =IF(B14="","",ROW()-6) | B14: =IF(Summary!$B14="","",Summary!$B14) | AH14: =IF(B14="","",COUNTIF($C14:$AG14,"P")+COUNTIF($C14:$AG14,"L")) | AI14: =IF(B14="","",COUNTIF($C14:$AG14,"L")) | AJ14: =IF(B14="","",COUNTIF($C14:$AG14,"A")) | AK14: =IF(B14="","",COUNTIF($C14:$AG14,"S")) | AL14: =IF(B14="","",COUNTIF($C14:$AG14,"V")) | AM14: =IF(B14="","",COUNTIF($C14:$AG14,"H"))
A15: =IF(B15="","",ROW()-6) | B15: =IF(Summary!$B15="","",Summary!$B15) | AH15: =IF(B15="","",COUNTIF($C15:$AG15,"P")+COUNTIF($C15:$AG15,"L")) | AI15: =IF(B15="","",COUNTIF($C15:$AG15,"L")) | AJ15: =IF(B15="","",COUNTIF($C15:$AG15,"A")) | AK15: =IF(B15="","",COUNTIF($C15:$AG15,"S")) | AL15: =IF(B15="","",COUNTIF($C15:$AG15,"V")) | AM15: =IF(B15="","",COUNTIF($C15:$AG15,"H"))
A16: =IF(B16="","",ROW()-6) | B16: =IF(Summary!$B16="","",Summary!$B16) | AH16: =IF(B16="","",COUNTIF($C16:$AG16,"P")+COUNTIF($C16:$AG16,"L")) | AI16: =IF(B16="","",COUNTIF($C16:$AG16,"L")) | AJ16: =IF(B16="","",COUNTIF($C16:$AG16,"A")) | AK16: =IF(B16="","",COUNTIF($C16:$AG16,"S")) | AL16: =IF(B16="","",COUNTIF($C16:$AG16,"V")) | AM16: =IF(B16="","",COUNTIF($C16:$AG16,"H"))
A17: =IF(B17="","",ROW()-6) | B17: =IF(Summary!$B17="","",Summary!$B17) | AH17: =IF(B17="","",COUNTIF($C17:$AG17,"P")+COUNTIF($C17:$AG17,"L")) | AI17: =IF(B17="","",COUNTIF($C17:$AG17,"L")) | AJ17: =IF(B17="","",COUNTIF($C17:$AG17,"A")) | AK17: =IF(B17="","",COUNTIF($C17:$AG17,"S")) | AL17: =IF(B17="","",COUNTIF($C17:$AG17,"V")) | AM17: =IF(B17="","",COUNTIF($C17:$AG17,"H"))
A18: =IF(B18="","",ROW()-6) | B18: =IF(Summary!$B18="","",Summary!$B18) | AH18: =IF(B18="","",COUNTIF($C18:$AG18,"P")+COUNTIF($C18:$AG18,"L")) | AI18: =IF(B18="","",COUNTIF($C18:$AG18,"L")) | AJ18: =IF(B18="","",COUNTIF($C18:$AG18,"A")) | AK18: =IF(B18="","",COUNTIF($C18:$AG18,"S")) | AL18: =IF(B18="","",COUNTIF($C18:$AG18,"V")) | AM18: =IF(B18="","",COUNTIF($C18:$AG18,"H"))
... A36: =IF(B36="","",ROW()-6) | B36: =IF(Summary!$B36="","",Summary!$B36) | AH36: =IF(B36="","",COUNTIF($C36:$AG36,"P")+COUNTIF($C36:$AG36,"L")) | AI36: =IF(B36="","",COUNTIF($C36:$AG36,"L")) | AJ36: =IF(B36="","",COUNTIF($C36:$AG36,"A")) | AK36: =IF(B36="","",COUNTIF($C36:$AG36,"S")) | AL36: =IF(B36="","",COUNTIF($C36:$AG36,"V")) | AM36: =IF(B36="","",COUNTIF($C36:$AG36,"H"))
A37: Totals per day
B38: Present (P + L) | C38: =IF(C$5="","",COUNTIF(C$7:C$36,"P")+COUNTIF(C$7:C$36,"L")) | D38: =IF(D$5="","",COUNTIF(D$7:D$36,"P")+COUNTIF(D$7:D$36,"L")) | E38: =IF(E$5="","",COUNTIF(E$7:E$36,"P")+COUNTIF(E$7:E$36,"L")) | F38: =IF(F$5="","",COUNTIF(F$7:F$36,"P")+COUNTIF(F$7:F$36,"L")) | G38: =IF(G$5="","",COUNTIF(G$7:G$36,"P")+COUNTIF(G$7:G$36,"L")) | H38: =IF(H$5="","",COUNTIF(H$7:H$36,"P")+COUNTIF(H$7:H$36,"L")) | I38: =IF(I$5="","",COUNTIF(I$7:I$36,"P")+COUNTIF(I$7:I$36,"L")) | J38: =IF(J$5="","",COUNTIF(J$7:J$36,"P")+COUNTIF(J$7:J$36,"L")) | ... AG38: =IF(AG$5="","",COUNTIF(AG$7:AG$36,"P")+COUNTIF(AG$7:AG$36,"L")) | AH38: =SUM(C38:AG38)
B39: Late | C39: =IF(C$5="","",COUNTIF(C$7:C$36,"L")) | D39: =IF(D$5="","",COUNTIF(D$7:D$36,"L")) | E39: =IF(E$5="","",COUNTIF(E$7:E$36,"L")) | F39: =IF(F$5="","",COUNTIF(F$7:F$36,"L")) | G39: =IF(G$5="","",COUNTIF(G$7:G$36,"L")) | H39: =IF(H$5="","",COUNTIF(H$7:H$36,"L")) | I39: =IF(I$5="","",COUNTIF(I$7:I$36,"L")) | J39: =IF(J$5="","",COUNTIF(J$7:J$36,"L")) | ... AG39: =IF(AG$5="","",COUNTIF(AG$7:AG$36,"L")) | AH39: =SUM(C39:AG39)
B40: Absent | C40: =IF(C$5="","",COUNTIF(C$7:C$36,"A")) | D40: =IF(D$5="","",COUNTIF(D$7:D$36,"A")) | E40: =IF(E$5="","",COUNTIF(E$7:E$36,"A")) | F40: =IF(F$5="","",COUNTIF(F$7:F$36,"A")) | G40: =IF(G$5="","",COUNTIF(G$7:G$36,"A")) | H40: =IF(H$5="","",COUNTIF(H$7:H$36,"A")) | I40: =IF(I$5="","",COUNTIF(I$7:I$36,"A")) | J40: =IF(J$5="","",COUNTIF(J$7:J$36,"A")) | ... AG40: =IF(AG$5="","",COUNTIF(AG$7:AG$36,"A")) | AH40: =SUM(C40:AG40)
B41: Sick | C41: =IF(C$5="","",COUNTIF(C$7:C$36,"S")) | D41: =IF(D$5="","",COUNTIF(D$7:D$36,"S")) | E41: =IF(E$5="","",COUNTIF(E$7:E$36,"S")) | F41: =IF(F$5="","",COUNTIF(F$7:F$36,"S")) | G41: =IF(G$5="","",COUNTIF(G$7:G$36,"S")) | H41: =IF(H$5="","",COUNTIF(H$7:H$36,"S")) | I41: =IF(I$5="","",COUNTIF(I$7:I$36,"S")) | J41: =IF(J$5="","",COUNTIF(J$7:J$36,"S")) | ... AG41: =IF(AG$5="","",COUNTIF(AG$7:AG$36,"S")) | AH41: =SUM(C41:AG41)
B42: Vacation | C42: =IF(C$5="","",COUNTIF(C$7:C$36,"V")) | D42: =IF(D$5="","",COUNTIF(D$7:D$36,"V")) | E42: =IF(E$5="","",COUNTIF(E$7:E$36,"V")) | F42: =IF(F$5="","",COUNTIF(F$7:F$36,"V")) | G42: =IF(G$5="","",COUNTIF(G$7:G$36,"V")) | H42: =IF(H$5="","",COUNTIF(H$7:H$36,"V")) | I42: =IF(I$5="","",COUNTIF(I$7:I$36,"V")) | J42: =IF(J$5="","",COUNTIF(J$7:J$36,"V")) | ... AG42: =IF(AG$5="","",COUNTIF(AG$7:AG$36,"V")) | AH42: =SUM(C42:AG42)
B43: Holiday | C43: =IF(C$5="","",COUNTIF(C$7:C$36,"H")) | D43: =IF(D$5="","",COUNTIF(D$7:D$36,"H")) | E43: =IF(E$5="","",COUNTIF(E$7:E$36,"H")) | F43: =IF(F$5="","",COUNTIF(F$7:F$36,"H")) | G43: =IF(G$5="","",COUNTIF(G$7:G$36,"H")) | H43: =IF(H$5="","",COUNTIF(H$7:H$36,"H")) | I43: =IF(I$5="","",COUNTIF(I$7:I$36,"H")) | J43: =IF(J$5="","",COUNTIF(J$7:J$36,"H")) | ... AG43: =IF(AG$5="","",COUNTIF(AG$7:AG$36,"H")) | AH43: =SUM(C43:AG43)
A45: Made with PunchClock · punchclock.ai/tools

Sheet Oct 2026
A1: =IF($A$3="","Attendance register","Attendance register – "&TEXT($A$3,"mmmm yyyy"))
A2: One row per employee, one column per day. Type a code in each cell; the dropdown lists them. Names come from the Summary sheet.
A3: =IF(C3="","",DATE(YEAR(C3),MONTH(C3),1)) | B3: Month | C3: =DATE(Summary!$B$3,10,1) | K3: Codes: | L3: P | M3: Present | P3: L | Q3: Late | T3: A | U3: Absent | X3: S | Y3: Sick | AB3: V | AC3: Vacation | AF3: H | AG3: Holiday
A4: Yellow cells are yours to fill in. White cells are worked out for you and locked (Review › Unprotect Sheet, no password, if you need to change them).
C5: =IF($A$3="","",IF(C$6>DAY(EOMONTH($A$3,0)),"",CHOOSE(WEEKDAY(DATE(YEAR($A$3),MONTH($A$3),C$6)),"Su","Mo","Tu","We","Th","Fr","Sa"))) | D5: =IF($A$3="","",IF(D$6>DAY(EOMONTH($A$3,0)),"",CHOOSE(WEEKDAY(DATE(YEAR($A$3),MONTH($A$3),D$6)),"Su","Mo","Tu","We","Th","Fr","Sa"))) | E5: =IF($A$3="","",IF(E$6>DAY(EOMONTH($A$3,0)),"",CHOOSE(WEEKDAY(DATE(YEAR($A$3),MONTH($A$3),E$6)),"Su","Mo","Tu","We","Th","Fr","Sa"))) | F5: =IF($A$3="","",IF(F$6>DAY(EOMONTH($A$3,0)),"",CHOOSE(WEEKDAY(DATE(YEAR($A$3),MONTH($A$3),F$6)),"Su","Mo","Tu","We","Th","Fr","Sa"))) | G5: =IF($A$3="","",IF(G$6>DAY(EOMONTH($A$3,0)),"",CHOOSE(WEEKDAY(DATE(YEAR($A$3),MONTH($A$3),G$6)),"Su","Mo","Tu","We","Th","Fr","Sa"))) | H5: =IF($A$3="","",IF(H$6>DAY(EOMONTH($A$3,0)),"",CHOOSE(WEEKDAY(DATE(YEAR($A$3),MONTH($A$3),H$6)),"Su","Mo","Tu","We","Th","Fr","Sa"))) | I5: =IF($A$3="","",IF(I$6>DAY(EOMONTH($A$3,0)),"",CHOOSE(WEEKDAY(DATE(YEAR($A$3),MONTH($A$3),I$6)),"Su","Mo","Tu","We","Th","Fr","Sa"))) | J5: =IF($A$3="","",IF(J$6>DAY(EOMONTH($A$3,0)),"",CHOOSE(WEEKDAY(DATE(YEAR($A$3),MONTH($A$3),J$6)),"Su","Mo","Tu","We","Th","Fr","Sa"))) | ... AG5: =IF($A$3="","",IF(AG$6>DAY(EOMONTH($A$3,0)),"",CHOOSE(WEEKDAY(DATE(YEAR($A$3),MONTH($A$3),AG$6)),"Su","Mo","Tu","We","Th","Fr","Sa")))
A6: # | B6: Employee | C6: 1 | D6: 2 | E6: 3 | F6: 4 | G6: 5 | H6: 6 | I6: 7 | J6: 8 | K6: 9 | L6: 10 | M6: 11 | N6: 12 | O6: 13 | P6: 14 | Q6: 15 | R6: 16 | S6: 17 | T6: 18 | U6: 19 | V6: 20 | W6: 21 | X6: 22 | Y6: 23 | Z6: 24 | AA6: 25 | AB6: 26 | AC6: 27 | AD6: 28 | AE6: 29 | AF6: 30 | AG6: 31 | AH6: Present | AI6: Late | AJ6: Absent | AK6: Sick | AL6: Vacation | AM6: Holiday
A7: =IF(B7="","",ROW()-6) | B7: =IF(Summary!$B7="","",Summary!$B7) | AH7: =IF(B7="","",COUNTIF($C7:$AG7,"P")+COUNTIF($C7:$AG7,"L")) | AI7: =IF(B7="","",COUNTIF($C7:$AG7,"L")) | AJ7: =IF(B7="","",COUNTIF($C7:$AG7,"A")) | AK7: =IF(B7="","",COUNTIF($C7:$AG7,"S")) | AL7: =IF(B7="","",COUNTIF($C7:$AG7,"V")) | AM7: =IF(B7="","",COUNTIF($C7:$AG7,"H"))
A8: =IF(B8="","",ROW()-6) | B8: =IF(Summary!$B8="","",Summary!$B8) | AH8: =IF(B8="","",COUNTIF($C8:$AG8,"P")+COUNTIF($C8:$AG8,"L")) | AI8: =IF(B8="","",COUNTIF($C8:$AG8,"L")) | AJ8: =IF(B8="","",COUNTIF($C8:$AG8,"A")) | AK8: =IF(B8="","",COUNTIF($C8:$AG8,"S")) | AL8: =IF(B8="","",COUNTIF($C8:$AG8,"V")) | AM8: =IF(B8="","",COUNTIF($C8:$AG8,"H"))
A9: =IF(B9="","",ROW()-6) | B9: =IF(Summary!$B9="","",Summary!$B9) | AH9: =IF(B9="","",COUNTIF($C9:$AG9,"P")+COUNTIF($C9:$AG9,"L")) | AI9: =IF(B9="","",COUNTIF($C9:$AG9,"L")) | AJ9: =IF(B9="","",COUNTIF($C9:$AG9,"A")) | AK9: =IF(B9="","",COUNTIF($C9:$AG9,"S")) | AL9: =IF(B9="","",COUNTIF($C9:$AG9,"V")) | AM9: =IF(B9="","",COUNTIF($C9:$AG9,"H"))
A10: =IF(B10="","",ROW()-6) | B10: =IF(Summary!$B10="","",Summary!$B10) | AH10: =IF(B10="","",COUNTIF($C10:$AG10,"P")+COUNTIF($C10:$AG10,"L")) | AI10: =IF(B10="","",COUNTIF($C10:$AG10,"L")) | AJ10: =IF(B10="","",COUNTIF($C10:$AG10,"A")) | AK10: =IF(B10="","",COUNTIF($C10:$AG10,"S")) | AL10: =IF(B10="","",COUNTIF($C10:$AG10,"V")) | AM10: =IF(B10="","",COUNTIF($C10:$AG10,"H"))
A11: =IF(B11="","",ROW()-6) | B11: =IF(Summary!$B11="","",Summary!$B11) | AH11: =IF(B11="","",COUNTIF($C11:$AG11,"P")+COUNTIF($C11:$AG11,"L")) | AI11: =IF(B11="","",COUNTIF($C11:$AG11,"L")) | AJ11: =IF(B11="","",COUNTIF($C11:$AG11,"A")) | AK11: =IF(B11="","",COUNTIF($C11:$AG11,"S")) | AL11: =IF(B11="","",COUNTIF($C11:$AG11,"V")) | AM11: =IF(B11="","",COUNTIF($C11:$AG11,"H"))
A12: =IF(B12="","",ROW()-6) | B12: =IF(Summary!$B12="","",Summary!$B12) | AH12: =IF(B12="","",COUNTIF($C12:$AG12,"P")+COUNTIF($C12:$AG12,"L")) | AI12: =IF(B12="","",COUNTIF($C12:$AG12,"L")) | AJ12: =IF(B12="","",COUNTIF($C12:$AG12,"A")) | AK12: =IF(B12="","",COUNTIF($C12:$AG12,"S")) | AL12: =IF(B12="","",COUNTIF($C12:$AG12,"V")) | AM12: =IF(B12="","",COUNTIF($C12:$AG12,"H"))
A13: =IF(B13="","",ROW()-6) | B13: =IF(Summary!$B13="","",Summary!$B13) | AH13: =IF(B13="","",COUNTIF($C13:$AG13,"P")+COUNTIF($C13:$AG13,"L")) | AI13: =IF(B13="","",COUNTIF($C13:$AG13,"L")) | AJ13: =IF(B13="","",COUNTIF($C13:$AG13,"A")) | AK13: =IF(B13="","",COUNTIF($C13:$AG13,"S")) | AL13: =IF(B13="","",COUNTIF($C13:$AG13,"V")) | AM13: =IF(B13="","",COUNTIF($C13:$AG13,"H"))
A14: =IF(B14="","",ROW()-6) | B14: =IF(Summary!$B14="","",Summary!$B14) | AH14: =IF(B14="","",COUNTIF($C14:$AG14,"P")+COUNTIF($C14:$AG14,"L")) | AI14: =IF(B14="","",COUNTIF($C14:$AG14,"L")) | AJ14: =IF(B14="","",COUNTIF($C14:$AG14,"A")) | AK14: =IF(B14="","",COUNTIF($C14:$AG14,"S")) | AL14: =IF(B14="","",COUNTIF($C14:$AG14,"V")) | AM14: =IF(B14="","",COUNTIF($C14:$AG14,"H"))
A15: =IF(B15="","",ROW()-6) | B15: =IF(Summary!$B15="","",Summary!$B15) | AH15: =IF(B15="","",COUNTIF($C15:$AG15,"P")+COUNTIF($C15:$AG15,"L")) | AI15: =IF(B15="","",COUNTIF($C15:$AG15,"L")) | AJ15: =IF(B15="","",COUNTIF($C15:$AG15,"A")) | AK15: =IF(B15="","",COUNTIF($C15:$AG15,"S")) | AL15: =IF(B15="","",COUNTIF($C15:$AG15,"V")) | AM15: =IF(B15="","",COUNTIF($C15:$AG15,"H"))
A16: =IF(B16="","",ROW()-6) | B16: =IF(Summary!$B16="","",Summary!$B16) | AH16: =IF(B16="","",COUNTIF($C16:$AG16,"P")+COUNTIF($C16:$AG16,"L")) | AI16: =IF(B16="","",COUNTIF($C16:$AG16,"L")) | AJ16: =IF(B16="","",COUNTIF($C16:$AG16,"A")) | AK16: =IF(B16="","",COUNTIF($C16:$AG16,"S")) | AL16: =IF(B16="","",COUNTIF($C16:$AG16,"V")) | AM16: =IF(B16="","",COUNTIF($C16:$AG16,"H"))
A17: =IF(B17="","",ROW()-6) | B17: =IF(Summary!$B17="","",Summary!$B17) | AH17: =IF(B17="","",COUNTIF($C17:$AG17,"P")+COUNTIF($C17:$AG17,"L")) | AI17: =IF(B17="","",COUNTIF($C17:$AG17,"L")) | AJ17: =IF(B17="","",COUNTIF($C17:$AG17,"A")) | AK17: =IF(B17="","",COUNTIF($C17:$AG17,"S")) | AL17: =IF(B17="","",COUNTIF($C17:$AG17,"V")) | AM17: =IF(B17="","",COUNTIF($C17:$AG17,"H"))
A18: =IF(B18="","",ROW()-6) | B18: =IF(Summary!$B18="","",Summary!$B18) | AH18: =IF(B18="","",COUNTIF($C18:$AG18,"P")+COUNTIF($C18:$AG18,"L")) | AI18: =IF(B18="","",COUNTIF($C18:$AG18,"L")) | AJ18: =IF(B18="","",COUNTIF($C18:$AG18,"A")) | AK18: =IF(B18="","",COUNTIF($C18:$AG18,"S")) | AL18: =IF(B18="","",COUNTIF($C18:$AG18,"V")) | AM18: =IF(B18="","",COUNTIF($C18:$AG18,"H"))
... A36: =IF(B36="","",ROW()-6) | B36: =IF(Summary!$B36="","",Summary!$B36) | AH36: =IF(B36="","",COUNTIF($C36:$AG36,"P")+COUNTIF($C36:$AG36,"L")) | AI36: =IF(B36="","",COUNTIF($C36:$AG36,"L")) | AJ36: =IF(B36="","",COUNTIF($C36:$AG36,"A")) | AK36: =IF(B36="","",COUNTIF($C36:$AG36,"S")) | AL36: =IF(B36="","",COUNTIF($C36:$AG36,"V")) | AM36: =IF(B36="","",COUNTIF($C36:$AG36,"H"))
A37: Totals per day
B38: Present (P + L) | C38: =IF(C$5="","",COUNTIF(C$7:C$36,"P")+COUNTIF(C$7:C$36,"L")) | D38: =IF(D$5="","",COUNTIF(D$7:D$36,"P")+COUNTIF(D$7:D$36,"L")) | E38: =IF(E$5="","",COUNTIF(E$7:E$36,"P")+COUNTIF(E$7:E$36,"L")) | F38: =IF(F$5="","",COUNTIF(F$7:F$36,"P")+COUNTIF(F$7:F$36,"L")) | G38: =IF(G$5="","",COUNTIF(G$7:G$36,"P")+COUNTIF(G$7:G$36,"L")) | H38: =IF(H$5="","",COUNTIF(H$7:H$36,"P")+COUNTIF(H$7:H$36,"L")) | I38: =IF(I$5="","",COUNTIF(I$7:I$36,"P")+COUNTIF(I$7:I$36,"L")) | J38: =IF(J$5="","",COUNTIF(J$7:J$36,"P")+COUNTIF(J$7:J$36,"L")) | ... AG38: =IF(AG$5="","",COUNTIF(AG$7:AG$36,"P")+COUNTIF(AG$7:AG$36,"L")) | AH38: =SUM(C38:AG38)
B39: Late | C39: =IF(C$5="","",COUNTIF(C$7:C$36,"L")) | D39: =IF(D$5="","",COUNTIF(D$7:D$36,"L")) | E39: =IF(E$5="","",COUNTIF(E$7:E$36,"L")) | F39: =IF(F$5="","",COUNTIF(F$7:F$36,"L")) | G39: =IF(G$5="","",COUNTIF(G$7:G$36,"L")) | H39: =IF(H$5="","",COUNTIF(H$7:H$36,"L")) | I39: =IF(I$5="","",COUNTIF(I$7:I$36,"L")) | J39: =IF(J$5="","",COUNTIF(J$7:J$36,"L")) | ... AG39: =IF(AG$5="","",COUNTIF(AG$7:AG$36,"L")) | AH39: =SUM(C39:AG39)
B40: Absent | C40: =IF(C$5="","",COUNTIF(C$7:C$36,"A")) | D40: =IF(D$5="","",COUNTIF(D$7:D$36,"A")) | E40: =IF(E$5="","",COUNTIF(E$7:E$36,"A")) | F40: =IF(F$5="","",COUNTIF(F$7:F$36,"A")) | G40: =IF(G$5="","",COUNTIF(G$7:G$36,"A")) | H40: =IF(H$5="","",COUNTIF(H$7:H$36,"A")) | I40: =IF(I$5="","",COUNTIF(I$7:I$36,"A")) | J40: =IF(J$5="","",COUNTIF(J$7:J$36,"A")) | ... AG40: =IF(AG$5="","",COUNTIF(AG$7:AG$36,"A")) | AH40: =SUM(C40:AG40)
B41: Sick | C41: =IF(C$5="","",COUNTIF(C$7:C$36,"S")) | D41: =IF(D$5="","",COUNTIF(D$7:D$36,"S")) | E41: =IF(E$5="","",COUNTIF(E$7:E$36,"S")) | F41: =IF(F$5="","",COUNTIF(F$7:F$36,"S")) | G41: =IF(G$5="","",COUNTIF(G$7:G$36,"S")) | H41: =IF(H$5="","",COUNTIF(H$7:H$36,"S")) | I41: =IF(I$5="","",COUNTIF(I$7:I$36,"S")) | J41: =IF(J$5="","",COUNTIF(J$7:J$36,"S")) | ... AG41: =IF(AG$5="","",COUNTIF(AG$7:AG$36,"S")) | AH41: =SUM(C41:AG41)
B42: Vacation | C42: =IF(C$5="","",COUNTIF(C$7:C$36,"V")) | D42: =IF(D$5="","",COUNTIF(D$7:D$36,"V")) | E42: =IF(E$5="","",COUNTIF(E$7:E$36,"V")) | F42: =IF(F$5="","",COUNTIF(F$7:F$36,"V")) | G42: =IF(G$5="","",COUNTIF(G$7:G$36,"V")) | H42: =IF(H$5="","",COUNTIF(H$7:H$36,"V")) | I42: =IF(I$5="","",COUNTIF(I$7:I$36,"V")) | J42: =IF(J$5="","",COUNTIF(J$7:J$36,"V")) | ... AG42: =IF(AG$5="","",COUNTIF(AG$7:AG$36,"V")) | AH42: =SUM(C42:AG42)
B43: Holiday | C43: =IF(C$5="","",COUNTIF(C$7:C$36,"H")) | D43: =IF(D$5="","",COUNTIF(D$7:D$36,"H")) | E43: =IF(E$5="","",COUNTIF(E$7:E$36,"H")) | F43: =IF(F$5="","",COUNTIF(F$7:F$36,"H")) | G43: =IF(G$5="","",COUNTIF(G$7:G$36,"H")) | H43: =IF(H$5="","",COUNTIF(H$7:H$36,"H")) | I43: =IF(I$5="","",COUNTIF(I$7:I$36,"H")) | J43: =IF(J$5="","",COUNTIF(J$7:J$36,"H")) | ... AG43: =IF(AG$5="","",COUNTIF(AG$7:AG$36,"H")) | AH43: =SUM(C43:AG43)
A45: Made with PunchClock · punchclock.ai/tools

Sheet Nov 2026
A1: =IF($A$3="","Attendance register","Attendance register – "&TEXT($A$3,"mmmm yyyy"))
A2: One row per employee, one column per day. Type a code in each cell; the dropdown lists them. Names come from the Summary sheet.
A3: =IF(C3="","",DATE(YEAR(C3),MONTH(C3),1)) | B3: Month | C3: =DATE(Summary!$B$3,11,1) | K3: Codes: | L3: P | M3: Present | P3: L | Q3: Late | T3: A | U3: Absent | X3: S | Y3: Sick | AB3: V | AC3: Vacation | AF3: H | AG3: Holiday
A4: Yellow cells are yours to fill in. White cells are worked out for you and locked (Review › Unprotect Sheet, no password, if you need to change them).
C5: =IF($A$3="","",IF(C$6>DAY(EOMONTH($A$3,0)),"",CHOOSE(WEEKDAY(DATE(YEAR($A$3),MONTH($A$3),C$6)),"Su","Mo","Tu","We","Th","Fr","Sa"))) | D5: =IF($A$3="","",IF(D$6>DAY(EOMONTH($A$3,0)),"",CHOOSE(WEEKDAY(DATE(YEAR($A$3),MONTH($A$3),D$6)),"Su","Mo","Tu","We","Th","Fr","Sa"))) | E5: =IF($A$3="","",IF(E$6>DAY(EOMONTH($A$3,0)),"",CHOOSE(WEEKDAY(DATE(YEAR($A$3),MONTH($A$3),E$6)),"Su","Mo","Tu","We","Th","Fr","Sa"))) | F5: =IF($A$3="","",IF(F$6>DAY(EOMONTH($A$3,0)),"",CHOOSE(WEEKDAY(DATE(YEAR($A$3),MONTH($A$3),F$6)),"Su","Mo","Tu","We","Th","Fr","Sa"))) | G5: =IF($A$3="","",IF(G$6>DAY(EOMONTH($A$3,0)),"",CHOOSE(WEEKDAY(DATE(YEAR($A$3),MONTH($A$3),G$6)),"Su","Mo","Tu","We","Th","Fr","Sa"))) | H5: =IF($A$3="","",IF(H$6>DAY(EOMONTH($A$3,0)),"",CHOOSE(WEEKDAY(DATE(YEAR($A$3),MONTH($A$3),H$6)),"Su","Mo","Tu","We","Th","Fr","Sa"))) | I5: =IF($A$3="","",IF(I$6>DAY(EOMONTH($A$3,0)),"",CHOOSE(WEEKDAY(DATE(YEAR($A$3),MONTH($A$3),I$6)),"Su","Mo","Tu","We","Th","Fr","Sa"))) | J5: =IF($A$3="","",IF(J$6>DAY(EOMONTH($A$3,0)),"",CHOOSE(WEEKDAY(DATE(YEAR($A$3),MONTH($A$3),J$6)),"Su","Mo","Tu","We","Th","Fr","Sa"))) | ... AG5: =IF($A$3="","",IF(AG$6>DAY(EOMONTH($A$3,0)),"",CHOOSE(WEEKDAY(DATE(YEAR($A$3),MONTH($A$3),AG$6)),"Su","Mo","Tu","We","Th","Fr","Sa")))
A6: # | B6: Employee | C6: 1 | D6: 2 | E6: 3 | F6: 4 | G6: 5 | H6: 6 | I6: 7 | J6: 8 | K6: 9 | L6: 10 | M6: 11 | N6: 12 | O6: 13 | P6: 14 | Q6: 15 | R6: 16 | S6: 17 | T6: 18 | U6: 19 | V6: 20 | W6: 21 | X6: 22 | Y6: 23 | Z6: 24 | AA6: 25 | AB6: 26 | AC6: 27 | AD6: 28 | AE6: 29 | AF6: 30 | AG6: 31 | AH6: Present | AI6: Late | AJ6: Absent | AK6: Sick | AL6: Vacation | AM6: Holiday
A7: =IF(B7="","",ROW()-6) | B7: =IF(Summary!$B7="","",Summary!$B7) | AH7: =IF(B7="","",COUNTIF($C7:$AG7,"P")+COUNTIF($C7:$AG7,"L")) | AI7: =IF(B7="","",COUNTIF($C7:$AG7,"L")) | AJ7: =IF(B7="","",COUNTIF($C7:$AG7,"A")) | AK7: =IF(B7="","",COUNTIF($C7:$AG7,"S")) | AL7: =IF(B7="","",COUNTIF($C7:$AG7,"V")) | AM7: =IF(B7="","",COUNTIF($C7:$AG7,"H"))
A8: =IF(B8="","",ROW()-6) | B8: =IF(Summary!$B8="","",Summary!$B8) | AH8: =IF(B8="","",COUNTIF($C8:$AG8,"P")+COUNTIF($C8:$AG8,"L")) | AI8: =IF(B8="","",COUNTIF($C8:$AG8,"L")) | AJ8: =IF(B8="","",COUNTIF($C8:$AG8,"A")) | AK8: =IF(B8="","",COUNTIF($C8:$AG8,"S")) | AL8: =IF(B8="","",COUNTIF($C8:$AG8,"V")) | AM8: =IF(B8="","",COUNTIF($C8:$AG8,"H"))
A9: =IF(B9="","",ROW()-6) | B9: =IF(Summary!$B9="","",Summary!$B9) | AH9: =IF(B9="","",COUNTIF($C9:$AG9,"P")+COUNTIF($C9:$AG9,"L")) | AI9: =IF(B9="","",COUNTIF($C9:$AG9,"L")) | AJ9: =IF(B9="","",COUNTIF($C9:$AG9,"A")) | AK9: =IF(B9="","",COUNTIF($C9:$AG9,"S")) | AL9: =IF(B9="","",COUNTIF($C9:$AG9,"V")) | AM9: =IF(B9="","",COUNTIF($C9:$AG9,"H"))
A10: =IF(B10="","",ROW()-6) | B10: =IF(Summary!$B10="","",Summary!$B10) | AH10: =IF(B10="","",COUNTIF($C10:$AG10,"P")+COUNTIF($C10:$AG10,"L")) | AI10: =IF(B10="","",COUNTIF($C10:$AG10,"L")) | AJ10: =IF(B10="","",COUNTIF($C10:$AG10,"A")) | AK10: =IF(B10="","",COUNTIF($C10:$AG10,"S")) | AL10: =IF(B10="","",COUNTIF($C10:$AG10,"V")) | AM10: =IF(B10="","",COUNTIF($C10:$AG10,"H"))
A11: =IF(B11="","",ROW()-6) | B11: =IF(Summary!$B11="","",Summary!$B11) | AH11: =IF(B11="","",COUNTIF($C11:$AG11,"P")+COUNTIF($C11:$AG11,"L")) | AI11: =IF(B11="","",COUNTIF($C11:$AG11,"L")) | AJ11: =IF(B11="","",COUNTIF($C11:$AG11,"A")) | AK11: =IF(B11="","",COUNTIF($C11:$AG11,"S")) | AL11: =IF(B11="","",COUNTIF($C11:$AG11,"V")) | AM11: =IF(B11="","",COUNTIF($C11:$AG11,"H"))
A12: =IF(B12="","",ROW()-6) | B12: =IF(Summary!$B12="","",Summary!$B12) | AH12: =IF(B12="","",COUNTIF($C12:$AG12,"P")+COUNTIF($C12:$AG12,"L")) | AI12: =IF(B12="","",COUNTIF($C12:$AG12,"L")) | AJ12: =IF(B12="","",COUNTIF($C12:$AG12,"A")) | AK12: =IF(B12="","",COUNTIF($C12:$AG12,"S")) | AL12: =IF(B12="","",COUNTIF($C12:$AG12,"V")) | AM12: =IF(B12="","",COUNTIF($C12:$AG12,"H"))
A13: =IF(B13="","",ROW()-6) | B13: =IF(Summary!$B13="","",Summary!$B13) | AH13: =IF(B13="","",COUNTIF($C13:$AG13,"P")+COUNTIF($C13:$AG13,"L")) | AI13: =IF(B13="","",COUNTIF($C13:$AG13,"L")) | AJ13: =IF(B13="","",COUNTIF($C13:$AG13,"A")) | AK13: =IF(B13="","",COUNTIF($C13:$AG13,"S")) | AL13: =IF(B13="","",COUNTIF($C13:$AG13,"V")) | AM13: =IF(B13="","",COUNTIF($C13:$AG13,"H"))
A14: =IF(B14="","",ROW()-6) | B14: =IF(Summary!$B14="","",Summary!$B14) | AH14: =IF(B14="","",COUNTIF($C14:$AG14,"P")+COUNTIF($C14:$AG14,"L")) | AI14: =IF(B14="","",COUNTIF($C14:$AG14,"L")) | AJ14: =IF(B14="","",COUNTIF($C14:$AG14,"A")) | AK14: =IF(B14="","",COUNTIF($C14:$AG14,"S")) | AL14: =IF(B14="","",COUNTIF($C14:$AG14,"V")) | AM14: =IF(B14="","",COUNTIF($C14:$AG14,"H"))
A15: =IF(B15="","",ROW()-6) | B15: =IF(Summary!$B15="","",Summary!$B15) | AH15: =IF(B15="","",COUNTIF($C15:$AG15,"P")+COUNTIF($C15:$AG15,"L")) | AI15: =IF(B15="","",COUNTIF($C15:$AG15,"L")) | AJ15: =IF(B15="","",COUNTIF($C15:$AG15,"A")) | AK15: =IF(B15="","",COUNTIF($C15:$AG15,"S")) | AL15: =IF(B15="","",COUNTIF($C15:$AG15,"V")) | AM15: =IF(B15="","",COUNTIF($C15:$AG15,"H"))
A16: =IF(B16="","",ROW()-6) | B16: =IF(Summary!$B16="","",Summary!$B16) | AH16: =IF(B16="","",COUNTIF($C16:$AG16,"P")+COUNTIF($C16:$AG16,"L")) | AI16: =IF(B16="","",COUNTIF($C16:$AG16,"L")) | AJ16: =IF(B16="","",COUNTIF($C16:$AG16,"A")) | AK16: =IF(B16="","",COUNTIF($C16:$AG16,"S")) | AL16: =IF(B16="","",COUNTIF($C16:$AG16,"V")) | AM16: =IF(B16="","",COUNTIF($C16:$AG16,"H"))
A17: =IF(B17="","",ROW()-6) | B17: =IF(Summary!$B17="","",Summary!$B17) | AH17: =IF(B17="","",COUNTIF($C17:$AG17,"P")+COUNTIF($C17:$AG17,"L")) | AI17: =IF(B17="","",COUNTIF($C17:$AG17,"L")) | AJ17: =IF(B17="","",COUNTIF($C17:$AG17,"A")) | AK17: =IF(B17="","",COUNTIF($C17:$AG17,"S")) | AL17: =IF(B17="","",COUNTIF($C17:$AG17,"V")) | AM17: =IF(B17="","",COUNTIF($C17:$AG17,"H"))
A18: =IF(B18="","",ROW()-6) | B18: =IF(Summary!$B18="","",Summary!$B18) | AH18: =IF(B18="","",COUNTIF($C18:$AG18,"P")+COUNTIF($C18:$AG18,"L")) | AI18: =IF(B18="","",COUNTIF($C18:$AG18,"L")) | AJ18: =IF(B18="","",COUNTIF($C18:$AG18,"A")) | AK18: =IF(B18="","",COUNTIF($C18:$AG18,"S")) | AL18: =IF(B18="","",COUNTIF($C18:$AG18,"V")) | AM18: =IF(B18="","",COUNTIF($C18:$AG18,"H"))
... A36: =IF(B36="","",ROW()-6) | B36: =IF(Summary!$B36="","",Summary!$B36) | AH36: =IF(B36="","",COUNTIF($C36:$AG36,"P")+COUNTIF($C36:$AG36,"L")) | AI36: =IF(B36="","",COUNTIF($C36:$AG36,"L")) | AJ36: =IF(B36="","",COUNTIF($C36:$AG36,"A")) | AK36: =IF(B36="","",COUNTIF($C36:$AG36,"S")) | AL36: =IF(B36="","",COUNTIF($C36:$AG36,"V")) | AM36: =IF(B36="","",COUNTIF($C36:$AG36,"H"))
A37: Totals per day
B38: Present (P + L) | C38: =IF(C$5="","",COUNTIF(C$7:C$36,"P")+COUNTIF(C$7:C$36,"L")) | D38: =IF(D$5="","",COUNTIF(D$7:D$36,"P")+COUNTIF(D$7:D$36,"L")) | E38: =IF(E$5="","",COUNTIF(E$7:E$36,"P")+COUNTIF(E$7:E$36,"L")) | F38: =IF(F$5="","",COUNTIF(F$7:F$36,"P")+COUNTIF(F$7:F$36,"L")) | G38: =IF(G$5="","",COUNTIF(G$7:G$36,"P")+COUNTIF(G$7:G$36,"L")) | H38: =IF(H$5="","",COUNTIF(H$7:H$36,"P")+COUNTIF(H$7:H$36,"L")) | I38: =IF(I$5="","",COUNTIF(I$7:I$36,"P")+COUNTIF(I$7:I$36,"L")) | J38: =IF(J$5="","",COUNTIF(J$7:J$36,"P")+COUNTIF(J$7:J$36,"L")) | ... AG38: =IF(AG$5="","",COUNTIF(AG$7:AG$36,"P")+COUNTIF(AG$7:AG$36,"L")) | AH38: =SUM(C38:AG38)
B39: Late | C39: =IF(C$5="","",COUNTIF(C$7:C$36,"L")) | D39: =IF(D$5="","",COUNTIF(D$7:D$36,"L")) | E39: =IF(E$5="","",COUNTIF(E$7:E$36,"L")) | F39: =IF(F$5="","",COUNTIF(F$7:F$36,"L")) | G39: =IF(G$5="","",COUNTIF(G$7:G$36,"L")) | H39: =IF(H$5="","",COUNTIF(H$7:H$36,"L")) | I39: =IF(I$5="","",COUNTIF(I$7:I$36,"L")) | J39: =IF(J$5="","",COUNTIF(J$7:J$36,"L")) | ... AG39: =IF(AG$5="","",COUNTIF(AG$7:AG$36,"L")) | AH39: =SUM(C39:AG39)
B40: Absent | C40: =IF(C$5="","",COUNTIF(C$7:C$36,"A")) | D40: =IF(D$5="","",COUNTIF(D$7:D$36,"A")) | E40: =IF(E$5="","",COUNTIF(E$7:E$36,"A")) | F40: =IF(F$5="","",COUNTIF(F$7:F$36,"A")) | G40: =IF(G$5="","",COUNTIF(G$7:G$36,"A")) | H40: =IF(H$5="","",COUNTIF(H$7:H$36,"A")) | I40: =IF(I$5="","",COUNTIF(I$7:I$36,"A")) | J40: =IF(J$5="","",COUNTIF(J$7:J$36,"A")) | ... AG40: =IF(AG$5="","",COUNTIF(AG$7:AG$36,"A")) | AH40: =SUM(C40:AG40)
B41: Sick | C41: =IF(C$5="","",COUNTIF(C$7:C$36,"S")) | D41: =IF(D$5="","",COUNTIF(D$7:D$36,"S")) | E41: =IF(E$5="","",COUNTIF(E$7:E$36,"S")) | F41: =IF(F$5="","",COUNTIF(F$7:F$36,"S")) | G41: =IF(G$5="","",COUNTIF(G$7:G$36,"S")) | H41: =IF(H$5="","",COUNTIF(H$7:H$36,"S")) | I41: =IF(I$5="","",COUNTIF(I$7:I$36,"S")) | J41: =IF(J$5="","",COUNTIF(J$7:J$36,"S")) | ... AG41: =IF(AG$5="","",COUNTIF(AG$7:AG$36,"S")) | AH41: =SUM(C41:AG41)
B42: Vacation | C42: =IF(C$5="","",COUNTIF(C$7:C$36,"V")) | D42: =IF(D$5="","",COUNTIF(D$7:D$36,"V")) | E42: =IF(E$5="","",COUNTIF(E$7:E$36,"V")) | F42: =IF(F$5="","",COUNTIF(F$7:F$36,"V")) | G42: =IF(G$5="","",COUNTIF(G$7:G$36,"V")) | H42: =IF(H$5="","",COUNTIF(H$7:H$36,"V")) | I42: =IF(I$5="","",COUNTIF(I$7:I$36,"V")) | J42: =IF(J$5="","",COUNTIF(J$7:J$36,"V")) | ... AG42: =IF(AG$5="","",COUNTIF(AG$7:AG$36,"V")) | AH42: =SUM(C42:AG42)
B43: Holiday | C43: =IF(C$5="","",COUNTIF(C$7:C$36,"H")) | D43: =IF(D$5="","",COUNTIF(D$7:D$36,"H")) | E43: =IF(E$5="","",COUNTIF(E$7:E$36,"H")) | F43: =IF(F$5="","",COUNTIF(F$7:F$36,"H")) | G43: =IF(G$5="","",COUNTIF(G$7:G$36,"H")) | H43: =IF(H$5="","",COUNTIF(H$7:H$36,"H")) | I43: =IF(I$5="","",COUNTIF(I$7:I$36,"H")) | J43: =IF(J$5="","",COUNTIF(J$7:J$36,"H")) | ... AG43: =IF(AG$5="","",COUNTIF(AG$7:AG$36,"H")) | AH43: =SUM(C43:AG43)
A45: Made with PunchClock · punchclock.ai/tools

Sheet Dec 2026
A1: =IF($A$3="","Attendance register","Attendance register – "&TEXT($A$3,"mmmm yyyy"))
A2: One row per employee, one column per day. Type a code in each cell; the dropdown lists them. Names come from the Summary sheet.
A3: =IF(C3="","",DATE(YEAR(C3),MONTH(C3),1)) | B3: Month | C3: =DATE(Summary!$B$3,12,1) | K3: Codes: | L3: P | M3: Present | P3: L | Q3: Late | T3: A | U3: Absent | X3: S | Y3: Sick | AB3: V | AC3: Vacation | AF3: H | AG3: Holiday
A4: Yellow cells are yours to fill in. White cells are worked out for you and locked (Review › Unprotect Sheet, no password, if you need to change them).
C5: =IF($A$3="","",IF(C$6>DAY(EOMONTH($A$3,0)),"",CHOOSE(WEEKDAY(DATE(YEAR($A$3),MONTH($A$3),C$6)),"Su","Mo","Tu","We","Th","Fr","Sa"))) | D5: =IF($A$3="","",IF(D$6>DAY(EOMONTH($A$3,0)),"",CHOOSE(WEEKDAY(DATE(YEAR($A$3),MONTH($A$3),D$6)),"Su","Mo","Tu","We","Th","Fr","Sa"))) | E5: =IF($A$3="","",IF(E$6>DAY(EOMONTH($A$3,0)),"",CHOOSE(WEEKDAY(DATE(YEAR($A$3),MONTH($A$3),E$6)),"Su","Mo","Tu","We","Th","Fr","Sa"))) | F5: =IF($A$3="","",IF(F$6>DAY(EOMONTH($A$3,0)),"",CHOOSE(WEEKDAY(DATE(YEAR($A$3),MONTH($A$3),F$6)),"Su","Mo","Tu","We","Th","Fr","Sa"))) | G5: =IF($A$3="","",IF(G$6>DAY(EOMONTH($A$3,0)),"",CHOOSE(WEEKDAY(DATE(YEAR($A$3),MONTH($A$3),G$6)),"Su","Mo","Tu","We","Th","Fr","Sa"))) | H5: =IF($A$3="","",IF(H$6>DAY(EOMONTH($A$3,0)),"",CHOOSE(WEEKDAY(DATE(YEAR($A$3),MONTH($A$3),H$6)),"Su","Mo","Tu","We","Th","Fr","Sa"))) | I5: =IF($A$3="","",IF(I$6>DAY(EOMONTH($A$3,0)),"",CHOOSE(WEEKDAY(DATE(YEAR($A$3),MONTH($A$3),I$6)),"Su","Mo","Tu","We","Th","Fr","Sa"))) | J5: =IF($A$3="","",IF(J$6>DAY(EOMONTH($A$3,0)),"",CHOOSE(WEEKDAY(DATE(YEAR($A$3),MONTH($A$3),J$6)),"Su","Mo","Tu","We","Th","Fr","Sa"))) | ... AG5: =IF($A$3="","",IF(AG$6>DAY(EOMONTH($A$3,0)),"",CHOOSE(WEEKDAY(DATE(YEAR($A$3),MONTH($A$3),AG$6)),"Su","Mo","Tu","We","Th","Fr","Sa")))
A6: # | B6: Employee | C6: 1 | D6: 2 | E6: 3 | F6: 4 | G6: 5 | H6: 6 | I6: 7 | J6: 8 | K6: 9 | L6: 10 | M6: 11 | N6: 12 | O6: 13 | P6: 14 | Q6: 15 | R6: 16 | S6: 17 | T6: 18 | U6: 19 | V6: 20 | W6: 21 | X6: 22 | Y6: 23 | Z6: 24 | AA6: 25 | AB6: 26 | AC6: 27 | AD6: 28 | AE6: 29 | AF6: 30 | AG6: 31 | AH6: Present | AI6: Late | AJ6: Absent | AK6: Sick | AL6: Vacation | AM6: Holiday
A7: =IF(B7="","",ROW()-6) | B7: =IF(Summary!$B7="","",Summary!$B7) | AH7: =IF(B7="","",COUNTIF($C7:$AG7,"P")+COUNTIF($C7:$AG7,"L")) | AI7: =IF(B7="","",COUNTIF($C7:$AG7,"L")) | AJ7: =IF(B7="","",COUNTIF($C7:$AG7,"A")) | AK7: =IF(B7="","",COUNTIF($C7:$AG7,"S")) | AL7: =IF(B7="","",COUNTIF($C7:$AG7,"V")) | AM7: =IF(B7="","",COUNTIF($C7:$AG7,"H"))
A8: =IF(B8="","",ROW()-6) | B8: =IF(Summary!$B8="","",Summary!$B8) | AH8: =IF(B8="","",COUNTIF($C8:$AG8,"P")+COUNTIF($C8:$AG8,"L")) | AI8: =IF(B8="","",COUNTIF($C8:$AG8,"L")) | AJ8: =IF(B8="","",COUNTIF($C8:$AG8,"A")) | AK8: =IF(B8="","",COUNTIF($C8:$AG8,"S")) | AL8: =IF(B8="","",COUNTIF($C8:$AG8,"V")) | AM8: =IF(B8="","",COUNTIF($C8:$AG8,"H"))
A9: =IF(B9="","",ROW()-6) | B9: =IF(Summary!$B9="","",Summary!$B9) | AH9: =IF(B9="","",COUNTIF($C9:$AG9,"P")+COUNTIF($C9:$AG9,"L")) | AI9: =IF(B9="","",COUNTIF($C9:$AG9,"L")) | AJ9: =IF(B9="","",COUNTIF($C9:$AG9,"A")) | AK9: =IF(B9="","",COUNTIF($C9:$AG9,"S")) | AL9: =IF(B9="","",COUNTIF($C9:$AG9,"V")) | AM9: =IF(B9="","",COUNTIF($C9:$AG9,"H"))
A10: =IF(B10="","",ROW()-6) | B10: =IF(Summary!$B10="","",Summary!$B10) | AH10: =IF(B10="","",COUNTIF($C10:$AG10,"P")+COUNTIF($C10:$AG10,"L")) | AI10: =IF(B10="","",COUNTIF($C10:$AG10,"L")) | AJ10: =IF(B10="","",COUNTIF($C10:$AG10,"A")) | AK10: =IF(B10="","",COUNTIF($C10:$AG10,"S")) | AL10: =IF(B10="","",COUNTIF($C10:$AG10,"V")) | AM10: =IF(B10="","",COUNTIF($C10:$AG10,"H"))
A11: =IF(B11="","",ROW()-6) | B11: =IF(Summary!$B11="","",Summary!$B11) | AH11: =IF(B11="","",COUNTIF($C11:$AG11,"P")+COUNTIF($C11:$AG11,"L")) | AI11: =IF(B11="","",COUNTIF($C11:$AG11,"L")) | AJ11: =IF(B11="","",COUNTIF($C11:$AG11,"A")) | AK11: =IF(B11="","",COUNTIF($C11:$AG11,"S")) | AL11: =IF(B11="","",COUNTIF($C11:$AG11,"V")) | AM11: =IF(B11="","",COUNTIF($C11:$AG11,"H"))
A12: =IF(B12="","",ROW()-6) | B12: =IF(Summary!$B12="","",Summary!$B12) | AH12: =IF(B12="","",COUNTIF($C12:$AG12,"P")+COUNTIF($C12:$AG12,"L")) | AI12: =IF(B12="","",COUNTIF($C12:$AG12,"L")) | AJ12: =IF(B12="","",COUNTIF($C12:$AG12,"A")) | AK12: =IF(B12="","",COUNTIF($C12:$AG12,"S")) | AL12: =IF(B12="","",COUNTIF($C12:$AG12,"V")) | AM12: =IF(B12="","",COUNTIF($C12:$AG12,"H"))
A13: =IF(B13="","",ROW()-6) | B13: =IF(Summary!$B13="","",Summary!$B13) | AH13: =IF(B13="","",COUNTIF($C13:$AG13,"P")+COUNTIF($C13:$AG13,"L")) | AI13: =IF(B13="","",COUNTIF($C13:$AG13,"L")) | AJ13: =IF(B13="","",COUNTIF($C13:$AG13,"A")) | AK13: =IF(B13="","",COUNTIF($C13:$AG13,"S")) | AL13: =IF(B13="","",COUNTIF($C13:$AG13,"V")) | AM13: =IF(B13="","",COUNTIF($C13:$AG13,"H"))
A14: =IF(B14="","",ROW()-6) | B14: =IF(Summary!$B14="","",Summary!$B14) | AH14: =IF(B14="","",COUNTIF($C14:$AG14,"P")+COUNTIF($C14:$AG14,"L")) | AI14: =IF(B14="","",COUNTIF($C14:$AG14,"L")) | AJ14: =IF(B14="","",COUNTIF($C14:$AG14,"A")) | AK14: =IF(B14="","",COUNTIF($C14:$AG14,"S")) | AL14: =IF(B14="","",COUNTIF($C14:$AG14,"V")) | AM14: =IF(B14="","",COUNTIF($C14:$AG14,"H"))
A15: =IF(B15="","",ROW()-6) | B15: =IF(Summary!$B15="","",Summary!$B15) | AH15: =IF(B15="","",COUNTIF($C15:$AG15,"P")+COUNTIF($C15:$AG15,"L")) | AI15: =IF(B15="","",COUNTIF($C15:$AG15,"L")) | AJ15: =IF(B15="","",COUNTIF($C15:$AG15,"A")) | AK15: =IF(B15="","",COUNTIF($C15:$AG15,"S")) | AL15: =IF(B15="","",COUNTIF($C15:$AG15,"V")) | AM15: =IF(B15="","",COUNTIF($C15:$AG15,"H"))
A16: =IF(B16="","",ROW()-6) | B16: =IF(Summary!$B16="","",Summary!$B16) | AH16: =IF(B16="","",COUNTIF($C16:$AG16,"P")+COUNTIF($C16:$AG16,"L")) | AI16: =IF(B16="","",COUNTIF($C16:$AG16,"L")) | AJ16: =IF(B16="","",COUNTIF($C16:$AG16,"A")) | AK16: =IF(B16="","",COUNTIF($C16:$AG16,"S")) | AL16: =IF(B16="","",COUNTIF($C16:$AG16,"V")) | AM16: =IF(B16="","",COUNTIF($C16:$AG16,"H"))
A17: =IF(B17="","",ROW()-6) | B17: =IF(Summary!$B17="","",Summary!$B17) | AH17: =IF(B17="","",COUNTIF($C17:$AG17,"P")+COUNTIF($C17:$AG17,"L")) | AI17: =IF(B17="","",COUNTIF($C17:$AG17,"L")) | AJ17: =IF(B17="","",COUNTIF($C17:$AG17,"A")) | AK17: =IF(B17="","",COUNTIF($C17:$AG17,"S")) | AL17: =IF(B17="","",COUNTIF($C17:$AG17,"V")) | AM17: =IF(B17="","",COUNTIF($C17:$AG17,"H"))
A18: =IF(B18="","",ROW()-6) | B18: =IF(Summary!$B18="","",Summary!$B18) | AH18: =IF(B18="","",COUNTIF($C18:$AG18,"P")+COUNTIF($C18:$AG18,"L")) | AI18: =IF(B18="","",COUNTIF($C18:$AG18,"L")) | AJ18: =IF(B18="","",COUNTIF($C18:$AG18,"A")) | AK18: =IF(B18="","",COUNTIF($C18:$AG18,"S")) | AL18: =IF(B18="","",COUNTIF($C18:$AG18,"V")) | AM18: =IF(B18="","",COUNTIF($C18:$AG18,"H"))
... A36: =IF(B36="","",ROW()-6) | B36: =IF(Summary!$B36="","",Summary!$B36) | AH36: =IF(B36="","",COUNTIF($C36:$AG36,"P")+COUNTIF($C36:$AG36,"L")) | AI36: =IF(B36="","",COUNTIF($C36:$AG36,"L")) | AJ36: =IF(B36="","",COUNTIF($C36:$AG36,"A")) | AK36: =IF(B36="","",COUNTIF($C36:$AG36,"S")) | AL36: =IF(B36="","",COUNTIF($C36:$AG36,"V")) | AM36: =IF(B36="","",COUNTIF($C36:$AG36,"H"))
A37: Totals per day
B38: Present (P + L) | C38: =IF(C$5="","",COUNTIF(C$7:C$36,"P")+COUNTIF(C$7:C$36,"L")) | D38: =IF(D$5="","",COUNTIF(D$7:D$36,"P")+COUNTIF(D$7:D$36,"L")) | E38: =IF(E$5="","",COUNTIF(E$7:E$36,"P")+COUNTIF(E$7:E$36,"L")) | F38: =IF(F$5="","",COUNTIF(F$7:F$36,"P")+COUNTIF(F$7:F$36,"L")) | G38: =IF(G$5="","",COUNTIF(G$7:G$36,"P")+COUNTIF(G$7:G$36,"L")) | H38: =IF(H$5="","",COUNTIF(H$7:H$36,"P")+COUNTIF(H$7:H$36,"L")) | I38: =IF(I$5="","",COUNTIF(I$7:I$36,"P")+COUNTIF(I$7:I$36,"L")) | J38: =IF(J$5="","",COUNTIF(J$7:J$36,"P")+COUNTIF(J$7:J$36,"L")) | ... AG38: =IF(AG$5="","",COUNTIF(AG$7:AG$36,"P")+COUNTIF(AG$7:AG$36,"L")) | AH38: =SUM(C38:AG38)
B39: Late | C39: =IF(C$5="","",COUNTIF(C$7:C$36,"L")) | D39: =IF(D$5="","",COUNTIF(D$7:D$36,"L")) | E39: =IF(E$5="","",COUNTIF(E$7:E$36,"L")) | F39: =IF(F$5="","",COUNTIF(F$7:F$36,"L")) | G39: =IF(G$5="","",COUNTIF(G$7:G$36,"L")) | H39: =IF(H$5="","",COUNTIF(H$7:H$36,"L")) | I39: =IF(I$5="","",COUNTIF(I$7:I$36,"L")) | J39: =IF(J$5="","",COUNTIF(J$7:J$36,"L")) | ... AG39: =IF(AG$5="","",COUNTIF(AG$7:AG$36,"L")) | AH39: =SUM(C39:AG39)
B40: Absent | C40: =IF(C$5="","",COUNTIF(C$7:C$36,"A")) | D40: =IF(D$5="","",COUNTIF(D$7:D$36,"A")) | E40: =IF(E$5="","",COUNTIF(E$7:E$36,"A")) | F40: =IF(F$5="","",COUNTIF(F$7:F$36,"A")) | G40: =IF(G$5="","",COUNTIF(G$7:G$36,"A")) | H40: =IF(H$5="","",COUNTIF(H$7:H$36,"A")) | I40: =IF(I$5="","",COUNTIF(I$7:I$36,"A")) | J40: =IF(J$5="","",COUNTIF(J$7:J$36,"A")) | ... AG40: =IF(AG$5="","",COUNTIF(AG$7:AG$36,"A")) | AH40: =SUM(C40:AG40)
B41: Sick | C41: =IF(C$5="","",COUNTIF(C$7:C$36,"S")) | D41: =IF(D$5="","",COUNTIF(D$7:D$36,"S")) | E41: =IF(E$5="","",COUNTIF(E$7:E$36,"S")) | F41: =IF(F$5="","",COUNTIF(F$7:F$36,"S")) | G41: =IF(G$5="","",COUNTIF(G$7:G$36,"S")) | H41: =IF(H$5="","",COUNTIF(H$7:H$36,"S")) | I41: =IF(I$5="","",COUNTIF(I$7:I$36,"S")) | J41: =IF(J$5="","",COUNTIF(J$7:J$36,"S")) | ... AG41: =IF(AG$5="","",COUNTIF(AG$7:AG$36,"S")) | AH41: =SUM(C41:AG41)
B42: Vacation | C42: =IF(C$5="","",COUNTIF(C$7:C$36,"V")) | D42: =IF(D$5="","",COUNTIF(D$7:D$36,"V")) | E42: =IF(E$5="","",COUNTIF(E$7:E$36,"V")) | F42: =IF(F$5="","",COUNTIF(F$7:F$36,"V")) | G42: =IF(G$5="","",COUNTIF(G$7:G$36,"V")) | H42: =IF(H$5="","",COUNTIF(H$7:H$36,"V")) | I42: =IF(I$5="","",COUNTIF(I$7:I$36,"V")) | J42: =IF(J$5="","",COUNTIF(J$7:J$36,"V")) | ... AG42: =IF(AG$5="","",COUNTIF(AG$7:AG$36,"V")) | AH42: =SUM(C42:AG42)
B43: Holiday | C43: =IF(C$5="","",COUNTIF(C$7:C$36,"H")) | D43: =IF(D$5="","",COUNTIF(D$7:D$36,"H")) | E43: =IF(E$5="","",COUNTIF(E$7:E$36,"H")) | F43: =IF(F$5="","",COUNTIF(F$7:F$36,"H")) | G43: =IF(G$5="","",COUNTIF(G$7:G$36,"H")) | H43: =IF(H$5="","",COUNTIF(H$7:H$36,"H")) | I43: =IF(I$5="","",COUNTIF(I$7:I$36,"H")) | J43: =IF(J$5="","",COUNTIF(J$7:J$36,"H")) | ... AG43: =IF(AG$5="","",COUNTIF(AG$7:AG$36,"H")) | AH43: =SUM(C43:AG43)
A45: Made with PunchClock · punchclock.ai/tools

Sheet Month
A1: =IF($A$3="","Attendance register","Attendance register – "&TEXT($A$3,"mmmm yyyy"))
A2: One row per employee, one column per day. Type a code in each cell; the dropdown lists them. Names come from the Summary sheet.
A3: =IF(C3="","",DATE(YEAR(C3),MONTH(C3),1)) | B3: Month | K3: Codes: | L3: P | M3: Present | P3: L | Q3: Late | T3: A | U3: Absent | X3: S | Y3: Sick | AB3: V | AC3: Vacation | AF3: H | AG3: Holiday
A4: Yellow cells are yours to fill in. White cells are worked out for you and locked (Review › Unprotect Sheet, no password, if you need to change them).
C5: =IF($A$3="","",IF(C$6>DAY(EOMONTH($A$3,0)),"",CHOOSE(WEEKDAY(DATE(YEAR($A$3),MONTH($A$3),C$6)),"Su","Mo","Tu","We","Th","Fr","Sa"))) | D5: =IF($A$3="","",IF(D$6>DAY(EOMONTH($A$3,0)),"",CHOOSE(WEEKDAY(DATE(YEAR($A$3),MONTH($A$3),D$6)),"Su","Mo","Tu","We","Th","Fr","Sa"))) | E5: =IF($A$3="","",IF(E$6>DAY(EOMONTH($A$3,0)),"",CHOOSE(WEEKDAY(DATE(YEAR($A$3),MONTH($A$3),E$6)),"Su","Mo","Tu","We","Th","Fr","Sa"))) | F5: =IF($A$3="","",IF(F$6>DAY(EOMONTH($A$3,0)),"",CHOOSE(WEEKDAY(DATE(YEAR($A$3),MONTH($A$3),F$6)),"Su","Mo","Tu","We","Th","Fr","Sa"))) | G5: =IF($A$3="","",IF(G$6>DAY(EOMONTH($A$3,0)),"",CHOOSE(WEEKDAY(DATE(YEAR($A$3),MONTH($A$3),G$6)),"Su","Mo","Tu","We","Th","Fr","Sa"))) | H5: =IF($A$3="","",IF(H$6>DAY(EOMONTH($A$3,0)),"",CHOOSE(WEEKDAY(DATE(YEAR($A$3),MONTH($A$3),H$6)),"Su","Mo","Tu","We","Th","Fr","Sa"))) | I5: =IF($A$3="","",IF(I$6>DAY(EOMONTH($A$3,0)),"",CHOOSE(WEEKDAY(DATE(YEAR($A$3),MONTH($A$3),I$6)),"Su","Mo","Tu","We","Th","Fr","Sa"))) | J5: =IF($A$3="","",IF(J$6>DAY(EOMONTH($A$3,0)),"",CHOOSE(WEEKDAY(DATE(YEAR($A$3),MONTH($A$3),J$6)),"Su","Mo","Tu","We","Th","Fr","Sa"))) | ... AG5: =IF($A$3="","",IF(AG$6>DAY(EOMONTH($A$3,0)),"",CHOOSE(WEEKDAY(DATE(YEAR($A$3),MONTH($A$3),AG$6)),"Su","Mo","Tu","We","Th","Fr","Sa")))
A6: # | B6: Employee | C6: 1 | D6: 2 | E6: 3 | F6: 4 | G6: 5 | H6: 6 | I6: 7 | J6: 8 | K6: 9 | L6: 10 | M6: 11 | N6: 12 | O6: 13 | P6: 14 | Q6: 15 | R6: 16 | S6: 17 | T6: 18 | U6: 19 | V6: 20 | W6: 21 | X6: 22 | Y6: 23 | Z6: 24 | AA6: 25 | AB6: 26 | AC6: 27 | AD6: 28 | AE6: 29 | AF6: 30 | AG6: 31 | AH6: Present | AI6: Late | AJ6: Absent | AK6: Sick | AL6: Vacation | AM6: Holiday
A7: =IF(B7="","",ROW()-6) | B7: =IF(Summary!$B7="","",Summary!$B7) | AH7: =IF(B7="","",COUNTIF($C7:$AG7,"P")+COUNTIF($C7:$AG7,"L")) | AI7: =IF(B7="","",COUNTIF($C7:$AG7,"L")) | AJ7: =IF(B7="","",COUNTIF($C7:$AG7,"A")) | AK7: =IF(B7="","",COUNTIF($C7:$AG7,"S")) | AL7: =IF(B7="","",COUNTIF($C7:$AG7,"V")) | AM7: =IF(B7="","",COUNTIF($C7:$AG7,"H"))
A8: =IF(B8="","",ROW()-6) | B8: =IF(Summary!$B8="","",Summary!$B8) | AH8: =IF(B8="","",COUNTIF($C8:$AG8,"P")+COUNTIF($C8:$AG8,"L")) | AI8: =IF(B8="","",COUNTIF($C8:$AG8,"L")) | AJ8: =IF(B8="","",COUNTIF($C8:$AG8,"A")) | AK8: =IF(B8="","",COUNTIF($C8:$AG8,"S")) | AL8: =IF(B8="","",COUNTIF($C8:$AG8,"V")) | AM8: =IF(B8="","",COUNTIF($C8:$AG8,"H"))
A9: =IF(B9="","",ROW()-6) | B9: =IF(Summary!$B9="","",Summary!$B9) | AH9: =IF(B9="","",COUNTIF($C9:$AG9,"P")+COUNTIF($C9:$AG9,"L")) | AI9: =IF(B9="","",COUNTIF($C9:$AG9,"L")) | AJ9: =IF(B9="","",COUNTIF($C9:$AG9,"A")) | AK9: =IF(B9="","",COUNTIF($C9:$AG9,"S")) | AL9: =IF(B9="","",COUNTIF($C9:$AG9,"V")) | AM9: =IF(B9="","",COUNTIF($C9:$AG9,"H"))
A10: =IF(B10="","",ROW()-6) | B10: =IF(Summary!$B10="","",Summary!$B10) | AH10: =IF(B10="","",COUNTIF($C10:$AG10,"P")+COUNTIF($C10:$AG10,"L")) | AI10: =IF(B10="","",COUNTIF($C10:$AG10,"L")) | AJ10: =IF(B10="","",COUNTIF($C10:$AG10,"A")) | AK10: =IF(B10="","",COUNTIF($C10:$AG10,"S")) | AL10: =IF(B10="","",COUNTIF($C10:$AG10,"V")) | AM10: =IF(B10="","",COUNTIF($C10:$AG10,"H"))
A11: =IF(B11="","",ROW()-6) | B11: =IF(Summary!$B11="","",Summary!$B11) | AH11: =IF(B11="","",COUNTIF($C11:$AG11,"P")+COUNTIF($C11:$AG11,"L")) | AI11: =IF(B11="","",COUNTIF($C11:$AG11,"L")) | AJ11: =IF(B11="","",COUNTIF($C11:$AG11,"A")) | AK11: =IF(B11="","",COUNTIF($C11:$AG11,"S")) | AL11: =IF(B11="","",COUNTIF($C11:$AG11,"V")) | AM11: =IF(B11="","",COUNTIF($C11:$AG11,"H"))
A12: =IF(B12="","",ROW()-6) | B12: =IF(Summary!$B12="","",Summary!$B12) | AH12: =IF(B12="","",COUNTIF($C12:$AG12,"P")+COUNTIF($C12:$AG12,"L")) | AI12: =IF(B12="","",COUNTIF($C12:$AG12,"L")) | AJ12: =IF(B12="","",COUNTIF($C12:$AG12,"A")) | AK12: =IF(B12="","",COUNTIF($C12:$AG12,"S")) | AL12: =IF(B12="","",COUNTIF($C12:$AG12,"V")) | AM12: =IF(B12="","",COUNTIF($C12:$AG12,"H"))
A13: =IF(B13="","",ROW()-6) | B13: =IF(Summary!$B13="","",Summary!$B13) | AH13: =IF(B13="","",COUNTIF($C13:$AG13,"P")+COUNTIF($C13:$AG13,"L")) | AI13: =IF(B13="","",COUNTIF($C13:$AG13,"L")) | AJ13: =IF(B13="","",COUNTIF($C13:$AG13,"A")) | AK13: =IF(B13="","",COUNTIF($C13:$AG13,"S")) | AL13: =IF(B13="","",COUNTIF($C13:$AG13,"V")) | AM13: =IF(B13="","",COUNTIF($C13:$AG13,"H"))
A14: =IF(B14="","",ROW()-6) | B14: =IF(Summary!$B14="","",Summary!$B14) | AH14: =IF(B14="","",COUNTIF($C14:$AG14,"P")+COUNTIF($C14:$AG14,"L")) | AI14: =IF(B14="","",COUNTIF($C14:$AG14,"L")) | AJ14: =IF(B14="","",COUNTIF($C14:$AG14,"A")) | AK14: =IF(B14="","",COUNTIF($C14:$AG14,"S")) | AL14: =IF(B14="","",COUNTIF($C14:$AG14,"V")) | AM14: =IF(B14="","",COUNTIF($C14:$AG14,"H"))
A15: =IF(B15="","",ROW()-6) | B15: =IF(Summary!$B15="","",Summary!$B15) | AH15: =IF(B15="","",COUNTIF($C15:$AG15,"P")+COUNTIF($C15:$AG15,"L")) | AI15: =IF(B15="","",COUNTIF($C15:$AG15,"L")) | AJ15: =IF(B15="","",COUNTIF($C15:$AG15,"A")) | AK15: =IF(B15="","",COUNTIF($C15:$AG15,"S")) | AL15: =IF(B15="","",COUNTIF($C15:$AG15,"V")) | AM15: =IF(B15="","",COUNTIF($C15:$AG15,"H"))
A16: =IF(B16="","",ROW()-6) | B16: =IF(Summary!$B16="","",Summary!$B16) | AH16: =IF(B16="","",COUNTIF($C16:$AG16,"P")+COUNTIF($C16:$AG16,"L")) | AI16: =IF(B16="","",COUNTIF($C16:$AG16,"L")) | AJ16: =IF(B16="","",COUNTIF($C16:$AG16,"A")) | AK16: =IF(B16="","",COUNTIF($C16:$AG16,"S")) | AL16: =IF(B16="","",COUNTIF($C16:$AG16,"V")) | AM16: =IF(B16="","",COUNTIF($C16:$AG16,"H"))
A17: =IF(B17="","",ROW()-6) | B17: =IF(Summary!$B17="","",Summary!$B17) | AH17: =IF(B17="","",COUNTIF($C17:$AG17,"P")+COUNTIF($C17:$AG17,"L")) | AI17: =IF(B17="","",COUNTIF($C17:$AG17,"L")) | AJ17: =IF(B17="","",COUNTIF($C17:$AG17,"A")) | AK17: =IF(B17="","",COUNTIF($C17:$AG17,"S")) | AL17: =IF(B17="","",COUNTIF($C17:$AG17,"V")) | AM17: =IF(B17="","",COUNTIF($C17:$AG17,"H"))
A18: =IF(B18="","",ROW()-6) | B18: =IF(Summary!$B18="","",Summary!$B18) | AH18: =IF(B18="","",COUNTIF($C18:$AG18,"P")+COUNTIF($C18:$AG18,"L")) | AI18: =IF(B18="","",COUNTIF($C18:$AG18,"L")) | AJ18: =IF(B18="","",COUNTIF($C18:$AG18,"A")) | AK18: =IF(B18="","",COUNTIF($C18:$AG18,"S")) | AL18: =IF(B18="","",COUNTIF($C18:$AG18,"V")) | AM18: =IF(B18="","",COUNTIF($C18:$AG18,"H"))
... A36: =IF(B36="","",ROW()-6) | B36: =IF(Summary!$B36="","",Summary!$B36) | AH36: =IF(B36="","",COUNTIF($C36:$AG36,"P")+COUNTIF($C36:$AG36,"L")) | AI36: =IF(B36="","",COUNTIF($C36:$AG36,"L")) | AJ36: =IF(B36="","",COUNTIF($C36:$AG36,"A")) | AK36: =IF(B36="","",COUNTIF($C36:$AG36,"S")) | AL36: =IF(B36="","",COUNTIF($C36:$AG36,"V")) | AM36: =IF(B36="","",COUNTIF($C36:$AG36,"H"))
A37: Totals per day
B38: Present (P + L) | C38: =IF(C$5="","",COUNTIF(C$7:C$36,"P")+COUNTIF(C$7:C$36,"L")) | D38: =IF(D$5="","",COUNTIF(D$7:D$36,"P")+COUNTIF(D$7:D$36,"L")) | E38: =IF(E$5="","",COUNTIF(E$7:E$36,"P")+COUNTIF(E$7:E$36,"L")) | F38: =IF(F$5="","",COUNTIF(F$7:F$36,"P")+COUNTIF(F$7:F$36,"L")) | G38: =IF(G$5="","",COUNTIF(G$7:G$36,"P")+COUNTIF(G$7:G$36,"L")) | H38: =IF(H$5="","",COUNTIF(H$7:H$36,"P")+COUNTIF(H$7:H$36,"L")) | I38: =IF(I$5="","",COUNTIF(I$7:I$36,"P")+COUNTIF(I$7:I$36,"L")) | J38: =IF(J$5="","",COUNTIF(J$7:J$36,"P")+COUNTIF(J$7:J$36,"L")) | ... AG38: =IF(AG$5="","",COUNTIF(AG$7:AG$36,"P")+COUNTIF(AG$7:AG$36,"L")) | AH38: =SUM(C38:AG38)
B39: Late | C39: =IF(C$5="","",COUNTIF(C$7:C$36,"L")) | D39: =IF(D$5="","",COUNTIF(D$7:D$36,"L")) | E39: =IF(E$5="","",COUNTIF(E$7:E$36,"L")) | F39: =IF(F$5="","",COUNTIF(F$7:F$36,"L")) | G39: =IF(G$5="","",COUNTIF(G$7:G$36,"L")) | H39: =IF(H$5="","",COUNTIF(H$7:H$36,"L")) | I39: =IF(I$5="","",COUNTIF(I$7:I$36,"L")) | J39: =IF(J$5="","",COUNTIF(J$7:J$36,"L")) | ... AG39: =IF(AG$5="","",COUNTIF(AG$7:AG$36,"L")) | AH39: =SUM(C39:AG39)
B40: Absent | C40: =IF(C$5="","",COUNTIF(C$7:C$36,"A")) | D40: =IF(D$5="","",COUNTIF(D$7:D$36,"A")) | E40: =IF(E$5="","",COUNTIF(E$7:E$36,"A")) | F40: =IF(F$5="","",COUNTIF(F$7:F$36,"A")) | G40: =IF(G$5="","",COUNTIF(G$7:G$36,"A")) | H40: =IF(H$5="","",COUNTIF(H$7:H$36,"A")) | I40: =IF(I$5="","",COUNTIF(I$7:I$36,"A")) | J40: =IF(J$5="","",COUNTIF(J$7:J$36,"A")) | ... AG40: =IF(AG$5="","",COUNTIF(AG$7:AG$36,"A")) | AH40: =SUM(C40:AG40)
B41: Sick | C41: =IF(C$5="","",COUNTIF(C$7:C$36,"S")) | D41: =IF(D$5="","",COUNTIF(D$7:D$36,"S")) | E41: =IF(E$5="","",COUNTIF(E$7:E$36,"S")) | F41: =IF(F$5="","",COUNTIF(F$7:F$36,"S")) | G41: =IF(G$5="","",COUNTIF(G$7:G$36,"S")) | H41: =IF(H$5="","",COUNTIF(H$7:H$36,"S")) | I41: =IF(I$5="","",COUNTIF(I$7:I$36,"S")) | J41: =IF(J$5="","",COUNTIF(J$7:J$36,"S")) | ... AG41: =IF(AG$5="","",COUNTIF(AG$7:AG$36,"S")) | AH41: =SUM(C41:AG41)
B42: Vacation | C42: =IF(C$5="","",COUNTIF(C$7:C$36,"V")) | D42: =IF(D$5="","",COUNTIF(D$7:D$36,"V")) | E42: =IF(E$5="","",COUNTIF(E$7:E$36,"V")) | F42: =IF(F$5="","",COUNTIF(F$7:F$36,"V")) | G42: =IF(G$5="","",COUNTIF(G$7:G$36,"V")) | H42: =IF(H$5="","",COUNTIF(H$7:H$36,"V")) | I42: =IF(I$5="","",COUNTIF(I$7:I$36,"V")) | J42: =IF(J$5="","",COUNTIF(J$7:J$36,"V")) | ... AG42: =IF(AG$5="","",COUNTIF(AG$7:AG$36,"V")) | AH42: =SUM(C42:AG42)
B43: Holiday | C43: =IF(C$5="","",COUNTIF(C$7:C$36,"H")) | D43: =IF(D$5="","",COUNTIF(D$7:D$36,"H")) | E43: =IF(E$5="","",COUNTIF(E$7:E$36,"H")) | F43: =IF(F$5="","",COUNTIF(F$7:F$36,"H")) | G43: =IF(G$5="","",COUNTIF(G$7:G$36,"H")) | H43: =IF(H$5="","",COUNTIF(H$7:H$36,"H")) | I43: =IF(I$5="","",COUNTIF(I$7:I$36,"H")) | J43: =IF(J$5="","",COUNTIF(J$7:J$36,"H")) | ... AG43: =IF(AG$5="","",COUNTIF(AG$7:AG$36,"H")) | AH43: =SUM(C43:AG43)
A45: Made with PunchClock · punchclock.ai/tools

Sheet Summary
A1: Attendance register
A2: Type the year and the employee names here once; the twelve month sheets use them. Totals below add up the whole year.
A3: Year | B3: 2026
A4: Company
A5: Yellow cells are yours to fill in. White cells are worked out for you and locked (Review › Unprotect Sheet, no password, if you need to change them).
A6: # | B6: Employee | C6: Present | D6: Late | E6: Absent | F6: Sick | G6: Vacation | H6: Holiday
A7: =IF(B7="","",ROW()-6) | B7: Alex Example | C7: =IF(B7="","",SUM('Jan 2026'!AH7,'Feb 2026'!AH7,'Mar 2026'!AH7,'Apr 2026'!AH7,'May 2026'!AH7,'Jun 2026'!AH7,'Jul 2026'!AH7,'Aug 2026'!AH7,'Sep 2026'!AH7,'Oct 2026'!AH7,'Nov 2026'!AH7,'Dec 2026'!AH7)) | D7: =IF(B7="","",SUM('Jan 2026'!AI7,'Feb 2026'!AI7,'Mar 2026'!AI7,'Apr 2026'!AI7,'May 2026'!AI7,'Jun 2026'!AI7,'Jul 2026'!AI7,'Aug 2026'!AI7,'Sep 2026'!AI7,'Oct 2026'!AI7,'Nov 2026'!AI7,'Dec 2026'!AI7)) | E7: =IF(B7="","",SUM('Jan 2026'!AJ7,'Feb 2026'!AJ7,'Mar 2026'!AJ7,'Apr 2026'!AJ7,'May 2026'!AJ7,'Jun 2026'!AJ7,'Jul 2026'!AJ7,'Aug 2026'!AJ7,'Sep 2026'!AJ7,'Oct 2026'!AJ7,'Nov 2026'!AJ7,'Dec 2026'!AJ7)) | F7: =IF(B7="","",SUM('Jan 2026'!AK7,'Feb 2026'!AK7,'Mar 2026'!AK7,'Apr 2026'!AK7,'May 2026'!AK7,'Jun 2026'!AK7,'Jul 2026'!AK7,'Aug 2026'!AK7,'Sep 2026'!AK7,'Oct 2026'!AK7,'Nov 2026'!AK7,'Dec 2026'!AK7)) | G7: =IF(B7="","",SUM('Jan 2026'!AL7,'Feb 2026'!AL7,'Mar 2026'!AL7,'Apr 2026'!AL7,'May 2026'!AL7,'Jun 2026'!AL7,'Jul 2026'!AL7,'Aug 2026'!AL7,'Sep 2026'!AL7,'Oct 2026'!AL7,'Nov 2026'!AL7,'Dec 2026'!AL7)) | H7: =IF(B7="","",SUM('Jan 2026'!AM7,'Feb 2026'!AM7,'Mar 2026'!AM7,'Apr 2026'!AM7,'May 2026'!AM7,'Jun 2026'!AM7,'Jul 2026'!AM7,'Aug 2026'!AM7,'Sep 2026'!AM7,'Oct 2026'!AM7,'Nov 2026'!AM7,'Dec 2026'!AM7))
A8: =IF(B8="","",ROW()-6) | B8: Jordan Sample | C8: =IF(B8="","",SUM('Jan 2026'!AH8,'Feb 2026'!AH8,'Mar 2026'!AH8,'Apr 2026'!AH8,'May 2026'!AH8,'Jun 2026'!AH8,'Jul 2026'!AH8,'Aug 2026'!AH8,'Sep 2026'!AH8,'Oct 2026'!AH8,'Nov 2026'!AH8,'Dec 2026'!AH8)) | D8: =IF(B8="","",SUM('Jan 2026'!AI8,'Feb 2026'!AI8,'Mar 2026'!AI8,'Apr 2026'!AI8,'May 2026'!AI8,'Jun 2026'!AI8,'Jul 2026'!AI8,'Aug 2026'!AI8,'Sep 2026'!AI8,'Oct 2026'!AI8,'Nov 2026'!AI8,'Dec 2026'!AI8)) | E8: =IF(B8="","",SUM('Jan 2026'!AJ8,'Feb 2026'!AJ8,'Mar 2026'!AJ8,'Apr 2026'!AJ8,'May 2026'!AJ8,'Jun 2026'!AJ8,'Jul 2026'!AJ8,'Aug 2026'!AJ8,'Sep 2026'!AJ8,'Oct 2026'!AJ8,'Nov 2026'!AJ8,'Dec 2026'!AJ8)) | F8: =IF(B8="","",SUM('Jan 2026'!AK8,'Feb 2026'!AK8,'Mar 2026'!AK8,'Apr 2026'!AK8,'May 2026'!AK8,'Jun 2026'!AK8,'Jul 2026'!AK8,'Aug 2026'!AK8,'Sep 2026'!AK8,'Oct 2026'!AK8,'Nov 2026'!AK8,'Dec 2026'!AK8)) | G8: =IF(B8="","",SUM('Jan 2026'!AL8,'Feb 2026'!AL8,'Mar 2026'!AL8,'Apr 2026'!AL8,'May 2026'!AL8,'Jun 2026'!AL8,'Jul 2026'!AL8,'Aug 2026'!AL8,'Sep 2026'!AL8,'Oct 2026'!AL8,'Nov 2026'!AL8,'Dec 2026'!AL8)) | H8: =IF(B8="","",SUM('Jan 2026'!AM8,'Feb 2026'!AM8,'Mar 2026'!AM8,'Apr 2026'!AM8,'May 2026'!AM8,'Jun 2026'!AM8,'Jul 2026'!AM8,'Aug 2026'!AM8,'Sep 2026'!AM8,'Oct 2026'!AM8,'Nov 2026'!AM8,'Dec 2026'!AM8))
A9: =IF(B9="","",ROW()-6) | B9: Sam Specimen | C9: =IF(B9="","",SUM('Jan 2026'!AH9,'Feb 2026'!AH9,'Mar 2026'!AH9,'Apr 2026'!AH9,'May 2026'!AH9,'Jun 2026'!AH9,'Jul 2026'!AH9,'Aug 2026'!AH9,'Sep 2026'!AH9,'Oct 2026'!AH9,'Nov 2026'!AH9,'Dec 2026'!AH9)) | D9: =IF(B9="","",SUM('Jan 2026'!AI9,'Feb 2026'!AI9,'Mar 2026'!AI9,'Apr 2026'!AI9,'May 2026'!AI9,'Jun 2026'!AI9,'Jul 2026'!AI9,'Aug 2026'!AI9,'Sep 2026'!AI9,'Oct 2026'!AI9,'Nov 2026'!AI9,'Dec 2026'!AI9)) | E9: =IF(B9="","",SUM('Jan 2026'!AJ9,'Feb 2026'!AJ9,'Mar 2026'!AJ9,'Apr 2026'!AJ9,'May 2026'!AJ9,'Jun 2026'!AJ9,'Jul 2026'!AJ9,'Aug 2026'!AJ9,'Sep 2026'!AJ9,'Oct 2026'!AJ9,'Nov 2026'!AJ9,'Dec 2026'!AJ9)) | F9: =IF(B9="","",SUM('Jan 2026'!AK9,'Feb 2026'!AK9,'Mar 2026'!AK9,'Apr 2026'!AK9,'May 2026'!AK9,'Jun 2026'!AK9,'Jul 2026'!AK9,'Aug 2026'!AK9,'Sep 2026'!AK9,'Oct 2026'!AK9,'Nov 2026'!AK9,'Dec 2026'!AK9)) | G9: =IF(B9="","",SUM('Jan 2026'!AL9,'Feb 2026'!AL9,'Mar 2026'!AL9,'Apr 2026'!AL9,'May 2026'!AL9,'Jun 2026'!AL9,'Jul 2026'!AL9,'Aug 2026'!AL9,'Sep 2026'!AL9,'Oct 2026'!AL9,'Nov 2026'!AL9,'Dec 2026'!AL9)) | H9: =IF(B9="","",SUM('Jan 2026'!AM9,'Feb 2026'!AM9,'Mar 2026'!AM9,'Apr 2026'!AM9,'May 2026'!AM9,'Jun 2026'!AM9,'Jul 2026'!AM9,'Aug 2026'!AM9,'Sep 2026'!AM9,'Oct 2026'!AM9,'Nov 2026'!AM9,'Dec 2026'!AM9))
A10: =IF(B10="","",ROW()-6) | C10: =IF(B10="","",SUM('Jan 2026'!AH10,'Feb 2026'!AH10,'Mar 2026'!AH10,'Apr 2026'!AH10,'May 2026'!AH10,'Jun 2026'!AH10,'Jul 2026'!AH10,'Aug 2026'!AH10,'Sep 2026'!AH10,'Oct 2026'!AH10,'Nov 2026'!AH10,'Dec 2026'!AH10)) | D10: =IF(B10="","",SUM('Jan 2026'!AI10,'Feb 2026'!AI10,'Mar 2026'!AI10,'Apr 2026'!AI10,'May 2026'!AI10,'Jun 2026'!AI10,'Jul 2026'!AI10,'Aug 2026'!AI10,'Sep 2026'!AI10,'Oct 2026'!AI10,'Nov 2026'!AI10,'Dec 2026'!AI10)) | E10: =IF(B10="","",SUM('Jan 2026'!AJ10,'Feb 2026'!AJ10,'Mar 2026'!AJ10,'Apr 2026'!AJ10,'May 2026'!AJ10,'Jun 2026'!AJ10,'Jul 2026'!AJ10,'Aug 2026'!AJ10,'Sep 2026'!AJ10,'Oct 2026'!AJ10,'Nov 2026'!AJ10,'Dec 2026'!AJ10)) | F10: =IF(B10="","",SUM('Jan 2026'!AK10,'Feb 2026'!AK10,'Mar 2026'!AK10,'Apr 2026'!AK10,'May 2026'!AK10,'Jun 2026'!AK10,'Jul 2026'!AK10,'Aug 2026'!AK10,'Sep 2026'!AK10,'Oct 2026'!AK10,'Nov 2026'!AK10,'Dec 2026'!AK10)) | G10: =IF(B10="","",SUM('Jan 2026'!AL10,'Feb 2026'!AL10,'Mar 2026'!AL10,'Apr 2026'!AL10,'May 2026'!AL10,'Jun 2026'!AL10,'Jul 2026'!AL10,'Aug 2026'!AL10,'Sep 2026'!AL10,'Oct 2026'!AL10,'Nov 2026'!AL10,'Dec 2026'!AL10)) | H10: =IF(B10="","",SUM('Jan 2026'!AM10,'Feb 2026'!AM10,'Mar 2026'!AM10,'Apr 2026'!AM10,'May 2026'!AM10,'Jun 2026'!AM10,'Jul 2026'!AM10,'Aug 2026'!AM10,'Sep 2026'!AM10,'Oct 2026'!AM10,'Nov 2026'!AM10,'Dec 2026'!AM10))
A11: =IF(B11="","",ROW()-6) | C11: =IF(B11="","",SUM('Jan 2026'!AH11,'Feb 2026'!AH11,'Mar 2026'!AH11,'Apr 2026'!AH11,'May 2026'!AH11,'Jun 2026'!AH11,'Jul 2026'!AH11,'Aug 2026'!AH11,'Sep 2026'!AH11,'Oct 2026'!AH11,'Nov 2026'!AH11,'Dec 2026'!AH11)) | D11: =IF(B11="","",SUM('Jan 2026'!AI11,'Feb 2026'!AI11,'Mar 2026'!AI11,'Apr 2026'!AI11,'May 2026'!AI11,'Jun 2026'!AI11,'Jul 2026'!AI11,'Aug 2026'!AI11,'Sep 2026'!AI11,'Oct 2026'!AI11,'Nov 2026'!AI11,'Dec 2026'!AI11)) | E11: =IF(B11="","",SUM('Jan 2026'!AJ11,'Feb 2026'!AJ11,'Mar 2026'!AJ11,'Apr 2026'!AJ11,'May 2026'!AJ11,'Jun 2026'!AJ11,'Jul 2026'!AJ11,'Aug 2026'!AJ11,'Sep 2026'!AJ11,'Oct 2026'!AJ11,'Nov 2026'!AJ11,'Dec 2026'!AJ11)) | F11: =IF(B11="","",SUM('Jan 2026'!AK11,'Feb 2026'!AK11,'Mar 2026'!AK11,'Apr 2026'!AK11,'May 2026'!AK11,'Jun 2026'!AK11,'Jul 2026'!AK11,'Aug 2026'!AK11,'Sep 2026'!AK11,'Oct 2026'!AK11,'Nov 2026'!AK11,'Dec 2026'!AK11)) | G11: =IF(B11="","",SUM('Jan 2026'!AL11,'Feb 2026'!AL11,'Mar 2026'!AL11,'Apr 2026'!AL11,'May 2026'!AL11,'Jun 2026'!AL11,'Jul 2026'!AL11,'Aug 2026'!AL11,'Sep 2026'!AL11,'Oct 2026'!AL11,'Nov 2026'!AL11,'Dec 2026'!AL11)) | H11: =IF(B11="","",SUM('Jan 2026'!AM11,'Feb 2026'!AM11,'Mar 2026'!AM11,'Apr 2026'!AM11,'May 2026'!AM11,'Jun 2026'!AM11,'Jul 2026'!AM11,'Aug 2026'!AM11,'Sep 2026'!AM11,'Oct 2026'!AM11,'Nov 2026'!AM11,'Dec 2026'!AM11))
A12: =IF(B12="","",ROW()-6) | C12: =IF(B12="","",SUM('Jan 2026'!AH12,'Feb 2026'!AH12,'Mar 2026'!AH12,'Apr 2026'!AH12,'May 2026'!AH12,'Jun 2026'!AH12,'Jul 2026'!AH12,'Aug 2026'!AH12,'Sep 2026'!AH12,'Oct 2026'!AH12,'Nov 2026'!AH12,'Dec 2026'!AH12)) | D12: =IF(B12="","",SUM('Jan 2026'!AI12,'Feb 2026'!AI12,'Mar 2026'!AI12,'Apr 2026'!AI12,'May 2026'!AI12,'Jun 2026'!AI12,'Jul 2026'!AI12,'Aug 2026'!AI12,'Sep 2026'!AI12,'Oct 2026'!AI12,'Nov 2026'!AI12,'Dec 2026'!AI12)) | E12: =IF(B12="","",SUM('Jan 2026'!AJ12,'Feb 2026'!AJ12,'Mar 2026'!AJ12,'Apr 2026'!AJ12,'May 2026'!AJ12,'Jun 2026'!AJ12,'Jul 2026'!AJ12,'Aug 2026'!AJ12,'Sep 2026'!AJ12,'Oct 2026'!AJ12,'Nov 2026'!AJ12,'Dec 2026'!AJ12)) | F12: =IF(B12="","",SUM('Jan 2026'!AK12,'Feb 2026'!AK12,'Mar 2026'!AK12,'Apr 2026'!AK12,'May 2026'!AK12,'Jun 2026'!AK12,'Jul 2026'!AK12,'Aug 2026'!AK12,'Sep 2026'!AK12,'Oct 2026'!AK12,'Nov 2026'!AK12,'Dec 2026'!AK12)) | G12: =IF(B12="","",SUM('Jan 2026'!AL12,'Feb 2026'!AL12,'Mar 2026'!AL12,'Apr 2026'!AL12,'May 2026'!AL12,'Jun 2026'!AL12,'Jul 2026'!AL12,'Aug 2026'!AL12,'Sep 2026'!AL12,'Oct 2026'!AL12,'Nov 2026'!AL12,'Dec 2026'!AL12)) | H12: =IF(B12="","",SUM('Jan 2026'!AM12,'Feb 2026'!AM12,'Mar 2026'!AM12,'Apr 2026'!AM12,'May 2026'!AM12,'Jun 2026'!AM12,'Jul 2026'!AM12,'Aug 2026'!AM12,'Sep 2026'!AM12,'Oct 2026'!AM12,'Nov 2026'!AM12,'Dec 2026'!AM12))
A13: =IF(B13="","",ROW()-6) | C13: =IF(B13="","",SUM('Jan 2026'!AH13,'Feb 2026'!AH13,'Mar 2026'!AH13,'Apr 2026'!AH13,'May 2026'!AH13,'Jun 2026'!AH13,'Jul 2026'!AH13,'Aug 2026'!AH13,'Sep 2026'!AH13,'Oct 2026'!AH13,'Nov 2026'!AH13,'Dec 2026'!AH13)) | D13: =IF(B13="","",SUM('Jan 2026'!AI13,'Feb 2026'!AI13,'Mar 2026'!AI13,'Apr 2026'!AI13,'May 2026'!AI13,'Jun 2026'!AI13,'Jul 2026'!AI13,'Aug 2026'!AI13,'Sep 2026'!AI13,'Oct 2026'!AI13,'Nov 2026'!AI13,'Dec 2026'!AI13)) | E13: =IF(B13="","",SUM('Jan 2026'!AJ13,'Feb 2026'!AJ13,'Mar 2026'!AJ13,'Apr 2026'!AJ13,'May 2026'!AJ13,'Jun 2026'!AJ13,'Jul 2026'!AJ13,'Aug 2026'!AJ13,'Sep 2026'!AJ13,'Oct 2026'!AJ13,'Nov 2026'!AJ13,'Dec 2026'!AJ13)) | F13: =IF(B13="","",SUM('Jan 2026'!AK13,'Feb 2026'!AK13,'Mar 2026'!AK13,'Apr 2026'!AK13,'May 2026'!AK13,'Jun 2026'!AK13,'Jul 2026'!AK13,'Aug 2026'!AK13,'Sep 2026'!AK13,'Oct 2026'!AK13,'Nov 2026'!AK13,'Dec 2026'!AK13)) | G13: =IF(B13="","",SUM('Jan 2026'!AL13,'Feb 2026'!AL13,'Mar 2026'!AL13,'Apr 2026'!AL13,'May 2026'!AL13,'Jun 2026'!AL13,'Jul 2026'!AL13,'Aug 2026'!AL13,'Sep 2026'!AL13,'Oct 2026'!AL13,'Nov 2026'!AL13,'Dec 2026'!AL13)) | H13: =IF(B13="","",SUM('Jan 2026'!AM13,'Feb 2026'!AM13,'Mar 2026'!AM13,'Apr 2026'!AM13,'May 2026'!AM13,'Jun 2026'!AM13,'Jul 2026'!AM13,'Aug 2026'!AM13,'Sep 2026'!AM13,'Oct 2026'!AM13,'Nov 2026'!AM13,'Dec 2026'!AM13))
A14: =IF(B14="","",ROW()-6) | C14: =IF(B14="","",SUM('Jan 2026'!AH14,'Feb 2026'!AH14,'Mar 2026'!AH14,'Apr 2026'!AH14,'May 2026'!AH14,'Jun 2026'!AH14,'Jul 2026'!AH14,'Aug 2026'!AH14,'Sep 2026'!AH14,'Oct 2026'!AH14,'Nov 2026'!AH14,'Dec 2026'!AH14)) | D14: =IF(B14="","",SUM('Jan 2026'!AI14,'Feb 2026'!AI14,'Mar 2026'!AI14,'Apr 2026'!AI14,'May 2026'!AI14,'Jun 2026'!AI14,'Jul 2026'!AI14,'Aug 2026'!AI14,'Sep 2026'!AI14,'Oct 2026'!AI14,'Nov 2026'!AI14,'Dec 2026'!AI14)) | E14: =IF(B14="","",SUM('Jan 2026'!AJ14,'Feb 2026'!AJ14,'Mar 2026'!AJ14,'Apr 2026'!AJ14,'May 2026'!AJ14,'Jun 2026'!AJ14,'Jul 2026'!AJ14,'Aug 2026'!AJ14,'Sep 2026'!AJ14,'Oct 2026'!AJ14,'Nov 2026'!AJ14,'Dec 2026'!AJ14)) | F14: =IF(B14="","",SUM('Jan 2026'!AK14,'Feb 2026'!AK14,'Mar 2026'!AK14,'Apr 2026'!AK14,'May 2026'!AK14,'Jun 2026'!AK14,'Jul 2026'!AK14,'Aug 2026'!AK14,'Sep 2026'!AK14,'Oct 2026'!AK14,'Nov 2026'!AK14,'Dec 2026'!AK14)) | G14: =IF(B14="","",SUM('Jan 2026'!AL14,'Feb 2026'!AL14,'Mar 2026'!AL14,'Apr 2026'!AL14,'May 2026'!AL14,'Jun 2026'!AL14,'Jul 2026'!AL14,'Aug 2026'!AL14,'Sep 2026'!AL14,'Oct 2026'!AL14,'Nov 2026'!AL14,'Dec 2026'!AL14)) | H14: =IF(B14="","",SUM('Jan 2026'!AM14,'Feb 2026'!AM14,'Mar 2026'!AM14,'Apr 2026'!AM14,'May 2026'!AM14,'Jun 2026'!AM14,'Jul 2026'!AM14,'Aug 2026'!AM14,'Sep 2026'!AM14,'Oct 2026'!AM14,'Nov 2026'!AM14,'Dec 2026'!AM14))
A15: =IF(B15="","",ROW()-6) | C15: =IF(B15="","",SUM('Jan 2026'!AH15,'Feb 2026'!AH15,'Mar 2026'!AH15,'Apr 2026'!AH15,'May 2026'!AH15,'Jun 2026'!AH15,'Jul 2026'!AH15,'Aug 2026'!AH15,'Sep 2026'!AH15,'Oct 2026'!AH15,'Nov 2026'!AH15,'Dec 2026'!AH15)) | D15: =IF(B15="","",SUM('Jan 2026'!AI15,'Feb 2026'!AI15,'Mar 2026'!AI15,'Apr 2026'!AI15,'May 2026'!AI15,'Jun 2026'!AI15,'Jul 2026'!AI15,'Aug 2026'!AI15,'Sep 2026'!AI15,'Oct 2026'!AI15,'Nov 2026'!AI15,'Dec 2026'!AI15)) | E15: =IF(B15="","",SUM('Jan 2026'!AJ15,'Feb 2026'!AJ15,'Mar 2026'!AJ15,'Apr 2026'!AJ15,'May 2026'!AJ15,'Jun 2026'!AJ15,'Jul 2026'!AJ15,'Aug 2026'!AJ15,'Sep 2026'!AJ15,'Oct 2026'!AJ15,'Nov 2026'!AJ15,'Dec 2026'!AJ15)) | F15: =IF(B15="","",SUM('Jan 2026'!AK15,'Feb 2026'!AK15,'Mar 2026'!AK15,'Apr 2026'!AK15,'May 2026'!AK15,'Jun 2026'!AK15,'Jul 2026'!AK15,'Aug 2026'!AK15,'Sep 2026'!AK15,'Oct 2026'!AK15,'Nov 2026'!AK15,'Dec 2026'!AK15)) | G15: =IF(B15="","",SUM('Jan 2026'!AL15,'Feb 2026'!AL15,'Mar 2026'!AL15,'Apr 2026'!AL15,'May 2026'!AL15,'Jun 2026'!AL15,'Jul 2026'!AL15,'Aug 2026'!AL15,'Sep 2026'!AL15,'Oct 2026'!AL15,'Nov 2026'!AL15,'Dec 2026'!AL15)) | H15: =IF(B15="","",SUM('Jan 2026'!AM15,'Feb 2026'!AM15,'Mar 2026'!AM15,'Apr 2026'!AM15,'May 2026'!AM15,'Jun 2026'!AM15,'Jul 2026'!AM15,'Aug 2026'!AM15,'Sep 2026'!AM15,'Oct 2026'!AM15,'Nov 2026'!AM15,'Dec 2026'!AM15))
A16: =IF(B16="","",ROW()-6) | C16: =IF(B16="","",SUM('Jan 2026'!AH16,'Feb 2026'!AH16,'Mar 2026'!AH16,'Apr 2026'!AH16,'May 2026'!AH16,'Jun 2026'!AH16,'Jul 2026'!AH16,'Aug 2026'!AH16,'Sep 2026'!AH16,'Oct 2026'!AH16,'Nov 2026'!AH16,'Dec 2026'!AH16)) | D16: =IF(B16="","",SUM('Jan 2026'!AI16,'Feb 2026'!AI16,'Mar 2026'!AI16,'Apr 2026'!AI16,'May 2026'!AI16,'Jun 2026'!AI16,'Jul 2026'!AI16,'Aug 2026'!AI16,'Sep 2026'!AI16,'Oct 2026'!AI16,'Nov 2026'!AI16,'Dec 2026'!AI16)) | E16: =IF(B16="","",SUM('Jan 2026'!AJ16,'Feb 2026'!AJ16,'Mar 2026'!AJ16,'Apr 2026'!AJ16,'May 2026'!AJ16,'Jun 2026'!AJ16,'Jul 2026'!AJ16,'Aug 2026'!AJ16,'Sep 2026'!AJ16,'Oct 2026'!AJ16,'Nov 2026'!AJ16,'Dec 2026'!AJ16)) | F16: =IF(B16="","",SUM('Jan 2026'!AK16,'Feb 2026'!AK16,'Mar 2026'!AK16,'Apr 2026'!AK16,'May 2026'!AK16,'Jun 2026'!AK16,'Jul 2026'!AK16,'Aug 2026'!AK16,'Sep 2026'!AK16,'Oct 2026'!AK16,'Nov 2026'!AK16,'Dec 2026'!AK16)) | G16: =IF(B16="","",SUM('Jan 2026'!AL16,'Feb 2026'!AL16,'Mar 2026'!AL16,'Apr 2026'!AL16,'May 2026'!AL16,'Jun 2026'!AL16,'Jul 2026'!AL16,'Aug 2026'!AL16,'Sep 2026'!AL16,'Oct 2026'!AL16,'Nov 2026'!AL16,'Dec 2026'!AL16)) | H16: =IF(B16="","",SUM('Jan 2026'!AM16,'Feb 2026'!AM16,'Mar 2026'!AM16,'Apr 2026'!AM16,'May 2026'!AM16,'Jun 2026'!AM16,'Jul 2026'!AM16,'Aug 2026'!AM16,'Sep 2026'!AM16,'Oct 2026'!AM16,'Nov 2026'!AM16,'Dec 2026'!AM16))
A17: =IF(B17="","",ROW()-6) | C17: =IF(B17="","",SUM('Jan 2026'!AH17,'Feb 2026'!AH17,'Mar 2026'!AH17,'Apr 2026'!AH17,'May 2026'!AH17,'Jun 2026'!AH17,'Jul 2026'!AH17,'Aug 2026'!AH17,'Sep 2026'!AH17,'Oct 2026'!AH17,'Nov 2026'!AH17,'Dec 2026'!AH17)) | D17: =IF(B17="","",SUM('Jan 2026'!AI17,'Feb 2026'!AI17,'Mar 2026'!AI17,'Apr 2026'!AI17,'May 2026'!AI17,'Jun 2026'!AI17,'Jul 2026'!AI17,'Aug 2026'!AI17,'Sep 2026'!AI17,'Oct 2026'!AI17,'Nov 2026'!AI17,'Dec 2026'!AI17)) | E17: =IF(B17="","",SUM('Jan 2026'!AJ17,'Feb 2026'!AJ17,'Mar 2026'!AJ17,'Apr 2026'!AJ17,'May 2026'!AJ17,'Jun 2026'!AJ17,'Jul 2026'!AJ17,'Aug 2026'!AJ17,'Sep 2026'!AJ17,'Oct 2026'!AJ17,'Nov 2026'!AJ17,'Dec 2026'!AJ17)) | F17: =IF(B17="","",SUM('Jan 2026'!AK17,'Feb 2026'!AK17,'Mar 2026'!AK17,'Apr 2026'!AK17,'May 2026'!AK17,'Jun 2026'!AK17,'Jul 2026'!AK17,'Aug 2026'!AK17,'Sep 2026'!AK17,'Oct 2026'!AK17,'Nov 2026'!AK17,'Dec 2026'!AK17)) | G17: =IF(B17="","",SUM('Jan 2026'!AL17,'Feb 2026'!AL17,'Mar 2026'!AL17,'Apr 2026'!AL17,'May 2026'!AL17,'Jun 2026'!AL17,'Jul 2026'!AL17,'Aug 2026'!AL17,'Sep 2026'!AL17,'Oct 2026'!AL17,'Nov 2026'!AL17,'Dec 2026'!AL17)) | H17: =IF(B17="","",SUM('Jan 2026'!AM17,'Feb 2026'!AM17,'Mar 2026'!AM17,'Apr 2026'!AM17,'May 2026'!AM17,'Jun 2026'!AM17,'Jul 2026'!AM17,'Aug 2026'!AM17,'Sep 2026'!AM17,'Oct 2026'!AM17,'Nov 2026'!AM17,'Dec 2026'!AM17))
A18: =IF(B18="","",ROW()-6) | C18: =IF(B18="","",SUM('Jan 2026'!AH18,'Feb 2026'!AH18,'Mar 2026'!AH18,'Apr 2026'!AH18,'May 2026'!AH18,'Jun 2026'!AH18,'Jul 2026'!AH18,'Aug 2026'!AH18,'Sep 2026'!AH18,'Oct 2026'!AH18,'Nov 2026'!AH18,'Dec 2026'!AH18)) | D18: =IF(B18="","",SUM('Jan 2026'!AI18,'Feb 2026'!AI18,'Mar 2026'!AI18,'Apr 2026'!AI18,'May 2026'!AI18,'Jun 2026'!AI18,'Jul 2026'!AI18,'Aug 2026'!AI18,'Sep 2026'!AI18,'Oct 2026'!AI18,'Nov 2026'!AI18,'Dec 2026'!AI18)) | E18: =IF(B18="","",SUM('Jan 2026'!AJ18,'Feb 2026'!AJ18,'Mar 2026'!AJ18,'Apr 2026'!AJ18,'May 2026'!AJ18,'Jun 2026'!AJ18,'Jul 2026'!AJ18,'Aug 2026'!AJ18,'Sep 2026'!AJ18,'Oct 2026'!AJ18,'Nov 2026'!AJ18,'Dec 2026'!AJ18)) | F18: =IF(B18="","",SUM('Jan 2026'!AK18,'Feb 2026'!AK18,'Mar 2026'!AK18,'Apr 2026'!AK18,'May 2026'!AK18,'Jun 2026'!AK18,'Jul 2026'!AK18,'Aug 2026'!AK18,'Sep 2026'!AK18,'Oct 2026'!AK18,'Nov 2026'!AK18,'Dec 2026'!AK18)) | G18: =IF(B18="","",SUM('Jan 2026'!AL18,'Feb 2026'!AL18,'Mar 2026'!AL18,'Apr 2026'!AL18,'May 2026'!AL18,'Jun 2026'!AL18,'Jul 2026'!AL18,'Aug 2026'!AL18,'Sep 2026'!AL18,'Oct 2026'!AL18,'Nov 2026'!AL18,'Dec 2026'!AL18)) | H18: =IF(B18="","",SUM('Jan 2026'!AM18,'Feb 2026'!AM18,'Mar 2026'!AM18,'Apr 2026'!AM18,'May 2026'!AM18,'Jun 2026'!AM18,'Jul 2026'!AM18,'Aug 2026'!AM18,'Sep 2026'!AM18,'Oct 2026'!AM18,'Nov 2026'!AM18,'Dec 2026'!AM18))
A19: =IF(B19="","",ROW()-6) | C19: =IF(B19="","",SUM('Jan 2026'!AH19,'Feb 2026'!AH19,'Mar 2026'!AH19,'Apr 2026'!AH19,'May 2026'!AH19,'Jun 2026'!AH19,'Jul 2026'!AH19,'Aug 2026'!AH19,'Sep 2026'!AH19,'Oct 2026'!AH19,'Nov 2026'!AH19,'Dec 2026'!AH19)) | D19: =IF(B19="","",SUM('Jan 2026'!AI19,'Feb 2026'!AI19,'Mar 2026'!AI19,'Apr 2026'!AI19,'May 2026'!AI19,'Jun 2026'!AI19,'Jul 2026'!AI19,'Aug 2026'!AI19,'Sep 2026'!AI19,'Oct 2026'!AI19,'Nov 2026'!AI19,'Dec 2026'!AI19)) | E19: =IF(B19="","",SUM('Jan 2026'!AJ19,'Feb 2026'!AJ19,'Mar 2026'!AJ19,'Apr 2026'!AJ19,'May 2026'!AJ19,'Jun 2026'!AJ19,'Jul 2026'!AJ19,'Aug 2026'!AJ19,'Sep 2026'!AJ19,'Oct 2026'!AJ19,'Nov 2026'!AJ19,'Dec 2026'!AJ19)) | F19: =IF(B19="","",SUM('Jan 2026'!AK19,'Feb 2026'!AK19,'Mar 2026'!AK19,'Apr 2026'!AK19,'May 2026'!AK19,'Jun 2026'!AK19,'Jul 2026'!AK19,'Aug 2026'!AK19,'Sep 2026'!AK19,'Oct 2026'!AK19,'Nov 2026'!AK19,'Dec 2026'!AK19)) | G19: =IF(B19="","",SUM('Jan 2026'!AL19,'Feb 2026'!AL19,'Mar 2026'!AL19,'Apr 2026'!AL19,'May 2026'!AL19,'Jun 2026'!AL19,'Jul 2026'!AL19,'Aug 2026'!AL19,'Sep 2026'!AL19,'Oct 2026'!AL19,'Nov 2026'!AL19,'Dec 2026'!AL19)) | H19: =IF(B19="","",SUM('Jan 2026'!AM19,'Feb 2026'!AM19,'Mar 2026'!AM19,'Apr 2026'!AM19,'May 2026'!AM19,'Jun 2026'!AM19,'Jul 2026'!AM19,'Aug 2026'!AM19,'Sep 2026'!AM19,'Oct 2026'!AM19,'Nov 2026'!AM19,'Dec 2026'!AM19))
A20: =IF(B20="","",ROW()-6) | C20: =IF(B20="","",SUM('Jan 2026'!AH20,'Feb 2026'!AH20,'Mar 2026'!AH20,'Apr 2026'!AH20,'May 2026'!AH20,'Jun 2026'!AH20,'Jul 2026'!AH20,'Aug 2026'!AH20,'Sep 2026'!AH20,'Oct 2026'!AH20,'Nov 2026'!AH20,'Dec 2026'!AH20)) | D20: =IF(B20="","",SUM('Jan 2026'!AI20,'Feb 2026'!AI20,'Mar 2026'!AI20,'Apr 2026'!AI20,'May 2026'!AI20,'Jun 2026'!AI20,'Jul 2026'!AI20,'Aug 2026'!AI20,'Sep 2026'!AI20,'Oct 2026'!AI20,'Nov 2026'!AI20,'Dec 2026'!AI20)) | E20: =IF(B20="","",SUM('Jan 2026'!AJ20,'Feb 2026'!AJ20,'Mar 2026'!AJ20,'Apr 2026'!AJ20,'May 2026'!AJ20,'Jun 2026'!AJ20,'Jul 2026'!AJ20,'Aug 2026'!AJ20,'Sep 2026'!AJ20,'Oct 2026'!AJ20,'Nov 2026'!AJ20,'Dec 2026'!AJ20)) | F20: =IF(B20="","",SUM('Jan 2026'!AK20,'Feb 2026'!AK20,'Mar 2026'!AK20,'Apr 2026'!AK20,'May 2026'!AK20,'Jun 2026'!AK20,'Jul 2026'!AK20,'Aug 2026'!AK20,'Sep 2026'!AK20,'Oct 2026'!AK20,'Nov 2026'!AK20,'Dec 2026'!AK20)) | G20: =IF(B20="","",SUM('Jan 2026'!AL20,'Feb 2026'!AL20,'Mar 2026'!AL20,'Apr 2026'!AL20,'May 2026'!AL20,'Jun 2026'!AL20,'Jul 2026'!AL20,'Aug 2026'!AL20,'Sep 2026'!AL20,'Oct 2026'!AL20,'Nov 2026'!AL20,'Dec 2026'!AL20)) | H20: =IF(B20="","",SUM('Jan 2026'!AM20,'Feb 2026'!AM20,'Mar 2026'!AM20,'Apr 2026'!AM20,'May 2026'!AM20,'Jun 2026'!AM20,'Jul 2026'!AM20,'Aug 2026'!AM20,'Sep 2026'!AM20,'Oct 2026'!AM20,'Nov 2026'!AM20,'Dec 2026'!AM20))
A21: =IF(B21="","",ROW()-6) | C21: =IF(B21="","",SUM('Jan 2026'!AH21,'Feb 2026'!AH21,'Mar 2026'!AH21,'Apr 2026'!AH21,'May 2026'!AH21,'Jun 2026'!AH21,'Jul 2026'!AH21,'Aug 2026'!AH21,'Sep 2026'!AH21,'Oct 2026'!AH21,'Nov 2026'!AH21,'Dec 2026'!AH21)) | D21: =IF(B21="","",SUM('Jan 2026'!AI21,'Feb 2026'!AI21,'Mar 2026'!AI21,'Apr 2026'!AI21,'May 2026'!AI21,'Jun 2026'!AI21,'Jul 2026'!AI21,'Aug 2026'!AI21,'Sep 2026'!AI21,'Oct 2026'!AI21,'Nov 2026'!AI21,'Dec 2026'!AI21)) | E21: =IF(B21="","",SUM('Jan 2026'!AJ21,'Feb 2026'!AJ21,'Mar 2026'!AJ21,'Apr 2026'!AJ21,'May 2026'!AJ21,'Jun 2026'!AJ21,'Jul 2026'!AJ21,'Aug 2026'!AJ21,'Sep 2026'!AJ21,'Oct 2026'!AJ21,'Nov 2026'!AJ21,'Dec 2026'!AJ21)) | F21: =IF(B21="","",SUM('Jan 2026'!AK21,'Feb 2026'!AK21,'Mar 2026'!AK21,'Apr 2026'!AK21,'May 2026'!AK21,'Jun 2026'!AK21,'Jul 2026'!AK21,'Aug 2026'!AK21,'Sep 2026'!AK21,'Oct 2026'!AK21,'Nov 2026'!AK21,'Dec 2026'!AK21)) | G21: =IF(B21="","",SUM('Jan 2026'!AL21,'Feb 2026'!AL21,'Mar 2026'!AL21,'Apr 2026'!AL21,'May 2026'!AL21,'Jun 2026'!AL21,'Jul 2026'!AL21,'Aug 2026'!AL21,'Sep 2026'!AL21,'Oct 2026'!AL21,'Nov 2026'!AL21,'Dec 2026'!AL21)) | H21: =IF(B21="","",SUM('Jan 2026'!AM21,'Feb 2026'!AM21,'Mar 2026'!AM21,'Apr 2026'!AM21,'May 2026'!AM21,'Jun 2026'!AM21,'Jul 2026'!AM21,'Aug 2026'!AM21,'Sep 2026'!AM21,'Oct 2026'!AM21,'Nov 2026'!AM21,'Dec 2026'!AM21))
... A36: =IF(B36="","",ROW()-6) | C36: =IF(B36="","",SUM('Jan 2026'!AH36,'Feb 2026'!AH36,'Mar 2026'!AH36,'Apr 2026'!AH36,'May 2026'!AH36,'Jun 2026'!AH36,'Jul 2026'!AH36,'Aug 2026'!AH36,'Sep 2026'!AH36,'Oct 2026'!AH36,'Nov 2026'!AH36,'Dec 2026'!AH36)) | D36: =IF(B36="","",SUM('Jan 2026'!AI36,'Feb 2026'!AI36,'Mar 2026'!AI36,'Apr 2026'!AI36,'May 2026'!AI36,'Jun 2026'!AI36,'Jul 2026'!AI36,'Aug 2026'!AI36,'Sep 2026'!AI36,'Oct 2026'!AI36,'Nov 2026'!AI36,'Dec 2026'!AI36)) | E36: =IF(B36="","",SUM('Jan 2026'!AJ36,'Feb 2026'!AJ36,'Mar 2026'!AJ36,'Apr 2026'!AJ36,'May 2026'!AJ36,'Jun 2026'!AJ36,'Jul 2026'!AJ36,'Aug 2026'!AJ36,'Sep 2026'!AJ36,'Oct 2026'!AJ36,'Nov 2026'!AJ36,'Dec 2026'!AJ36)) | F36: =IF(B36="","",SUM('Jan 2026'!AK36,'Feb 2026'!AK36,'Mar 2026'!AK36,'Apr 2026'!AK36,'May 2026'!AK36,'Jun 2026'!AK36,'Jul 2026'!AK36,'Aug 2026'!AK36,'Sep 2026'!AK36,'Oct 2026'!AK36,'Nov 2026'!AK36,'Dec 2026'!AK36)) | G36: =IF(B36="","",SUM('Jan 2026'!AL36,'Feb 2026'!AL36,'Mar 2026'!AL36,'Apr 2026'!AL36,'May 2026'!AL36,'Jun 2026'!AL36,'Jul 2026'!AL36,'Aug 2026'!AL36,'Sep 2026'!AL36,'Oct 2026'!AL36,'Nov 2026'!AL36,'Dec 2026'!AL36)) | H36: =IF(B36="","",SUM('Jan 2026'!AM36,'Feb 2026'!AM36,'Mar 2026'!AM36,'Apr 2026'!AM36,'May 2026'!AM36,'Jun 2026'!AM36,'Jul 2026'!AM36,'Aug 2026'!AM36,'Sep 2026'!AM36,'Oct 2026'!AM36,'Nov 2026'!AM36,'Dec 2026'!AM36))
A37: All staff | C37: =SUM(C7:C36) | D37: =SUM(D7:D36) | E37: =SUM(E7:E36) | F37: =SUM(F7:F36) | G37: =SUM(G7:G36) | H37: =SUM(H7:H36)
A39: By month (all staff)
B40: Month | C40: Present | D40: Late | E40: Absent | F40: Sick | G40: Vacation | H40: Holiday
B41: =DATE($B$3,1,1) | C41: =SUM('Jan 2026'!AH7:AH36) | D41: =SUM('Jan 2026'!AI7:AI36) | E41: =SUM('Jan 2026'!AJ7:AJ36) | F41: =SUM('Jan 2026'!AK7:AK36) | G41: =SUM('Jan 2026'!AL7:AL36) | H41: =SUM('Jan 2026'!AM7:AM36)
B42: =DATE($B$3,2,1) | C42: =SUM('Feb 2026'!AH7:AH36) | D42: =SUM('Feb 2026'!AI7:AI36) | E42: =SUM('Feb 2026'!AJ7:AJ36) | F42: =SUM('Feb 2026'!AK7:AK36) | G42: =SUM('Feb 2026'!AL7:AL36) | H42: =SUM('Feb 2026'!AM7:AM36)
B43: =DATE($B$3,3,1) | C43: =SUM('Mar 2026'!AH7:AH36) | D43: =SUM('Mar 2026'!AI7:AI36) | E43: =SUM('Mar 2026'!AJ7:AJ36) | F43: =SUM('Mar 2026'!AK7:AK36) | G43: =SUM('Mar 2026'!AL7:AL36) | H43: =SUM('Mar 2026'!AM7:AM36)
B44: =DATE($B$3,4,1) | C44: =SUM('Apr 2026'!AH7:AH36) | D44: =SUM('Apr 2026'!AI7:AI36) | E44: =SUM('Apr 2026'!AJ7:AJ36) | F44: =SUM('Apr 2026'!AK7:AK36) | G44: =SUM('Apr 2026'!AL7:AL36) | H44: =SUM('Apr 2026'!AM7:AM36)
B45: =DATE($B$3,5,1) | C45: =SUM('May 2026'!AH7:AH36) | D45: =SUM('May 2026'!AI7:AI36) | E45: =SUM('May 2026'!AJ7:AJ36) | F45: =SUM('May 2026'!AK7:AK36) | G45: =SUM('May 2026'!AL7:AL36) | H45: =SUM('May 2026'!AM7:AM36)
B46: =DATE($B$3,6,1) | C46: =SUM('Jun 2026'!AH7:AH36) | D46: =SUM('Jun 2026'!AI7:AI36) | E46: =SUM('Jun 2026'!AJ7:AJ36) | F46: =SUM('Jun 2026'!AK7:AK36) | G46: =SUM('Jun 2026'!AL7:AL36) | H46: =SUM('Jun 2026'!AM7:AM36)
B47: =DATE($B$3,7,1) | C47: =SUM('Jul 2026'!AH7:AH36) | D47: =SUM('Jul 2026'!AI7:AI36) | E47: =SUM('Jul 2026'!AJ7:AJ36) | F47: =SUM('Jul 2026'!AK7:AK36) | G47: =SUM('Jul 2026'!AL7:AL36) | H47: =SUM('Jul 2026'!AM7:AM36)
B48: =DATE($B$3,8,1) | C48: =SUM('Aug 2026'!AH7:AH36) | D48: =SUM('Aug 2026'!AI7:AI36) | E48: =SUM('Aug 2026'!AJ7:AJ36) | F48: =SUM('Aug 2026'!AK7:AK36) | G48: =SUM('Aug 2026'!AL7:AL36) | H48: =SUM('Aug 2026'!AM7:AM36)
B49: =DATE($B$3,9,1) | C49: =SUM('Sep 2026'!AH7:AH36) | D49: =SUM('Sep 2026'!AI7:AI36) | E49: =SUM('Sep 2026'!AJ7:AJ36) | F49: =SUM('Sep 2026'!AK7:AK36) | G49: =SUM('Sep 2026'!AL7:AL36) | H49: =SUM('Sep 2026'!AM7:AM36)
B50: =DATE($B$3,10,1) | C50: =SUM('Oct 2026'!AH7:AH36) | D50: =SUM('Oct 2026'!AI7:AI36) | E50: =SUM('Oct 2026'!AJ7:AJ36) | F50: =SUM('Oct 2026'!AK7:AK36) | G50: =SUM('Oct 2026'!AL7:AL36) | H50: =SUM('Oct 2026'!AM7:AM36)
B51: =DATE($B$3,11,1) | C51: =SUM('Nov 2026'!AH7:AH36) | D51: =SUM('Nov 2026'!AI7:AI36) | E51: =SUM('Nov 2026'!AJ7:AJ36) | F51: =SUM('Nov 2026'!AK7:AK36) | G51: =SUM('Nov 2026'!AL7:AL36) | H51: =SUM('Nov 2026'!AM7:AM36)
B52: =DATE($B$3,12,1) | C52: =SUM('Dec 2026'!AH7:AH36) | D52: =SUM('Dec 2026'!AI7:AI36) | E52: =SUM('Dec 2026'!AJ7:AJ36) | F52: =SUM('Dec 2026'!AK7:AK36) | G52: =SUM('Dec 2026'!AL7:AL36) | H52: =SUM('Dec 2026'!AM7:AM36)
A53: Year | C53: =SUM(C41:C52) | D53: =SUM(D41:D52) | E53: =SUM(E41:E52) | F53: =SUM(F41:F52) | G53: =SUM(G41:G52) | H53: =SUM(H41:H52)
A55: Made with PunchClock · punchclock.ai/tools

Sheet How to use
B1: Monthly attendance register
B2: A year of attendance on one file: twelve month sheets plus a blank one, employees down the side, days across the top, a code per cell (P present, L late, A absent, S sick, V vacation, H holiday) and the totals per employee, per day and for the year.
B4: Steps
B5: 1. On the Summary sheet type the Year and your employees' names (one per row). The month sheets pick them up.
B6: 2. Open a month sheet and type a code in each day cell: P, L, A, S, V or H. The dropdown lists them and the cells colour themselves; weekends are shaded and days that do not exist in the month are greyed out.
B7: 3. The right-hand columns count each employee's Present (P + L), Late, Absent, Sick, Vacation and Holiday days; the rows under the grid count each day.
B8: 4. The Summary sheet adds the twelve months per employee and per month for the whole year.
B9: 5. The Month sheet is a spare with its own date cell, for a period that is not a calendar month or for next year.
B11: Good to know
B12: • Late (L) counts as present in the Present total and is also counted on its own.
B13: • Need more than 30 employees? Unprotect the sheet (no password), copy the last employee row down, and extend the totals ranges.
B14: • Yellow cells are inputs. Everything else is a formula and is locked so it cannot be overwritten by accident. To change a formula: Review › Unprotect Sheet (there is no password).
... B22: Made with PunchClock · punchclock.ai/tools
