Workbook

Sheet Jan 2026
A1: =IF($A$3="","Attendance register","Attendance register – "&TEXT($A$3,"mmmm yyyy"))
A2: One row per employee, one column per day. Type a code in each cell; the dropdown lists them. Names come from the Summary sheet.
A3: =IF(C3="","",DATE(YEAR(C3),MONTH(C3),1)) | B3: Month | C3: =DATE(Summary!$B$3,1,1) | K3: Codes: | L3: P | M3: Present | P3: L | Q3: Late | T3: A | U3: Absent | X3: S | Y3: Sick | AB3: V | AC3: Vacation | AF3: H | AG3: Holiday
A4: Yellow cells are yours to fill in. White cells are worked out for you and locked (Review › Unprotect Sheet, no password, if you need to change them).
C5: =IF($A$3="","",IF(C$6>DAY(EOMONTH($A$3,0)),"",CHOOSE(WEEKDAY(DATE(YEAR($A$3),MONTH($A$3),C$6)),"Su","Mo","Tu","We","Th","Fr","Sa"))) | D5: =IF($A$3="","",IF(D$6>DAY(EOMONTH($A$3,0)),"",CHOOSE(WEEKDAY(DATE(YEAR($A$3),MONTH($A$3),D$6)),"Su","Mo","Tu","We","Th","Fr","Sa"))) | E5: =IF($A$3="","",IF(E$6>DAY(EOMONTH($A$3,0)),"",CHOOSE(WEEKDAY(DATE(YEAR($A$3),MONTH($A$3),E$6)),"Su","Mo","Tu","We","Th","Fr","Sa"))) | F5: =IF($A$3="","",IF(F$6>DAY(EOMONTH($A$3,0)),"",CHOOSE(WEEKDAY(DATE(YEAR($A$3),MONTH($A$3),F$6)),"Su","Mo","Tu","We","Th","Fr","Sa"))) | G5: =IF($A$3="","",IF(G$6>DAY(EOMONTH($A$3,0)),"",CHOOSE(WEEKDAY(DATE(YEAR($A$3),MONTH($A$3),G$6)),"Su","Mo","Tu","We","Th","Fr","Sa"))) | H5: =IF($A$3="","",IF(H$6>DAY(EOMONTH($A$3,0)),"",CHOOSE(WEEKDAY(DATE(YEAR($A$3),MONTH($A$3),H$6)),"Su","Mo","Tu","We","Th","Fr","Sa"))) | I5: =IF($A$3="","",IF(I$6>DAY(EOMONTH($A$3,0)),"",CHOOSE(WEEKDAY(DATE(YEAR($A$3),MONTH($A$3),I$6)),"Su","Mo","Tu","We","Th","Fr","Sa"))) | J5: =IF($A$3="","",IF(J$6>DAY(EOMONTH($A$3,0)),"",CHOOSE(WEEKDAY(DATE(YEAR($A$3),MONTH($A$3),J$6)),"Su","Mo","Tu","We","Th","Fr","Sa"))) | ... AG5: =IF($A$3="","",IF(AG$6>DAY(EOMONTH($A$3,0)),"",CHOOSE(WEEKDAY(DATE(YEAR($A$3),MONTH($A$3),AG$6)),"Su","Mo","Tu","We","Th","Fr","Sa")))
A6: # | B6: Employee | C6: 1 | D6: 2 | E6: 3 | F6: 4 | G6: 5 | H6: 6 | I6: 7 | J6: 8 | K6: 9 | L6: 10 | M6: 11 | N6: 12 | O6: 13 | P6: 14 | Q6: 15 | R6: 16 | S6: 17 | T6: 18 | U6: 19 | V6: 20 | W6: 21 | X6: 22 | Y6: 23 | Z6: 24 | AA6: 25 | AB6: 26 | AC6: 27 | AD6: 28 | AE6: 29 | AF6: 30 | AG6: 31 | AH6: Present | AI6: Late | AJ6: Absent | AK6: Sick | AL6: Vacation | AM6: Holiday
A7: =IF(B7="","",ROW()-6) | B7: =IF(Summary!$B7="","",Summary!$B7) | C7: P | D7: H | G7: P | H7: P | I7: P | J7: P | K7: P | N7: P | O7: A | P7: P | Q7: P | R7: P | U7: P | V7: P | W7: P | X7: P | Y7: P | AB7: P | AC7: P | AD7: P | AE7: P | AF7: P | AH7: =IF(B7="","",COUNTIF($C7:$AG7,"P")+COUNTIF($C7:$AG7,"L")) | AI7: =IF(B7="","",COUNTIF($C7:$AG7,"L")) | AJ7: =IF(B7="","",COUNTIF($C7:$AG7,"A")) | AK7: =IF(B7="","",COUNTIF($C7:$AG7,"S")) | AL7: =IF(B7="","",COUNTIF($C7:$AG7,"V")) | AM7: =IF(B7="","",COUNTIF($C7:$AG7,"H"))
A8: =IF(B8="","",ROW()-6) | B8: =IF(Summary!$B8="","",Summary!$B8) | C8: P | D8: H | G8: P | H8: P | I8: P | J8: P | K8: S | N8: P | O8: P | P8: P | Q8: L | R8: P | U8: P | V8: P | W8: P | X8: P | Y8: P | AB8: P | AC8: P | AD8: P | AE8: P | AF8: P | AH8: =IF(B8="","",COUNTIF($C8:$AG8,"P")+COUNTIF($C8:$AG8,"L")) | AI8: =IF(B8="","",COUNTIF($C8:$AG8,"L")) | AJ8: =IF(B8="","",COUNTIF($C8:$AG8,"A")) | AK8: =IF(B8="","",COUNTIF($C8:$AG8,"S")) | AL8: =IF(B8="","",COUNTIF($C8:$AG8,"V")) | AM8: =IF(B8="","",COUNTIF($C8:$AG8,"H"))
A9: =IF(B9="","",ROW()-6) | B9: =IF(Summary!$B9="","",Summary!$B9) | C9: P | D9: H | G9: P | H9: P | I9: P | J9: P | K9: P | N9: P | O9: P | P9: P | Q9: P | R9: P | U9: P | V9: V | W9: V | X9: V | Y9: P | AB9: P | AC9: P | AD9: P | AE9: P | AF9: P | AH9: =IF(B9="","",COUNTIF($C9:$AG9,"P")+COUNTIF($C9:$AG9,"L")) | AI9: =IF(B9="","",COUNTIF($C9:$AG9,"L")) | AJ9: =IF(B9="","",COUNTIF($C9:$AG9,"A")) | AK9: =IF(B9="","",COUNTIF($C9:$AG9,"S")) | AL9: =IF(B9="","",COUNTIF($C9:$AG9,"V")) | AM9: =IF(B9="","",COUNTIF($C9:$AG9,"H"))
A10: =IF(B10="","",ROW()-6) | B10: =IF(Summary!$B10="","",Summary!$B10) | AH10: =IF(B10="","",COUNTIF($C10:$AG10,"P")+COUNTIF($C10:$AG10,"L")) | AI10: =IF(B10="","",COUNTIF($C10:$AG10,"L")) | AJ10: =IF(B10="","",COUNTIF($C10:$AG10,"A")) | AK10: =IF(B10="","",COUNTIF($C10:$AG10,"S")) | AL10: =IF(B10="","",COUNTIF($C10:$AG10,"V")) | AM10: =IF(B10="","",COUNTIF($C10:$AG10,"H"))
A11: =IF(B11="","",ROW()-6) | B11: =IF(Summary!$B11="","",Summary!$B11) | AH11: =IF(B11="","",COUNTIF($C11:$AG11,"P")+COUNTIF($C11:$AG11,"L")) | AI11: =IF(B11="","",COUNTIF($C11:$AG11,"L")) | AJ11: =IF(B11="","",COUNTIF($C11:$AG11,"A")) | AK11: =IF(B11="","",COUNTIF($C11:$AG11,"S")) | AL11: =IF(B11="","",COUNTIF($C11:$AG11,"V")) | AM11: =IF(B11="","",COUNTIF($C11:$AG11,"H"))
A12: =IF(B12="","",ROW()-6) | B12: =IF(Summary!$B12="","",Summary!$B12) | AH12: =IF(B12="","",COUNTIF($C12:$AG12,"P")+COUNTIF($C12:$AG12,"L")) | AI12: =IF(B12="","",COUNTIF($C12:$AG12,"L")) | AJ12: =IF(B12="","",COUNTIF($C12:$AG12,"A")) | AK12: =IF(B12="","",COUNTIF($C12:$AG12,"S")) | AL12: =IF(B12="","",COUNTIF($C12:$AG12,"V")) | AM12: =IF(B12="","",COUNTIF($C12:$AG12,"H"))
A13: =IF(B13="","",ROW()-6) | B13: =IF(Summary!$B13="","",Summary!$B13) | AH13: =IF(B13="","",COUNTIF($C13:$AG13,"P")+COUNTIF($C13:$AG13,"L")) | AI13: =IF(B13="","",COUNTIF($C13:$AG13,"L")) | AJ13: =IF(B13="","",COUNTIF($C13:$AG13,"A")) | AK13: =IF(B13="","",COUNTIF($C13:$AG13,"S")) | AL13: =IF(B13="","",COUNTIF($C13:$AG13,"V")) | AM13: =IF(B13="","",COUNTIF($C13:$AG13,"H"))
A14: =IF(B14="","",ROW()-6) | B14: =IF(Summary!$B14="","",Summary!$B14) | AH14: =IF(B14="","",COUNTIF($C14:$AG14,"P")+COUNTIF($C14:$AG14,"L")) | AI14: =IF(B14="","",COUNTIF($C14:$AG14,"L")) | AJ14: =IF(B14="","",COUNTIF($C14:$AG14,"A")) | AK14: =IF(B14="","",COUNTIF($C14:$AG14,"S")) | AL14: =IF(B14="","",COUNTIF($C14:$AG14,"V")) | AM14: =IF(B14="","",COUNTIF($C14:$AG14,"H"))
A15: =IF(B15="","",ROW()-6) | B15: =IF(Summary!$B15="","",Summary!$B15) | AH15: =IF(B15="","",COUNTIF($C15:$AG15,"P")+COUNTIF($C15:$AG15,"L")) | AI15: =IF(B15="","",COUNTIF($C15:$AG15,"L")) | AJ15: =IF(B15="","",COUNTIF($C15:$AG15,"A")) | AK15: =IF(B15="","",COUNTIF($C15:$AG15,"S")) | AL15: =IF(B15="","",COUNTIF($C15:$AG15,"V")) | AM15: =IF(B15="","",COUNTIF($C15:$AG15,"H"))
A16: =IF(B16="","",ROW()-6) | B16: =IF(Summary!$B16="","",Summary!$B16) | AH16: =IF(B16="","",COUNTIF($C16:$AG16,"P")+COUNTIF($C16:$AG16,"L")) | AI16: =IF(B16="","",COUNTIF($C16:$AG16,"L")) | AJ16: =IF(B16="","",COUNTIF($C16:$AG16,"A")) | AK16: =IF(B16="","",COUNTIF($C16:$AG16,"S")) | AL16: =IF(B16="","",COUNTIF($C16:$AG16,"V")) | AM16: =IF(B16="","",COUNTIF($C16:$AG16,"H"))
A17: =IF(B17="","",ROW()-6) | B17: =IF(Summary!$B17="","",Summary!$B17) | AH17: =IF(B17="","",COUNTIF($C17:$AG17,"P")+COUNTIF($C17:$AG17,"L")) | AI17: =IF(B17="","",COUNTIF($C17:$AG17,"L")) | AJ17: =IF(B17="","",COUNTIF($C17:$AG17,"A")) | AK17: =IF(B17="","",COUNTIF($C17:$AG17,"S")) | AL17: =IF(B17="","",COUNTIF($C17:$AG17,"V")) | AM17: =IF(B17="","",COUNTIF($C17:$AG17,"H"))
A18: =IF(B18="","",ROW()-6) | B18: =IF(Summary!$B18="","",Summary!$B18) | AH18: =IF(B18="","",COUNTIF($C18:$AG18,"P")+COUNTIF($C18:$AG18,"L")) | AI18: =IF(B18="","",COUNTIF($C18:$AG18,"L")) | AJ18: =IF(B18="","",COUNTIF($C18:$AG18,"A")) | AK18: =IF(B18="","",COUNTIF($C18:$AG18,"S")) | AL18: =IF(B18="","",COUNTIF($C18:$AG18,"V")) | AM18: =IF(B18="","",COUNTIF($C18:$AG18,"H"))
A19: =IF(B19="","",ROW()-6) | B19: =IF(Summary!$B19="","",Summary!$B19) | AH19: =IF(B19="","",COUNTIF($C19:$AG19,"P")+COUNTIF($C19:$AG19,"L")) | AI19: =IF(B19="","",COUNTIF($C19:$AG19,"L")) | AJ19: =IF(B19="","",COUNTIF($C19:$AG19,"A")) | AK19: =IF(B19="","",COUNTIF($C19:$AG19,"S")) | AL19: =IF(B19="","",COUNTIF($C19:$AG19,"V")) | AM19: =IF(B19="","",COUNTIF($C19:$AG19,"H"))
A20: =IF(B20="","",ROW()-6) | B20: =IF(Summary!$B20="","",Summary!$B20) | AH20: =IF(B20="","",COUNTIF($C20:$AG20,"P")+COUNTIF($C20:$AG20,"L")) | AI20: =IF(B20="","",COUNTIF($C20:$AG20,"L")) | AJ20: =IF(B20="","",COUNTIF($C20:$AG20,"A")) | AK20: =IF(B20="","",COUNTIF($C20:$AG20,"S")) | AL20: =IF(B20="","",COUNTIF($C20:$AG20,"V")) | AM20: =IF(B20="","",COUNTIF($C20:$AG20,"H"))
A21: =IF(B21="","",ROW()-6) | B21: =IF(Summary!$B21="","",Summary!$B21) | AH21: =IF(B21="","",COUNTIF($C21:$AG21,"P")+COUNTIF($C21:$AG21,"L")) | AI21: =IF(B21="","",COUNTIF($C21:$AG21,"L")) | AJ21: =IF(B21="","",COUNTIF($C21:$AG21,"A")) | AK21: =IF(B21="","",COUNTIF($C21:$AG21,"S")) | AL21: =IF(B21="","",COUNTIF($C21:$AG21,"V")) | AM21: =IF(B21="","",COUNTIF($C21:$AG21,"H"))
... A36: =IF(B36="","",ROW()-6) | B36: =IF(Summary!$B36="","",Summary!$B36) | AH36: =IF(B36="","",COUNTIF($C36:$AG36,"P")+COUNTIF($C36:$AG36,"L")) | AI36: =IF(B36="","",COUNTIF($C36:$AG36,"L")) | AJ36: =IF(B36="","",COUNTIF($C36:$AG36,"A")) | AK36: =IF(B36="","",COUNTIF($C36:$AG36,"S")) | AL36: =IF(B36="","",COUNTIF($C36:$AG36,"V")) | AM36: =IF(B36="","",COUNTIF($C36:$AG36,"H"))
A37: Totals per day
B38: Present (P + L) | C38: =IF(C$5="","",COUNTIF(C$7:C$36,"P")+COUNTIF(C$7:C$36,"L")) | D38: =IF(D$5="","",COUNTIF(D$7:D$36,"P")+COUNTIF(D$7:D$36,"L")) | E38: =IF(E$5="","",COUNTIF(E$7:E$36,"P")+COUNTIF(E$7:E$36,"L")) | F38: =IF(F$5="","",COUNTIF(F$7:F$36,"P")+COUNTIF(F$7:F$36,"L")) | G38: =IF(G$5="","",COUNTIF(G$7:G$36,"P")+COUNTIF(G$7:G$36,"L")) | H38: =IF(H$5="","",COUNTIF(H$7:H$36,"P")+COUNTIF(H$7:H$36,"L")) | I38: =IF(I$5="","",COUNTIF(I$7:I$36,"P")+COUNTIF(I$7:I$36,"L")) | J38: =IF(J$5="","",COUNTIF(J$7:J$36,"P")+COUNTIF(J$7:J$36,"L")) | ... AG38: =IF(AG$5="","",COUNTIF(AG$7:AG$36,"P")+COUNTIF(AG$7:AG$36,"L")) | AH38: =SUM(C38:AG38)
B39: Late | C39: =IF(C$5="","",COUNTIF(C$7:C$36,"L")) | D39: =IF(D$5="","",COUNTIF(D$7:D$36,"L")) | E39: =IF(E$5="","",COUNTIF(E$7:E$36,"L")) | F39: =IF(F$5="","",COUNTIF(F$7:F$36,"L")) | G39: =IF(G$5="","",COUNTIF(G$7:G$36,"L")) | H39: =IF(H$5="","",COUNTIF(H$7:H$36,"L")) | I39: =IF(I$5="","",COUNTIF(I$7:I$36,"L")) | J39: =IF(J$5="","",COUNTIF(J$7:J$36,"L")) | ... AG39: =IF(AG$5="","",COUNTIF(AG$7:AG$36,"L")) | AH39: =SUM(C39:AG39)
B40: Absent | C40: =IF(C$5="","",COUNTIF(C$7:C$36,"A")) | D40: =IF(D$5="","",COUNTIF(D$7:D$36,"A")) | E40: =IF(E$5="","",COUNTIF(E$7:E$36,"A")) | F40: =IF(F$5="","",COUNTIF(F$7:F$36,"A")) | G40: =IF(G$5="","",COUNTIF(G$7:G$36,"A")) | H40: =IF(H$5="","",COUNTIF(H$7:H$36,"A")) | I40: =IF(I$5="","",COUNTIF(I$7:I$36,"A")) | J40: =IF(J$5="","",COUNTIF(J$7:J$36,"A")) | ... AG40: =IF(AG$5="","",COUNTIF(AG$7:AG$36,"A")) | AH40: =SUM(C40:AG40)
B41: Sick | C41: =IF(C$5="","",COUNTIF(C$7:C$36,"S")) | D41: =IF(D$5="","",COUNTIF(D$7:D$36,"S")) | E41: =IF(E$5="","",COUNTIF(E$7:E$36,"S")) | F41: =IF(F$5="","",COUNTIF(F$7:F$36,"S")) | G41: =IF(G$5="","",COUNTIF(G$7:G$36,"S")) | H41: =IF(H$5="","",COUNTIF(H$7:H$36,"S")) | I41: =IF(I$5="","",COUNTIF(I$7:I$36,"S")) | J41: =IF(J$5="","",COUNTIF(J$7:J$36,"S")) | ... AG41: =IF(AG$5="","",COUNTIF(AG$7:AG$36,"S")) | AH41: =SUM(C41:AG41)
B42: Vacation | C42: =IF(C$5="","",COUNTIF(C$7:C$36,"V")) | D42: =IF(D$5="","",COUNTIF(D$7:D$36,"V")) | E42: =IF(E$5="","",COUNTIF(E$7:E$36,"V")) | F42: =IF(F$5="","",COUNTIF(F$7:F$36,"V")) | G42: =IF(G$5="","",COUNTIF(G$7:G$36,"V")) | H42: =IF(H$5="","",COUNTIF(H$7:H$36,"V")) | I42: =IF(I$5="","",COUNTIF(I$7:I$36,"V")) | J42: =IF(J$5="","",COUNTIF(J$7:J$36,"V")) | ... AG42: =IF(AG$5="","",COUNTIF(AG$7:AG$36,"V")) | AH42: =SUM(C42:AG42)
B43: Holiday | C43: =IF(C$5="","",COUNTIF(C$7:C$36,"H")) | D43: =IF(D$5="","",COUNTIF(D$7:D$36,"H")) | E43: =IF(E$5="","",COUNTIF(E$7:E$36,"H")) | F43: =IF(F$5="","",COUNTIF(F$7:F$36,"H")) | G43: =IF(G$5="","",COUNTIF(G$7:G$36,"H")) | H43: =IF(H$5="","",COUNTIF(H$7:H$36,"H")) | I43: =IF(I$5="","",COUNTIF(I$7:I$36,"H")) | J43: =IF(J$5="","",COUNTIF(J$7:J$36,"H")) | ... AG43: =IF(AG$5="","",COUNTIF(AG$7:AG$36,"H")) | AH43: =SUM(C43:AG43)
A45: Made with PunchClock · punchclock.ai/tools

Sheet Feb 2026
A1: =IF($A$3="","Attendance register","Attendance register – "&TEXT($A$3,"mmmm yyyy"))
A2: One row per employee, one column per day. Type a code in each cell; the dropdown lists them. Names come from the Summary sheet.
A3: =IF(C3="","",DATE(YEAR(C3),MONTH(C3),1)) | B3: Month | C3: =DATE(Summary!$B$3,2,1) | K3: Codes: | L3: P | M3: Present | P3: L | Q3: Late | T3: A | U3: Absent | X3: S | Y3: Sick | AB3: V | AC3: Vacation | AF3: H | AG3: Holiday
A4: Yellow cells are yours to fill in. White cells are worked out for you and locked (Review › Unprotect Sheet, no password, if you need to change them).
C5: =IF($A$3="","",IF(C$6>DAY(EOMONTH($A$3,0)),"",CHOOSE(WEEKDAY(DATE(YEAR($A$3),MONTH($A$3),C$6)),"Su","Mo","Tu","We","Th","Fr","Sa"))) | D5: =IF($A$3="","",IF(D$6>DAY(EOMONTH($A$3,0)),"",CHOOSE(WEEKDAY(DATE(YEAR($A$3),MONTH($A$3),D$6)),"Su","Mo","Tu","We","Th","Fr","Sa"))) | E5: =IF($A$3="","",IF(E$6>DAY(EOMONTH($A$3,0)),"",CHOOSE(WEEKDAY(DATE(YEAR($A$3),MONTH($A$3),E$6)),"Su","Mo","Tu","We","Th","Fr","Sa"))) | F5: =IF($A$3="","",IF(F$6>DAY(EOMONTH($A$3,0)),"",CHOOSE(WEEKDAY(DATE(YEAR($A$3),MONTH($A$3),F$6)),"Su","Mo","Tu","We","Th","Fr","Sa"))) | G5: =IF($A$3="","",IF(G$6>DAY(EOMONTH($A$3,0)),"",CHOOSE(WEEKDAY(DATE(YEAR($A$3),MONTH($A$3),G$6)),"Su","Mo","Tu","We","Th","Fr","Sa"))) | H5: =IF($A$3="","",IF(H$6>DAY(EOMONTH($A$3,0)),"",CHOOSE(WEEKDAY(DATE(YEAR($A$3),MONTH($A$3),H$6)),"Su","Mo","Tu","We","Th","Fr","Sa"))) | I5: =IF($A$3="","",IF(I$6>DAY(EOMONTH($A$3,0)),"",CHOOSE(WEEKDAY(DATE(YEAR($A$3),MONTH($A$3),I$6)),"Su","Mo","Tu","We","Th","Fr","Sa"))) | J5: =IF($A$3="","",IF(J$6>DAY(EOMONTH($A$3,0)),"",CHOOSE(WEEKDAY(DATE(YEAR($A$3),MONTH($A$3),J$6)),"Su","Mo","Tu","We","Th","Fr","Sa"))) | ... AG5: =IF($A$3="","",IF(AG$6>DAY(EOMONTH($A$3,0)),"",CHOOSE(WEEKDAY(DATE(YEAR($A$3),MONTH($A$3),AG$6)),"Su","Mo","Tu","We","Th","Fr","Sa")))
A6: # | B6: Employee | C6: 1 | D6: 2 | E6: 3 | F6: 4 | G6: 5 | H6: 6 | I6: 7 | J6: 8 | K6: 9 | L6: 10 | M6: 11 | N6: 12 | O6: 13 | P6: 14 | Q6: 15 | R6: 16 | S6: 17 | T6: 18 | U6: 19 | V6: 20 | W6: 21 | X6: 22 | Y6: 23 | Z6: 24 | AA6: 25 | AB6: 26 | AC6: 27 | AD6: 28 | AE6: 29 | AF6: 30 | AG6: 31 | AH6: Present | AI6: Late | AJ6: Absent | AK6: Sick | AL6: Vacation | AM6: Holiday
A7: =IF(B7="","",ROW()-6) | B7: =IF(Summary!$B7="","",Summary!$B7) | AH7: =IF(B7="","",COUNTIF($C7:$AG7,"P")+COUNTIF($C7:$AG7,"L")) | AI7: =IF(B7="","",COUNTIF($C7:$AG7,"L")) | AJ7: =IF(B7="","",COUNTIF($C7:$AG7,"A")) | AK7: =IF(B7="","",COUNTIF($C7:$AG7,"S")) | AL7: =IF(B7="","",COUNTIF($C7:$AG7,"V")) | AM7: =IF(B7="","",COUNTIF($C7:$AG7,"H"))
A8: =IF(B8="","",ROW()-6) | B8: =IF(Summary!$B8="","",Summary!$B8) | AH8: =IF(B8="","",COUNTIF($C8:$AG8,"P")+COUNTIF($C8:$AG8,"L")) | AI8: =IF(B8="","",COUNTIF($C8:$AG8,"L")) | AJ8: =IF(B8="","",COUNTIF($C8:$AG8,"A")) | AK8: =IF(B8="","",COUNTIF($C8:$AG8,"S")) | AL8: =IF(B8="","",COUNTIF($C8:$AG8,"V")) | AM8: =IF(B8="","",COUNTIF($C8:$AG8,"H"))
A9: =IF(B9="","",ROW()-6) | B9: =IF(Summary!$B9="","",Summary!$B9) | AH9: =IF(B9="","",COUNTIF($C9:$AG9,"P")+COUNTIF($C9:$AG9,"L")) | AI9: =IF(B9="","",COUNTIF($C9:$AG9,"L")) | AJ9: =IF(B9="","",COUNTIF($C9:$AG9,"A")) | AK9: =IF(B9="","",COUNTIF($C9:$AG9,"S")) | AL9: =IF(B9="","",COUNTIF($C9:$AG9,"V")) | AM9: =IF(B9="","",COUNTIF($C9:$AG9,"H"))
A10: =IF(B10="","",ROW()-6) | B10: =IF(Summary!$B10="","",Summary!$B10) | AH10: =IF(B10="","",COUNTIF($C10:$AG10,"P")+COUNTIF($C10:$AG10,"L")) | AI10: =IF(B10="","",COUNTIF($C10:$AG10,"L")) | AJ10: =IF(B10="","",COUNTIF($C10:$AG10,"A")) | AK10: =IF(B10="","",COUNTIF($C10:$AG10,"S")) | AL10: =IF(B10="","",COUNTIF($C10:$AG10,"V")) | AM10: =IF(B10="","",COUNTIF($C10:$AG10,"H"))
A11: =IF(B11="","",ROW()-6) | B11: =IF(Summary!$B11="","",Summary!$B11) | AH11: =IF(B11="","",COUNTIF($C11:$AG11,"P")+COUNTIF($C11:$AG11,"L")) | AI11: =IF(B11="","",COUNTIF($C11:$AG11,"L")) | AJ11: =IF(B11="","",COUNTIF($C11:$AG11,"A")) | AK11: =IF(B11="","",COUNTIF($C11:$AG11,"S")) | AL11: =IF(B11="","",COUNTIF($C11:$AG11,"V")) | AM11: =IF(B11="","",COUNTIF($C11:$AG11,"H"))
A12: =IF(B12="","",ROW()-6) | B12: =IF(Summary!$B12="","",Summary!$B12) | AH12: =IF(B12="","",COUNTIF($C12:$AG12,"P")+COUNTIF($C12:$AG12,"L")) | AI12: =IF(B12="","",COUNTIF($C12:$AG12,"L")) | AJ12: =IF(B12="","",COUNTIF($C12:$AG12,"A")) | AK12: =IF(B12="","",COUNTIF($C12:$AG12,"S")) | AL12: =IF(B12="","",COUNTIF($C12:$AG12,"V")) | AM12: =IF(B12="","",COUNTIF($C12:$AG12,"H"))
A13: =IF(B13="","",ROW()-6) | B13: =IF(Summary!$B13="","",Summary!$B13) | AH13: =IF(B13="","",COUNTIF($C13:$AG13,"P")+COUNTIF($C13:$AG13,"L")) | AI13: =IF(B13="","",COUNTIF($C13:$AG13,"L")) | AJ13: =IF(B13="","",COUNTIF($C13:$AG13,"A")) | AK13: =IF(B13="","",COUNTIF($C13:$AG13,"S")) | AL13: =IF(B13="","",COUNTIF($C13:$AG13,"V")) | AM13: =IF(B13="","",COUNTIF($C13:$AG13,"H"))
A14: =IF(B14="","",ROW()-6) | B14: =IF(Summary!$B14="","",Summary!$B14) | AH14: =IF(B14="","",COUNTIF($C14:$AG14,"P")+COUNTIF($C14:$AG14,"L")) | AI14: =IF(B14="","",COUNTIF($C14:$AG14,"L")) | AJ14: =IF(B14="","",COUNTIF($C14:$AG14,"A")) | AK14: =IF(B14="","",COUNTIF($C14:$AG14,"S")) | AL14: =IF(B14="","",COUNTIF($C14:$AG14,"V")) | AM14: =IF(B14="","",COUNTIF($C14:$AG14,"H"))
A15: =IF(B15="","",ROW()-6) | B15: =IF(Summary!$B15="","",Summary!$B15) | AH15: =IF(B15="","",COUNTIF($C15:$AG15,"P")+COUNTIF($C15:$AG15,"L")) | AI15: =IF(B15="","",COUNTIF($C15:$AG15,"L")) | AJ15: =IF(B15="","",COUNTIF($C15:$AG15,"A")) | AK15: =IF(B15="","",COUNTIF($C15:$AG15,"S")) | AL15: =IF(B15="","",COUNTIF($C15:$AG15,"V")) | AM15: =IF(B15="","",COUNTIF($C15:$AG15,"H"))
A16: =IF(B16="","",ROW()-6) | B16: =IF(Summary!$B16="","",Summary!$B16) | AH16: =IF(B16="","",COUNTIF($C16:$AG16,"P")+COUNTIF($C16:$AG16,"L")) | AI16: =IF(B16="","",COUNTIF($C16:$AG16,"L")) | AJ16: =IF(B16="","",COUNTIF($C16:$AG16,"A")) | AK16: =IF(B16="","",COUNTIF($C16:$AG16,"S")) | AL16: =IF(B16="","",COUNTIF($C16:$AG16,"V")) | AM16: =IF(B16="","",COUNTIF($C16:$AG16,"H"))
A17: =IF(B17="","",ROW()-6) | B17: =IF(Summary!$B17="","",Summary!$B17) | AH17: =IF(B17="","",COUNTIF($C17:$AG17,"P")+COUNTIF($C17:$AG17,"L")) | AI17: =IF(B17="","",COUNTIF($C17:$AG17,"L")) | AJ17: =IF(B17="","",COUNTIF($C17:$AG17,"A")) | AK17: =IF(B17="","",COUNTIF($C17:$AG17,"S")) | AL17: =IF(B17="","",COUNTIF($C17:$AG17,"V")) | AM17: =IF(B17="","",COUNTIF($C17:$AG17,"H"))
A18: =IF(B18="","",ROW()-6) | B18: =IF(Summary!$B18="","",Summary!$B18) | AH18: =IF(B18="","",COUNTIF($C18:$AG18,"P")+COUNTIF($C18:$AG18,"L")) | AI18: =IF(B18="","",COUNTIF($C18:$AG18,"L")) | AJ18: =IF(B18="","",COUNTIF($C18:$AG18,"A")) | AK18: =IF(B18="","",COUNTIF($C18:$AG18,"S")) | AL18: =IF(B18="","",COUNTIF($C18:$AG18,"V")) | AM18: =IF(B18="","",COUNTIF($C18:$AG18,"H"))
... A36: =IF(B36="","",ROW()-6) | B36: =IF(Summary!$B36="","",Summary!$B36) | AH36: =IF(B36="","",COUNTIF($C36:$AG36,"P")+COUNTIF($C36:$AG36,"L")) | AI36: =IF(B36="","",COUNTIF($C36:$AG36,"L")) | AJ36: =IF(B36="","",COUNTIF($C36:$AG36,"A")) | AK36: =IF(B36="","",COUNTIF($C36:$AG36,"S")) | AL36: =IF(B36="","",COUNTIF($C36:$AG36,"V")) | AM36: =IF(B36="","",COUNTIF($C36:$AG36,"H"))
A37: Totals per day
B38: Present (P + L) | C38: =IF(C$5="","",COUNTIF(C$7:C$36,"P")+COUNTIF(C$7:C$36,"L")) | D38: =IF(D$5="","",COUNTIF(D$7:D$36,"P")+COUNTIF(D$7:D$36,"L")) | E38: =IF(E$5="","",COUNTIF(E$7:E$36,"P")+COUNTIF(E$7:E$36,"L")) | F38: =IF(F$5="","",COUNTIF(F$7:F$36,"P")+COUNTIF(F$7:F$36,"L")) | G38: =IF(G$5="","",COUNTIF(G$7:G$36,"P")+COUNTIF(G$7:G$36,"L")) | H38: =IF(H$5="","",COUNTIF(H$7:H$36,"P")+COUNTIF(H$7:H$36,"L")) | I38: =IF(I$5="","",COUNTIF(I$7:I$36,"P")+COUNTIF(I$7:I$36,"L")) | J38: =IF(J$5="","",COUNTIF(J$7:J$36,"P")+COUNTIF(J$7:J$36,"L")) | ... AG38: =IF(AG$5="","",COUNTIF(AG$7:AG$36,"P")+COUNTIF(AG$7:AG$36,"L")) | AH38: =SUM(C38:AG38)
B39: Late | C39: =IF(C$5="","",COUNTIF(C$7:C$36,"L")) | D39: =IF(D$5="","",COUNTIF(D$7:D$36,"L")) | E39: =IF(E$5="","",COUNTIF(E$7:E$36,"L")) | F39: =IF(F$5="","",COUNTIF(F$7:F$36,"L")) | G39: =IF(G$5="","",COUNTIF(G$7:G$36,"L")) | H39: =IF(H$5="","",COUNTIF(H$7:H$36,"L")) | I39: =IF(I$5="","",COUNTIF(I$7:I$36,"L")) | J39: =IF(J$5="","",COUNTIF(J$7:J$36,"L")) | ... AG39: =IF(AG$5="","",COUNTIF(AG$7:AG$36,"L")) | AH39: =SUM(C39:AG39)
B40: Absent | C40: =IF(C$5="","",COUNTIF(C$7:C$36,"A")) | D40: =IF(D$5="","",COUNTIF(D$7:D$36,"A")) | E40: =IF(E$5="","",COUNTIF(E$7:E$36,"A")) | F40: =IF(F$5="","",COUNTIF(F$7:F$36,"A")) | G40: =IF(G$5="","",COUNTIF(G$7:G$36,"A")) | H40: =IF(H$5="","",COUNTIF(H$7:H$36,"A")) | I40: =IF(I$5="","",COUNTIF(I$7:I$36,"A")) | J40: =IF(J$5="","",COUNTIF(J$7:J$36,"A")) | ... AG40: =IF(AG$5="","",COUNTIF(AG$7:AG$36,"A")) | AH40: =SUM(C40:AG40)
B41: Sick | C41: =IF(C$5="","",COUNTIF(C$7:C$36,"S")) | D41: =IF(D$5="","",COUNTIF(D$7:D$36,"S")) | E41: =IF(E$5="","",COUNTIF(E$7:E$36,"S")) | F41: =IF(F$5="","",COUNTIF(F$7:F$36,"S")) | G41: =IF(G$5="","",COUNTIF(G$7:G$36,"S")) | H41: =IF(H$5="","",COUNTIF(H$7:H$36,"S")) | I41: =IF(I$5="","",COUNTIF(I$7:I$36,"S")) | J41: =IF(J$5="","",COUNTIF(J$7:J$36,"S")) | ... AG41: =IF(AG$5="","",COUNTIF(AG$7:AG$36,"S")) | AH41: =SUM(C41:AG41)
B42: Vacation | C42: =IF(C$5="","",COUNTIF(C$7:C$36,"V")) | D42: =IF(D$5="","",COUNTIF(D$7:D$36,"V")) | E42: =IF(E$5="","",COUNTIF(E$7:E$36,"V")) | F42: =IF(F$5="","",COUNTIF(F$7:F$36,"V")) | G42: =IF(G$5="","",COUNTIF(G$7:G$36,"V")) | H42: =IF(H$5="","",COUNTIF(H$7:H$36,"V")) | I42: =IF(I$5="","",COUNTIF(I$7:I$36,"V")) | J42: =IF(J$5="","",COUNTIF(J$7:J$36,"V")) | ... AG42: =IF(AG$5="","",COUNTIF(AG$7:AG$36,"V")) | AH42: =SUM(C42:AG42)
B43: Holiday | C43: =IF(C$5="","",COUNTIF(C$7:C$36,"H")) | D43: =IF(D$5="","",COUNTIF(D$7:D$36,"H")) | E43: =IF(E$5="","",COUNTIF(E$7:E$36,"H")) | F43: =IF(F$5="","",COUNTIF(F$7:F$36,"H")) | G43: =IF(G$5="","",COUNTIF(G$7:G$36,"H")) | H43: =IF(H$5="","",COUNTIF(H$7:H$36,"H")) | I43: =IF(I$5="","",COUNTIF(I$7:I$36,"H")) | J43: =IF(J$5="","",COUNTIF(J$7:J$36,"H")) | ... AG43: =IF(AG$5="","",COUNTIF(AG$7:AG$36,"H")) | AH43: =SUM(C43:AG43)
A45: Made with PunchClock · punchclock.ai/tools

Sheet Mar 2026
A1: =IF($A$3="","Attendance register","Attendance register – "&TEXT($A$3,"mmmm yyyy"))
A2: One row per employee, one column per day. Type a code in each cell; the dropdown lists them. Names come from the Summary sheet.
A3: =IF(C3="","",DATE(YEAR(C3),MONTH(C3),1)) | B3: Month | C3: =DATE(Summary!$B$3,3,1) | K3: Codes: | L3: P | M3: Present | P3: L | Q3: Late | T3: A | U3: Absent | X3: S | Y3: Sick | AB3: V | AC3: Vacation | AF3: H | AG3: Holiday
A4: Yellow cells are yours to fill in. White cells are worked out for you and locked (Review › Unprotect Sheet, no password, if you need to change them).
C5: =IF($A$3="","",IF(C$6>DAY(EOMONTH($A$3,0)),"",CHOOSE(WEEKDAY(DATE(YEAR($A$3),MONTH($A$3),C$6)),"Su","Mo","Tu","We","Th","Fr","Sa"))) | D5: =IF($A$3="","",IF(D$6>DAY(EOMONTH($A$3,0)),"",CHOOSE(WEEKDAY(DATE(YEAR($A$3),MONTH($A$3),D$6)),"Su","Mo","Tu","We","Th","Fr","Sa"))) | E5: =IF($A$3="","",IF(E$6>DAY(EOMONTH($A$3,0)),"",CHOOSE(WEEKDAY(DATE(YEAR($A$3),MONTH($A$3),E$6)),"Su","Mo","Tu","We","Th","Fr","Sa"))) | F5: =IF($A$3="","",IF(F$6>DAY(EOMONTH($A$3,0)),"",CHOOSE(WEEKDAY(DATE(YEAR($A$3),MONTH($A$3),F$6)),"Su","Mo","Tu","We","Th","Fr","Sa"))) | G5: =IF($A$3="","",IF(G$6>DAY(EOMONTH($A$3,0)),"",CHOOSE(WEEKDAY(DATE(YEAR($A$3),MONTH($A$3),G$6)),"Su","Mo","Tu","We","Th","Fr","Sa"))) | H5: =IF($A$3="","",IF(H$6>DAY(EOMONTH($A$3,0)),"",CHOOSE(WEEKDAY(DATE(YEAR($A$3),MONTH($A$3),H$6)),"Su","Mo","Tu","We","Th","Fr","Sa"))) | I5: =IF($A$3="","",IF(I$6>DAY(EOMONTH($A$3,0)),"",CHOOSE(WEEKDAY(DATE(YEAR($A$3),MONTH($A$3),I$6)),"Su","Mo","Tu","We","Th","Fr","Sa"))) | J5: =IF($A$3="","",IF(J$6>DAY(EOMONTH($A$3,0)),"",CHOOSE(WEEKDAY(DATE(YEAR($A$3),MONTH($A$3),J$6)),"Su","Mo","Tu","We","Th","Fr","Sa"))) | ... AG5: =IF($A$3="","",IF(AG$6>DAY(EOMONTH($A$3,0)),"",CHOOSE(WEEKDAY(DATE(YEAR($A$3),MONTH($A$3),AG$6)),"Su","Mo","Tu","We","Th","Fr","Sa")))
A6: # | B6: Employee | C6: 1 | D6: 2 | E6: 3 | F6: 4 | G6: 5 | H6: 6 | I6: 7 | J6: 8 | K6: 9 | L6: 10 | M6: 11 | N6: 12 | O6: 13 | P6: 14 | Q6: 15 | R6: 16 | S6: 17 | T6: 18 | U6: 19 | V6: 20 | W6: 21 | X6: 22 | Y6: 23 | Z6: 24 | AA6: 25 | AB6: 26 | AC6: 27 | AD6: 28 | AE6: 29 | AF6: 30 | AG6: 31 | AH6: Present | AI6: Late | AJ6: Absent | AK6: Sick | AL6: Vacation | AM6: Holiday
A7: =IF(B7="","",ROW()-6) | B7: =IF(Summary!$B7="","",Summary!$B7) | AH7: =IF(B7="","",COUNTIF($C7:$AG7,"P")+COUNTIF($C7:$AG7,"L")) | AI7: =IF(B7="","",COUNTIF($C7:$AG7,"L")) | AJ7: =IF(B7="","",COUNTIF($C7:$AG7,"A")) | AK7: =IF(B7="","",COUNTIF($C7:$AG7,"S")) | AL7: =IF(B7="","",COUNTIF($C7:$AG7,"V")) | AM7: =IF(B7="","",COUNTIF($C7:$AG7,"H"))
A8: =IF(B8="","",ROW()-6) | B8: =IF(Summary!$B8="","",Summary!$B8) | AH8: =IF(B8="","",COUNTIF($C8:$AG8,"P")+COUNTIF($C8:$AG8,"L")) | AI8: =IF(B8="","",COUNTIF($C8:$AG8,"L")) | AJ8: =IF(B8="","",COUNTIF($C8:$AG8,"A")) | AK8: =IF(B8="","",COUNTIF($C8:$AG8,"S")) | AL8: =IF(B8="","",COUNTIF($C8:$AG8,"V")) | AM8: =IF(B8="","",COUNTIF($C8:$AG8,"H"))
A9: =IF(B9="","",ROW()-6) | B9: =IF(Summary!$B9="","",Summary!$B9) | AH9: =IF(B9="","",COUNTIF($C9:$AG9,"P")+COUNTIF($C9:$AG9,"L")) | AI9: =IF(B9="","",COUNTIF($C9:$AG9,"L")) | AJ9: =IF(B9="","",COUNTIF($C9:$AG9,"A")) | AK9: =IF(B9="","",COUNTIF($C9:$AG9,"S")) | AL9: =IF(B9="","",COUNTIF($C9:$AG9,"V")) | AM9: =IF(B9="","",COUNTIF($C9:$AG9,"H"))
A10: =IF(B10="","",ROW()-6) | B10: =IF(Summary!$B10="","",Summary!$B10) | AH10: =IF(B10="","",COUNTIF($C10:$AG10,"P")+COUNTIF($C10:$AG10,"L")) | AI10: =IF(B10="","",COUNTIF($C10:$AG10,"L")) | AJ10: =IF(B10="","",COUNTIF($C10:$AG10,"A")) | AK10: =IF(B10="","",COUNTIF($C10:$AG10,"S")) | AL10: =IF(B10="","",COUNTIF($C10:$AG10,"V")) | AM10: =IF(B10="","",COUNTIF($C10:$AG10,"H"))
A11: =IF(B11="","",ROW()-6) | B11: =IF(Summary!$B11="","",Summary!$B11) | AH11: =IF(B11="","",COUNTIF($C11:$AG11,"P")+COUNTIF($C11:$AG11,"L")) | AI11: =IF(B11="","",COUNTIF($C11:$AG11,"L")) | AJ11: =IF(B11="","",COUNTIF($C11:$AG11,"A")) | AK11: =IF(B11="","",COUNTIF($C11:$AG11,"S")) | AL11: =IF(B11="","",COUNTIF($C11:$AG11,"V")) | AM11: =IF(B11="","",COUNTIF($C11:$AG11,"H"))
A12: =IF(B12="","",ROW()-6) | B12: =IF(Summary!$B12="","",Summary!$B12) | AH12: =IF(B12="","",COUNTIF($C12:$AG12,"P")+COUNTIF($C12:$AG12,"L")) | AI12: =IF(B12="","",COUNTIF($C12:$AG12,"L")) | AJ12: =IF(B12="","",COUNTIF($C12:$AG12,"A")) | AK12: =IF(B12="","",COUNTIF($C12:$AG12,"S")) | AL12: =IF(B12="","",COUNTIF($C12:$AG12,"V")) | AM12: =IF(B12="","",COUNTIF($C12:$AG12,"H"))
A13: =IF(B13="","",ROW()-6) | B13: =IF(Summary!$B13="","",Summary!$B13) | AH13: =IF(B13="","",COUNTIF($C13:$AG13,"P")+COUNTIF($C13:$AG13,"L")) | AI13: =IF(B13="","",COUNTIF($C13:$AG13,"L")) | AJ13: =IF(B13="","",COUNTIF($C13:$AG13,"A")) | AK13: =IF(B13="","",COUNTIF($C13:$AG13,"S")) | AL13: =IF(B13="","",COUNTIF($C13:$AG13,"V")) | AM13: =IF(B13="","",COUNTIF($C13:$AG13,"H"))
A14: =IF(B14="","",ROW()-6) | B14: =IF(Summary!$B14="","",Summary!$B14) | AH14: =IF(B14="","",COUNTIF($C14:$AG14,"P")+COUNTIF($C14:$AG14,"L")) | AI14: =IF(B14="","",COUNTIF($C14:$AG14,"L")) | AJ14: =IF(B14="","",COUNTIF($C14:$AG14,"A")) | AK14: =IF(B14="","",COUNTIF($C14:$AG14,"S")) | AL14: =IF(B14="","",COUNTIF($C14:$AG14,"V")) | AM14: =IF(B14="","",COUNTIF($C14:$AG14,"H"))
A15: =IF(B15="","",ROW()-6) | B15: =IF(Summary!$B15="","",Summary!$B15) | AH15: =IF(B15="","",COUNTIF($C15:$AG15,"P")+COUNTIF($C15:$AG15,"L")) | AI15: =IF(B15="","",COUNTIF($C15:$AG15,"L")) | AJ15: =IF(B15="","",COUNTIF($C15:$AG15,"A")) | AK15: =IF(B15="","",COUNTIF($C15:$AG15,"S")) | AL15: =IF(B15="","",COUNTIF($C15:$AG15,"V")) | AM15: =IF(B15="","",COUNTIF($C15:$AG15,"H"))
A16: =IF(B16="","",ROW()-6) | B16: =IF(Summary!$B16="","",Summary!$B16) | AH16: =IF(B16="","",COUNTIF($C16:$AG16,"P")+COUNTIF($C16:$AG16,"L")) | AI16: =IF(B16="","",COUNTIF($C16:$AG16,"L")) | AJ16: =IF(B16="","",COUNTIF($C16:$AG16,"A")) | AK16: =IF(B16="","",COUNTIF($C16:$AG16,"S")) | AL16: =IF(B16="","",COUNTIF($C16:$AG16,"V")) | AM16: =IF(B16="","",COUNTIF($C16:$AG16,"H"))
A17: =IF(B17="","",ROW()-6) | B17: =IF(Summary!$B17="","",Summary!$B17) | AH17: =IF(B17="","",COUNTIF($C17:$AG17,"P")+COUNTIF($C17:$AG17,"L")) | AI17: =IF(B17="","",COUNTIF($C17:$AG17,"L")) | AJ17: =IF(B17="","",COUNTIF($C17:$AG17,"A")) | AK17: =IF(B17="","",COUNTIF($C17:$AG17,"S")) | AL17: =IF(B17="","",COUNTIF($C17:$AG17,"V")) | AM17: =IF(B17="","",COUNTIF($C17:$AG17,"H"))
A18: =IF(B18="","",ROW()-6) | B18: =IF(Summary!$B18="","",Summary!$B18) | AH18: =IF(B18="","",COUNTIF($C18:$AG18,"P")+COUNTIF($C18:$AG18,"L")) | AI18: =IF(B18="","",COUNTIF($C18:$AG18,"L")) | AJ18: =IF(B18="","",COUNTIF($C18:$AG18,"A")) | AK18: =IF(B18="","",COUNTIF($C18:$AG18,"S")) | AL18: =IF(B18="","",COUNTIF($C18:$AG18,"V")) | AM18: =IF(B18="","",COUNTIF($C18:$AG18,"H"))
... A36: =IF(B36="","",ROW()-6) | B36: =IF(Summary!$B36="","",Summary!$B36) | AH36: =IF(B36="","",COUNTIF($C36:$AG36,"P")+COUNTIF($C36:$AG36,"L")) | AI36: =IF(B36="","",COUNTIF($C36:$AG36,"L")) | AJ36: =IF(B36="","",COUNTIF($C36:$AG36,"A")) | AK36: =IF(B36="","",COUNTIF($C36:$AG36,"S")) | AL36: =IF(B36="","",COUNTIF($C36:$AG36,"V")) | AM36: =IF(B36="","",COUNTIF($C36:$AG36,"H"))
A37: Totals per day
B38: Present (P + L) | C38: =IF(C$5="","",COUNTIF(C$7:C$36,"P")+COUNTIF(C$7:C$36,"L")) | D38: =IF(D$5="","",COUNTIF(D$7:D$36,"P")+COUNTIF(D$7:D$36,"L")) | E38: =IF(E$5="","",COUNTIF(E$7:E$36,"P")+COUNTIF(E$7:E$36,"L")) | F38: =IF(F$5="","",COUNTIF(F$7:F$36,"P")+COUNTIF(F$7:F$36,"L")) | G38: =IF(G$5="","",COUNTIF(G$7:G$36,"P")+COUNTIF(G$7:G$36,"L")) | H38: =IF(H$5="","",COUNTIF(H$7:H$36,"P")+COUNTIF(H$7:H$36,"L")) | I38: =IF(I$5="","",COUNTIF(I$7:I$36,"P")+COUNTIF(I$7:I$36,"L")) | J38: =IF(J$5="","",COUNTIF(J$7:J$36,"P")+COUNTIF(J$7:J$36,"L")) | ... AG38: =IF(AG$5="","",COUNTIF(AG$7:AG$36,"P")+COUNTIF(AG$7:AG$36,"L")) | AH38: =SUM(C38:AG38)
B39: Late | C39: =IF(C$5="","",COUNTIF(C$7:C$36,"L")) | D39: =IF(D$5="","",COUNTIF(D$7:D$36,"L")) | E39: =IF(E$5="","",COUNTIF(E$7:E$36,"L")) | F39: =IF(F$5="","",COUNTIF(F$7:F$36,"L")) | G39: =IF(G$5="","",COUNTIF(G$7:G$36,"L")) | H39: =IF(H$5="","",COUNTIF(H$7:H$36,"L")) | I39: =IF(I$5="","",COUNTIF(I$7:I$36,"L")) | J39: =IF(J$5="","",COUNTIF(J$7:J$36,"L")) | ... AG39: =IF(AG$5="","",COUNTIF(AG$7:AG$36,"L")) | AH39: =SUM(C39:AG39)
B40: Absent | C40: =IF(C$5="","",COUNTIF(C$7:C$36,"A")) | D40: =IF(D$5="","",COUNTIF(D$7:D$36,"A")) | E40: =IF(E$5="","",COUNTIF(E$7:E$36,"A")) | F40: =IF(F$5="","",COUNTIF(F$7:F$36,"A")) | G40: =IF(G$5="","",COUNTIF(G$7:G$36,"A")) | H40: =IF(H$5="","",COUNTIF(H$7:H$36,"A")) | I40: =IF(I$5="","",COUNTIF(I$7:I$36,"A")) | J40: =IF(J$5="","",COUNTIF(J$7:J$36,"A")) | ... AG40: =IF(AG$5="","",COUNTIF(AG$7:AG$36,"A")) | AH40: =SUM(C40:AG40)
B41: Sick | C41: =IF(C$5="","",COUNTIF(C$7:C$36,"S")) | D41: =IF(D$5="","",COUNTIF(D$7:D$36,"S")) | E41: =IF(E$5="","",COUNTIF(E$7:E$36,"S")) | F41: =IF(F$5="","",COUNTIF(F$7:F$36,"S")) | G41: =IF(G$5="","",COUNTIF(G$7:G$36,"S")) | H41: =IF(H$5="","",COUNTIF(H$7:H$36,"S")) | I41: =IF(I$5="","",COUNTIF(I$7:I$36,"S")) | J41: =IF(J$5="","",COUNTIF(J$7:J$36,"S")) | ... AG41: =IF(AG$5="","",COUNTIF(AG$7:AG$36,"S")) | AH41: =SUM(C41:AG41)
B42: Vacation | C42: =IF(C$5="","",COUNTIF(C$7:C$36,"V")) | D42: =IF(D$5="","",COUNTIF(D$7:D$36,"V")) | E42: =IF(E$5="","",COUNTIF(E$7:E$36,"V")) | F42: =IF(F$5="","",COUNTIF(F$7:F$36,"V")) | G42: =IF(G$5="","",COUNTIF(G$7:G$36,"V")) | H42: =IF(H$5="","",COUNTIF(H$7:H$36,"V")) | I42: =IF(I$5="","",COUNTIF(I$7:I$36,"V")) | J42: =IF(J$5="","",COUNTIF(J$7:J$36,"V")) | ... AG42: =IF(AG$5="","",COUNTIF(AG$7:AG$36,"V")) | AH42: =SUM(C42:AG42)
B43: Holiday | C43: =IF(C$5="","",COUNTIF(C$7:C$36,"H")) | D43: =IF(D$5="","",COUNTIF(D$7:D$36,"H")) | E43: =IF(E$5="","",COUNTIF(E$7:E$36,"H")) | F43: =IF(F$5="","",COUNTIF(F$7:F$36,"H")) | G43: =IF(G$5="","",COUNTIF(G$7:G$36,"H")) | H43: =IF(H$5="","",COUNTIF(H$7:H$36,"H")) | I43: =IF(I$5="","",COUNTIF(I$7:I$36,"H")) | J43: =IF(J$5="","",COUNTIF(J$7:J$36,"H")) | ... AG43: =IF(AG$5="","",COUNTIF(AG$7:AG$36,"H")) | AH43: =SUM(C43:AG43)
A45: Made with PunchClock · punchclock.ai/tools

Sheet Apr 2026
A1: =IF($A$3="","Attendance register","Attendance register – "&TEXT($A$3,"mmmm yyyy"))
A2: One row per employee, one column per day. Type a code in each cell; the dropdown lists them. Names come from the Summary sheet.
A3: =IF(C3="","",DATE(YEAR(C3),MONTH(C3),1)) | B3: Month | C3: =DATE(Summary!$B$3,4,1) | K3: Codes: | L3: P | M3: Present | P3: L | Q3: Late | T3: A | U3: Absent | X3: S | Y3: Sick | AB3: V | AC3: Vacation | AF3: H | AG3: Holiday
A4: Yellow cells are yours to fill in. White cells are worked out for you and locked (Review › Unprotect Sheet, no password, if you need to change them).
C5: =IF($A$3="","",IF(C$6>DAY(EOMONTH($A$3,0)),"",CHOOSE(WEEKDAY(DATE(YEAR($A$3),MONTH($A$3),C$6)),"Su","Mo","Tu","We","Th","Fr","Sa"))) | D5: =IF($A$3="","",IF(D$6>DAY(EOMONTH($A$3,0)),"",CHOOSE(WEEKDAY(DATE(YEAR($A$3),MONTH($A$3),D$6)),"Su","Mo","Tu","We","Th","Fr","Sa"))) | E5: =IF($A$3="","",IF(E$6>DAY(EOMONTH($A$3,0)),"",CHOOSE(WEEKDAY(DATE(YEAR($A$3),MONTH($A$3),E$6)),"Su","Mo","Tu","We","Th","Fr","Sa"))) | F5: =IF($A$3="","",IF(F$6>DAY(EOMONTH($A$3,0)),"",CHOOSE(WEEKDAY(DATE(YEAR($A$3),MONTH($A$3),F$6)),"Su","Mo","Tu","We","Th","Fr","Sa"))) | G5: =IF($A$3="","",IF(G$6>DAY(EOMONTH($A$3,0)),"",CHOOSE(WEEKDAY(DATE(YEAR($A$3),MONTH($A$3),G$6)),"Su","Mo","Tu","We","Th","Fr","Sa"))) | H5: =IF($A$3="","",IF(H$6>DAY(EOMONTH($A$3,0)),"",CHOOSE(WEEKDAY(DATE(YEAR($A$3),MONTH($A$3),H$6)),"Su","Mo","Tu","We","Th","Fr","Sa"))) | I5: =IF($A$3="","",IF(I$6>DAY(EOMONTH($A$3,0)),"",CHOOSE(WEEKDAY(DATE(YEAR($A$3),MONTH($A$3),I$6)),"Su","Mo","Tu","We","Th","Fr","Sa"))) | J5: =IF($A$3="","",IF(J$6>DAY(EOMONTH($A$3,0)),"",CHOOSE(WEEKDAY(DATE(YEAR($A$3),MONTH($A$3),J$6)),"Su","Mo","Tu","We","Th","Fr","Sa"))) | ... AG5: =IF($A$3="","",IF(AG$6>DAY(EOMONTH($A$3,0)),"",CHOOSE(WEEKDAY(DATE(YEAR($A$3),MONTH($A$3),AG$6)),"Su","Mo","Tu","We","Th","Fr","Sa")))
A6: # | B6: Employee | C6: 1 | D6: 2 | E6: 3 | F6: 4 | G6: 5 | H6: 6 | I6: 7 | J6: 8 | K6: 9 | L6: 10 | M6: 11 | N6: 12 | O6: 13 | P6: 14 | Q6: 15 | R6: 16 | S6: 17 | T6: 18 | U6: 19 | V6: 20 | W6: 21 | X6: 22 | Y6: 23 | Z6: 24 | AA6: 25 | AB6: 26 | AC6: 27 | AD6: 28 | AE6: 29 | AF6: 30 | AG6: 31 | AH6: Present | AI6: Late | AJ6: Absent | AK6: Sick | AL6: Vacation | AM6: Holiday
A7: =IF(B7="","",ROW()-6) | B7: =IF(Summary!$B7="","",Summary!$B7) | AH7: =IF(B7="","",COUNTIF($C7:$AG7,"P")+COUNTIF($C7:$AG7,"L")) | AI7: =IF(B7="","",COUNTIF($C7:$AG7,"L")) | AJ7: =IF(B7="","",COUNTIF($C7:$AG7,"A")) | AK7: =IF(B7="","",COUNTIF($C7:$AG7,"S")) | AL7: =IF(B7="","",COUNTIF($C7:$AG7,"V")) | AM7: =IF(B7="","",COUNTIF($C7:$AG7,"H"))
A8: =IF(B8="","",ROW()-6) | B8: =IF(Summary!$B8="","",Summary!$B8) | AH8: =IF(B8="","",COUNTIF($C8:$AG8,"P")+COUNTIF($C8:$AG8,"L")) | AI8: =IF(B8="","",COUNTIF($C8:$AG8,"L")) | AJ8: =IF(B8="","",COUNTIF($C8:$AG8,"A")) | AK8: =IF(B8="","",COUNTIF($C8:$AG8,"S")) | AL8: =IF(B8="","",COUNTIF($C8:$AG8,"V")) | AM8: =IF(B8="","",COUNTIF($C8:$AG8,"H"))
A9: =IF(B9="","",ROW()-6) | B9: =IF(Summary!$B9="","",Summary!$B9) | AH9: =IF(B9="","",COUNTIF($C9:$AG9,"P")+COUNTIF($C9:$AG9,"L")) | AI9: =IF(B9="","",COUNTIF($C9:$AG9,"L")) | AJ9: =IF(B9="","",COUNTIF($C9:$AG9,"A")) | AK9: =IF(B9="","",COUNTIF($C9:$AG9,"S")) | AL9: =IF(B9="","",COUNTIF($C9:$AG9,"V")) | AM9: =IF(B9="","",COUNTIF($C9:$AG9,"H"))
A10: =IF(B10="","",ROW()-6) | B10: =IF(Summary!$B10="","",Summary!$B10) | AH10: =IF(B10="","",COUNTIF($C10:$AG10,"P")+COUNTIF($C10:$AG10,"L")) | AI10: =IF(B10="","",COUNTIF($C10:$AG10,"L")) | AJ10: =IF(B10="","",COUNTIF($C10:$AG10,"A")) | AK10: =IF(B10="","",COUNTIF($C10:$AG10,"S")) | AL10: =IF(B10="","",COUNTIF($C10:$AG10,"V")) | AM10: =IF(B10="","",COUNTIF($C10:$AG10,"H"))
A11: =IF(B11="","",ROW()-6) | B11: =IF(Summary!$B11="","",Summary!$B11) | AH11: =IF(B11="","",COUNTIF($C11:$AG11,"P")+COUNTIF($C11:$AG11,"L")) | AI11: =IF(B11="","",COUNTIF($C11:$AG11,"L")) | AJ11: =IF(B11="","",COUNTIF($C11:$AG11,"A")) | AK11: =IF(B11="","",COUNTIF($C11:$AG11,"S")) | AL11: =IF(B11="","",COUNTIF($C11:$AG11,"V")) | AM11: =IF(B11="","",COUNTIF($C11:$AG11,"H"))
A12: =IF(B12="","",ROW()-6) | B12: =IF(Summary!$B12="","",Summary!$B12) | AH12: =IF(B12="","",COUNTIF($C12:$AG12,"P")+COUNTIF($C12:$AG12,"L")) | AI12: =IF(B12="","",COUNTIF($C12:$AG12,"L")) | AJ12: =IF(B12="","",COUNTIF($C12:$AG12,"A")) | AK12: =IF(B12="","",COUNTIF($C12:$AG12,"S")) | AL12: =IF(B12="","",COUNTIF($C12:$AG12,"V")) | AM12: =IF(B12="","",COUNTIF($C12:$AG12,"H"))
A13: =IF(B13="","",ROW()-6) | B13: =IF(Summary!$B13="","",Summary!$B13) | AH13: =IF(B13="","",COUNTIF($C13:$AG13,"P")+COUNTIF($C13:$AG13,"L")) | AI13: =IF(B13="","",COUNTIF($C13:$AG13,"L")) | AJ13: =IF(B13="","",COUNTIF($C13:$AG13,"A")) | AK13: =IF(B13="","",COUNTIF($C13:$AG13,"S")) | AL13: =IF(B13="","",COUNTIF($C13:$AG13,"V")) | AM13: =IF(B13="","",COUNTIF($C13:$AG13,"H"))
A14: =IF(B14="","",ROW()-6) | B14: =IF(Summary!$B14="","",Summary!$B14) | AH14: =IF(B14="","",COUNTIF($C14:$AG14,"P")+COUNTIF($C14:$AG14,"L")) | AI14: =IF(B14="","",COUNTIF($C14:$AG14,"L")) | AJ14: =IF(B14="","",COUNTIF($C14:$AG14,"A")) | AK14: =IF(B14="","",COUNTIF($C14:$AG14,"S")) | AL14: =IF(B14="","",COUNTIF($C14:$AG14,"V")) | AM14: =IF(B14="","",COUNTIF($C14:$AG14,"H"))
A15: =IF(B15="","",ROW()-6) | B15: =IF(Summary!$B15="","",Summary!$B15) | AH15: =IF(B15="","",COUNTIF($C15:$AG15,"P")+COUNTIF($C15:$AG15,"L")) | AI15: =IF(B15="","",COUNTIF($C15:$AG15,"L")) | AJ15: =IF(B15="","",COUNTIF($C15:$AG15,"A")) | AK15: =IF(B15="","",COUNTIF($C15:$AG15,"S")) | AL15: =IF(B15="","",COUNTIF($C15:$AG15,"V")) | AM15: =IF(B15="","",COUNTIF($C15:$AG15,"H"))
A16: =IF(B16="","",ROW()-6) | B16: =IF(Summary!$B16="","",Summary!$B16) | AH16: =IF(B16="","",COUNTIF($C16:$AG16,"P")+COUNTIF($C16:$AG16,"L")) | AI16: =IF(B16="","",COUNTIF($C16:$AG16,"L")) | AJ16: =IF(B16="","",COUNTIF($C16:$AG16,"A")) | AK16: =IF(B16="","",COUNTIF($C16:$AG16,"S")) | AL16: =IF(B16="","",COUNTIF($C16:$AG16,"V")) | AM16: =IF(B16="","",COUNTIF($C16:$AG16,"H"))
A17: =IF(B17="","",ROW()-6) | B17: =IF(Summary!$B17="","",Summary!$B17) | AH17: =IF(B17="","",COUNTIF($C17:$AG17,"P")+COUNTIF($C17:$AG17,"L")) | AI17: =IF(B17="","",COUNTIF($C17:$AG17,"L")) | AJ17: =IF(B17="","",COUNTIF($C17:$AG17,"A")) | AK17: =IF(B17="","",COUNTIF($C17:$AG17,"S")) | AL17: =IF(B17="","",COUNTIF($C17:$AG17,"V")) | AM17: =IF(B17="","",COUNTIF($C17:$AG17,"H"))
A18: =IF(B18="","",ROW()-6) | B18: =IF(Summary!$B18="","",Summary!$B18) | AH18: =IF(B18="","",COUNTIF($C18:$AG18,"P")+COUNTIF($C18:$AG18,"L")) | AI18: =IF(B18="","",COUNTIF($C18:$AG18,"L")) | AJ18: =IF(B18="","",COUNTIF($C18:$AG18,"A")) | AK18: =IF(B18="","",COUNTIF($C18:$AG18,"S")) | AL18: =IF(B18="","",COUNTIF($C18:$AG18,"V")) | AM18: =IF(B18="","",COUNTIF($C18:$AG18,"H"))
... A36: =IF(B36="","",ROW()-6) | B36: =IF(Summary!$B36="","",Summary!$B36) | AH36: =IF(B36="","",COUNTIF($C36:$AG36,"P")+COUNTIF($C36:$AG36,"L")) | AI36: =IF(B36="","",COUNTIF($C36:$AG36,"L")) | AJ36: =IF(B36="","",COUNTIF($C36:$AG36,"A")) | AK36: =IF(B36="","",COUNTIF($C36:$AG36,"S")) | AL36: =IF(B36="","",COUNTIF($C36:$AG36,"V")) | AM36: =IF(B36="","",COUNTIF($C36:$AG36,"H"))
A37: Totals per day
B38: Present (P + L) | C38: =IF(C$5="","",COUNTIF(C$7:C$36,"P")+COUNTIF(C$7:C$36,"L")) | D38: =IF(D$5="","",COUNTIF(D$7:D$36,"P")+COUNTIF(D$7:D$36,"L")) | E38: =IF(E$5="","",COUNTIF(E$7:E$36,"P")+COUNTIF(E$7:E$36,"L")) | F38: =IF(F$5="","",COUNTIF(F$7:F$36,"P")+COUNTIF(F$7:F$36,"L")) | G38: =IF(G$5="","",COUNTIF(G$7:G$36,"P")+COUNTIF(G$7:G$36,"L")) | H38: =IF(H$5="","",COUNTIF(H$7:H$36,"P")+COUNTIF(H$7:H$36,"L")) | I38: =IF(I$5="","",COUNTIF(I$7:I$36,"P")+COUNTIF(I$7:I$36,"L")) | J38: =IF(J$5="","",COUNTIF(J$7:J$36,"P")+COUNTIF(J$7:J$36,"L")) | ... AG38: =IF(AG$5="","",COUNTIF(AG$7:AG$36,"P")+COUNTIF(AG$7:AG$36,"L")) | AH38: =SUM(C38:AG38)
B39: Late | C39: =IF(C$5="","",COUNTIF(C$7:C$36,"L")) | D39: =IF(D$5="","",COUNTIF(D$7:D$36,"L")) | E39: =IF(E$5="","",COUNTIF(E$7:E$36,"L")) | F39: =IF(F$5="","",COUNTIF(F$7:F$36,"L")) | G39: =IF(G$5="","",COUNTIF(G$7:G$36,"L")) | H39: =IF(H$5="","",COUNTIF(H$7:H$36,"L")) | I39: =IF(I$5="","",COUNTIF(I$7:I$36,"L")) | J39: =IF(J$5="","",COUNTIF(J$7:J$36,"L")) | ... AG39: =IF(AG$5="","",COUNTIF(AG$7:AG$36,"L")) | AH39: =SUM(C39:AG39)
B40: Absent | C40: =IF(C$5="","",COUNTIF(C$7:C$36,"A")) | D40: =IF(D$5="","",COUNTIF(D$7:D$36,"A")) | E40: =IF(E$5="","",COUNTIF(E$7:E$36,"A")) | F40: =IF(F$5="","",COUNTIF(F$7:F$36,"A")) | G40: =IF(G$5="","",COUNTIF(G$7:G$36,"A")) | H40: =IF(H$5="","",COUNTIF(H$7:H$36,"A")) | I40: =IF(I$5="","",COUNTIF(I$7:I$36,"A")) | J40: =IF(J$5="","",COUNTIF(J$7:J$36,"A")) | ... AG40: =IF(AG$5="","",COUNTIF(AG$7:AG$36,"A")) | AH40: =SUM(C40:AG40)
B41: Sick | C41: =IF(C$5="","",COUNTIF(C$7:C$36,"S")) | D41: =IF(D$5="","",COUNTIF(D$7:D$36,"S")) | E41: =IF(E$5="","",COUNTIF(E$7:E$36,"S")) | F41: =IF(F$5="","",COUNTIF(F$7:F$36,"S")) | G41: =IF(G$5="","",COUNTIF(G$7:G$36,"S")) | H41: =IF(H$5="","",COUNTIF(H$7:H$36,"S")) | I41: =IF(I$5="","",COUNTIF(I$7:I$36,"S")) | J41: =IF(J$5="","",COUNTIF(J$7:J$36,"S")) | ... AG41: =IF(AG$5="","",COUNTIF(AG$7:AG$36,"S")) | AH41: =SUM(C41:AG41)
B42: Vacation | C42: =IF(C$5="","",COUNTIF(C$7:C$36,"V")) | D42: =IF(D$5="","",COUNTIF(D$7:D$36,"V")) | E42: =IF(E$5="","",COUNTIF(E$7:E$36,"V")) | F42: =IF(F$5="","",COUNTIF(F$7:F$36,"V")) | G42: =IF(G$5="","",COUNTIF(G$7:G$36,"V")) | H42: =IF(H$5="","",COUNTIF(H$7:H$36,"V")) | I42: =IF(I$5="","",COUNTIF(I$7:I$36,"V")) | J42: =IF(J$5="","",COUNTIF(J$7:J$36,"V")) | ... AG42: =IF(AG$5="","",COUNTIF(AG$7:AG$36,"V")) | AH42: =SUM(C42:AG42)
B43: Holiday | C43: =IF(C$5="","",COUNTIF(C$7:C$36,"H")) | D43: =IF(D$5="","",COUNTIF(D$7:D$36,"H")) | E43: =IF(E$5="","",COUNTIF(E$7:E$36,"H")) | F43: =IF(F$5="","",COUNTIF(F$7:F$36,"H")) | G43: =IF(G$5="","",COUNTIF(G$7:G$36,"H")) | H43: =IF(H$5="","",COUNTIF(H$7:H$36,"H")) | I43: =IF(I$5="","",COUNTIF(I$7:I$36,"H")) | J43: =IF(J$5="","",COUNTIF(J$7:J$36,"H")) | ... AG43: =IF(AG$5="","",COUNTIF(AG$7:AG$36,"H")) | AH43: =SUM(C43:AG43)
A45: Made with PunchClock · punchclock.ai/tools

Sheet May 2026
A1: =IF($A$3="","Attendance register","Attendance register – "&TEXT($A$3,"mmmm yyyy"))
A2: One row per employee, one column per day. Type a code in each cell; the dropdown lists them. Names come from the Summary sheet.
A3: =IF(C3="","",DATE(YEAR(C3),MONTH(C3),1)) | B3: Month | C3: =DATE(Summary!$B$3,5,1) | K3: Codes: | L3: P | M3: Present | P3: L | Q3: Late | T3: A | U3: Absent | X3: S | Y3: Sick | AB3: V | AC3: Vacation | AF3: H | AG3: Holiday
A4: Yellow cells are yours to fill in. White cells are worked out for you and locked (Review › Unprotect Sheet, no password, if you need to change them).
C5: =IF($A$3="","",IF(C$6>DAY(EOMONTH($A$3,0)),"",CHOOSE(WEEKDAY(DATE(YEAR($A$3),MONTH($A$3),C$6)),"Su","Mo","Tu","We","Th","Fr","Sa"))) | D5: =IF($A$3="","",IF(D$6>DAY(EOMONTH($A$3,0)),"",CHOOSE(WEEKDAY(DATE(YEAR($A$3),MONTH($A$3),D$6)),"Su","Mo","Tu","We","Th","Fr","Sa"))) | E5: =IF($A$3="","",IF(E$6>DAY(EOMONTH($A$3,0)),"",CHOOSE(WEEKDAY(DATE(YEAR($A$3),MONTH($A$3),E$6)),"Su","Mo","Tu","We","Th","Fr","Sa"))) | F5: =IF($A$3="","",IF(F$6>DAY(EOMONTH($A$3,0)),"",CHOOSE(WEEKDAY(DATE(YEAR($A$3),MONTH($A$3),F$6)),"Su","Mo","Tu","We","Th","Fr","Sa"))) | G5: =IF($A$3="","",IF(G$6>DAY(EOMONTH($A$3,0)),"",CHOOSE(WEEKDAY(DATE(YEAR($A$3),MONTH($A$3),G$6)),"Su","Mo","Tu","We","Th","Fr","Sa"))) | H5: =IF($A$3="","",IF(H$6>DAY(EOMONTH($A$3,0)),"",CHOOSE(WEEKDAY(DATE(YEAR($A$3),MONTH($A$3),H$6)),"Su","Mo","Tu","We","Th","Fr","Sa"))) | I5: =IF($A$3="","",IF(I$6>DAY(EOMONTH($A$3,0)),"",CHOOSE(WEEKDAY(DATE(YEAR($A$3),MONTH($A$3),I$6)),"Su","Mo","Tu","We","Th","Fr","Sa"))) | J5: =IF($A$3="","",IF(J$6>DAY(EOMONTH($A$3,0)),"",CHOOSE(WEEKDAY(DATE(YEAR($A$3),MONTH($A$3),J$6)),"Su","Mo","Tu","We","Th","Fr","Sa"))) | ... AG5: =IF($A$3="","",IF(AG$6>DAY(EOMONTH($A$3,0)),"",CHOOSE(WEEKDAY(DATE(YEAR($A$3),MONTH($A$3),AG$6)),"Su","Mo","Tu","We","Th","Fr","Sa")))
A6: # | B6: Employee | C6: 1 | D6: 2 | E6: 3 | F6: 4 | G6: 5 | H6: 6 | I6: 7 | J6: 8 | K6: 9 | L6: 10 | M6: 11 | N6: 12 | O6: 13 | P6: 14 | Q6: 15 | R6: 16 | S6: 17 | T6: 18 | U6: 19 | V6: 20 | W6: 21 | X6: 22 | Y6: 23 | Z6: 24 | AA6: 25 | AB6: 26 | AC6: 27 | AD6: 28 | AE6: 29 | AF6: 30 | AG6: 31 | AH6: Present | AI6: Late | AJ6: Absent | AK6: Sick | AL6: Vacation | AM6: Holiday
A7: =IF(B7="","",ROW()-6) | B7: =IF(Summary!$B7="","",Summary!$B7) | AH7: =IF(B7="","",COUNTIF($C7:$AG7,"P")+COUNTIF($C7:$AG7,"L")) | AI7: =IF(B7="","",COUNTIF($C7:$AG7,"L")) | AJ7: =IF(B7="","",COUNTIF($C7:$AG7,"A")) | AK7: =IF(B7="","",COUNTIF($C7:$AG7,"S")) | AL7: =IF(B7="","",COUNTIF($C7:$AG7,"V")) | AM7: =IF(B7="","",COUNTIF($C7:$AG7,"H"))
A8: =IF(B8="","",ROW()-6) | B8: =IF(Summary!$B8="","",Summary!$B8) | AH8: =IF(B8="","",COUNTIF($C8:$AG8,"P")+COUNTIF($C8:$AG8,"L")) | AI8: =IF(B8="","",COUNTIF($C8:$AG8,"L")) | AJ8: =IF(B8="","",COUNTIF($C8:$AG8,"A")) | AK8: =IF(B8="","",COUNTIF($C8:$AG8,"S")) | AL8: =IF(B8="","",COUNTIF($C8:$AG8,"V")) | AM8: =IF(B8="","",COUNTIF($C8:$AG8,"H"))
A9: =IF(B9="","",ROW()-6) | B9: =IF(Summary!$B9="","",Summary!$B9) | AH9: =IF(B9="","",COUNTIF($C9:$AG9,"P")+COUNTIF($C9:$AG9,"L")) | AI9: =IF(B9="","",COUNTIF($C9:$AG9,"L")) | AJ9: =IF(B9="","",COUNTIF($C9:$AG9,"A")) | AK9: =IF(B9="","",COUNTIF($C9:$AG9,"S")) | AL9: =IF(B9="","",COUNTIF($C9:$AG9,"V")) | AM9: =IF(B9="","",COUNTIF($C9:$AG9,"H"))
A10: =IF(B10="","",ROW()-6) | B10: =IF(Summary!$B10="","",Summary!$B10) | AH10: =IF(B10="","",COUNTIF($C10:$AG10,"P")+COUNTIF($C10:$AG10,"L")) | AI10: =IF(B10="","",COUNTIF($C10:$AG10,"L")) | AJ10: =IF(B10="","",COUNTIF($C10:$AG10,"A")) | AK10: =IF(B10="","",COUNTIF($C10:$AG10,"S")) | AL10: =IF(B10="","",COUNTIF($C10:$AG10,"V")) | AM10: =IF(B10="","",COUNTIF($C10:$AG10,"H"))
A11: =IF(B11="","",ROW()-6) | B11: =IF(Summary!$B11="","",Summary!$B11) | AH11: =IF(B11="","",COUNTIF($C11:$AG11,"P")+COUNTIF($C11:$AG11,"L")) | AI11: =IF(B11="","",COUNTIF($C11:$AG11,"L")) | AJ11: =IF(B11="","",COUNTIF($C11:$AG11,"A")) | AK11: =IF(B11="","",COUNTIF($C11:$AG11,"S")) | AL11: =IF(B11="","",COUNTIF($C11:$AG11,"V")) | AM11: =IF(B11="","",COUNTIF($C11:$AG11,"H"))
A12: =IF(B12="","",ROW()-6) | B12: =IF(Summary!$B12="","",Summary!$B12) | AH12: =IF(B12="","",COUNTIF($C12:$AG12,"P")+COUNTIF($C12:$AG12,"L")) | AI12: =IF(B12="","",COUNTIF($C12:$AG12,"L")) | AJ12: =IF(B12="","",COUNTIF($C12:$AG12,"A")) | AK12: =IF(B12="","",COUNTIF($C12:$AG12,"S")) | AL12: =IF(B12="","",COUNTIF($C12:$AG12,"V")) | AM12: =IF(B12="","",COUNTIF($C12:$AG12,"H"))
A13: =IF(B13="","",ROW()-6) | B13: =IF(Summary!$B13="","",Summary!$B13) | AH13: =IF(B13="","",COUNTIF($C13:$AG13,"P")+COUNTIF($C13:$AG13,"L")) | AI13: =IF(B13="","",COUNTIF($C13:$AG13,"L")) | AJ13: =IF(B13="","",COUNTIF($C13:$AG13,"A")) | AK13: =IF(B13="","",COUNTIF($C13:$AG13,"S")) | AL13: =IF(B13="","",COUNTIF($C13:$AG13,"V")) | AM13: =IF(B13="","",COUNTIF($C13:$AG13,"H"))
A14: =IF(B14="","",ROW()-6) | B14: =IF(Summary!$B14="","",Summary!$B14) | AH14: =IF(B14="","",COUNTIF($C14:$AG14,"P")+COUNTIF($C14:$AG14,"L")) | AI14: =IF(B14="","",COUNTIF($C14:$AG14,"L")) | AJ14: =IF(B14="","",COUNTIF($C14:$AG14,"A")) | AK14: =IF(B14="","",COUNTIF($C14:$AG14,"S")) | AL14: =IF(B14="","",COUNTIF($C14:$AG14,"V")) | AM14: =IF(B14="","",COUNTIF($C14:$AG14,"H"))
A15: =IF(B15="","",ROW()-6) | B15: =IF(Summary!$B15="","",Summary!$B15) | AH15: =IF(B15="","",COUNTIF($C15:$AG15,"P")+COUNTIF($C15:$AG15,"L")) | AI15: =IF(B15="","",COUNTIF($C15:$AG15,"L")) | AJ15: =IF(B15="","",COUNTIF($C15:$AG15,"A")) | AK15: =IF(B15="","",COUNTIF($C15:$AG15,"S")) | AL15: =IF(B15="","",COUNTIF($C15:$AG15,"V")) | AM15: =IF(B15="","",COUNTIF($C15:$AG15,"H"))
A16: =IF(B16="","",ROW()-6) | B16: =IF(Summary!$B16="","",Summary!$B16) | AH16: =IF(B16="","",COUNTIF($C16:$AG16,"P")+COUNTIF($C16:$AG16,"L")) | AI16: =IF(B16="","",COUNTIF($C16:$AG16,"L")) | AJ16: =IF(B16="","",COUNTIF($C16:$AG16,"A")) | AK16: =IF(B16="","",COUNTIF($C16:$AG16,"S")) | AL16: =IF(B16="","",COUNTIF($C16:$AG16,"V")) | AM16: =IF(B16="","",COUNTIF($C16:$AG16,"H"))
A17: =IF(B17="","",ROW()-6) | B17: =IF(Summary!$B17="","",Summary!$B17) | AH17: =IF(B17="","",COUNTIF($C17:$AG17,"P")+COUNTIF($C17:$AG17,"L")) | AI17: =IF(B17="","",COUNTIF($C17:$AG17,"L")) | AJ17: =IF(B17="","",COUNTIF($C17:$AG17,"A")) | AK17: =IF(B17="","",COUNTIF($C17:$AG17,"S")) | AL17: =IF(B17="","",COUNTIF($C17:$AG17,"V")) | AM17: =IF(B17="","",COUNTIF($C17:$AG17,"H"))
A18: =IF(B18="","",ROW()-6) | B18: =IF(Summary!$B18="","",Summary!$B18) | AH18: =IF(B18="","",COUNTIF($C18:$AG18,"P")+COUNTIF($C18:$AG18,"L")) | AI18: =IF(B18="","",COUNTIF($C18:$AG18,"L")) | AJ18: =IF(B18="","",COUNTIF($C18:$AG18,"A")) | AK18: =IF(B18="","",COUNTIF($C18:$AG18,"S")) | AL18: =IF(B18="","",COUNTIF($C18:$AG18,"V")) | AM18: =IF(B18="","",COUNTIF($C18:$AG18,"H"))
... A36: =IF(B36="","",ROW()-6) | B36: =IF(Summary!$B36="","",Summary!$B36) | AH36: =IF(B36="","",COUNTIF($C36:$AG36,"P")+COUNTIF($C36:$AG36,"L")) | AI36: =IF(B36="","",COUNTIF($C36:$AG36,"L")) | AJ36: =IF(B36="","",COUNTIF($C36:$AG36,"A")) | AK36: =IF(B36="","",COUNTIF($C36:$AG36,"S")) | AL36: =IF(B36="","",COUNTIF($C36:$AG36,"V")) | AM36: =IF(B36="","",COUNTIF($C36:$AG36,"H"))
A37: Totals per day
B38: Present (P + L) | C38: =IF(C$5="","",COUNTIF(C$7:C$36,"P")+COUNTIF(C$7:C$36,"L")) | D38: =IF(D$5="","",COUNTIF(D$7:D$36,"P")+COUNTIF(D$7:D$36,"L")) | E38: =IF(E$5="","",COUNTIF(E$7:E$36,"P")+COUNTIF(E$7:E$36,"L")) | F38: =IF(F$5="","",COUNTIF(F$7:F$36,"P")+COUNTIF(F$7:F$36,"L")) | G38: =IF(G$5="","",COUNTIF(G$7:G$36,"P")+COUNTIF(G$7:G$36,"L")) | H38: =IF(H$5="","",COUNTIF(H$7:H$36,"P")+COUNTIF(H$7:H$36,"L")) | I38: =IF(I$5="","",COUNTIF(I$7:I$36,"P")+COUNTIF(I$7:I$36,"L")) | J38: =IF(J$5="","",COUNTIF(J$7:J$36,"P")+COUNTIF(J$7:J$36,"L")) | ... AG38: =IF(AG$5="","",COUNTIF(AG$7:AG$36,"P")+COUNTIF(AG$7:AG$36,"L")) | AH38: =SUM(C38:AG38)
B39: Late | C39: =IF(C$5="","",COUNTIF(C$7:C$36,"L")) | D39: =IF(D$5="","",COUNTIF(D$7:D$36,"L")) | E39: =IF(E$5="","",COUNTIF(E$7:E$36,"L")) | F39: =IF(F$5="","",COUNTIF(F$7:F$36,"L")) | G39: =IF(G$5="","",COUNTIF(G$7:G$36,"L")) | H39: =IF(H$5="","",COUNTIF(H$7:H$36,"L")) | I39: =IF(I$5="","",COUNTIF(I$7:I$36,"L")) | J39: =IF(J$5="","",COUNTIF(J$7:J$36,"L")) | ... AG39: =IF(AG$5="","",COUNTIF(AG$7:AG$36,"L")) | AH39: =SUM(C39:AG39)
B40: Absent | C40: =IF(C$5="","",COUNTIF(C$7:C$36,"A")) | D40: =IF(D$5="","",COUNTIF(D$7:D$36,"A")) | E40: =IF(E$5="","",COUNTIF(E$7:E$36,"A")) | F40: =IF(F$5="","",COUNTIF(F$7:F$36,"A")) | G40: =IF(G$5="","",COUNTIF(G$7:G$36,"A")) | H40: =IF(H$5="","",COUNTIF(H$7:H$36,"A")) | I40: =IF(I$5="","",COUNTIF(I$7:I$36,"A")) | J40: =IF(J$5="","",COUNTIF(J$7:J$36,"A")) | ... AG40: =IF(AG$5="","",COUNTIF(AG$7:AG$36,"A")) | AH40: =SUM(C40:AG40)
B41: Sick | C41: =IF(C$5="","",COUNTIF(C$7:C$36,"S")) | D41: =IF(D$5="","",COUNTIF(D$7:D$36,"S")) | E41: =IF(E$5="","",COUNTIF(E$7:E$36,"S")) | F41: =IF(F$5="","",COUNTIF(F$7:F$36,"S")) | G41: =IF(G$5="","",COUNTIF(G$7:G$36,"S")) | H41: =IF(H$5="","",COUNTIF(H$7:H$36,"S")) | I41: =IF(I$5="","",COUNTIF(I$7:I$36,"S")) | J41: =IF(J$5="","",COUNTIF(J$7:J$36,"S")) | ... AG41: =IF(AG$5="","",COUNTIF(AG$7:AG$36,"S")) | AH41: =SUM(C41:AG41)
B42: Vacation | C42: =IF(C$5="","",COUNTIF(C$7:C$36,"V")) | D42: =IF(D$5="","",COUNTIF(D$7:D$36,"V")) | E42: =IF(E$5="","",COUNTIF(E$7:E$36,"V")) | F42: =IF(F$5="","",COUNTIF(F$7:F$36,"V")) | G42: =IF(G$5="","",COUNTIF(G$7:G$36,"V")) | H42: =IF(H$5="","",COUNTIF(H$7:H$36,"V")) | I42: =IF(I$5="","",COUNTIF(I$7:I$36,"V")) | J42: =IF(J$5="","",COUNTIF(J$7:J$36,"V")) | ... AG42: =IF(AG$5="","",COUNTIF(AG$7:AG$36,"V")) | AH42: =SUM(C42:AG42)
B43: Holiday | C43: =IF(C$5="","",COUNTIF(C$7:C$36,"H")) | D43: =IF(D$5="","",COUNTIF(D$7:D$36,"H")) | E43: =IF(E$5="","",COUNTIF(E$7:E$36,"H")) | F43: =IF(F$5="","",COUNTIF(F$7:F$36,"H")) | G43: =IF(G$5="","",COUNTIF(G$7:G$36,"H")) | H43: =IF(H$5="","",COUNTIF(H$7:H$36,"H")) | I43: =IF(I$5="","",COUNTIF(I$7:I$36,"H")) | J43: =IF(J$5="","",COUNTIF(J$7:J$36,"H")) | ... AG43: =IF(AG$5="","",COUNTIF(AG$7:AG$36,"H")) | AH43: =SUM(C43:AG43)
A45: Made with PunchClock · punchclock.ai/tools

Sheet Jun 2026
A1: =IF($A$3="","Attendance register","Attendance register – "&TEXT($A$3,"mmmm yyyy"))
A2: One row per employee, one column per day. Type a code in each cell; the dropdown lists them. Names come from the Summary sheet.
A3: =IF(C3="","",DATE(YEAR(C3),MONTH(C3),1)) | B3: Month | C3: =DATE(Summary!$B$3,6,1) | K3: Codes: | L3: P | M3: Present | P3: L | Q3: Late | T3: A | U3: Absent | X3: S | Y3: Sick | AB3: V | AC3: Vacation | AF3: H | AG3: Holiday
A4: Yellow cells are yours to fill in. White cells are worked out for you and locked (Review › Unprotect Sheet, no password, if you need to change them).
C5: =IF($A$3="","",IF(C$6>DAY(EOMONTH($A$3,0)),"",CHOOSE(WEEKDAY(DATE(YEAR($A$3),MONTH($A$3),C$6)),"Su","Mo","Tu","We","Th","Fr","Sa"))) | D5: =IF($A$3="","",IF(D$6>DAY(EOMONTH($A$3,0)),"",CHOOSE(WEEKDAY(DATE(YEAR($A$3),MONTH($A$3),D$6)),"Su","Mo","Tu","We","Th","Fr","Sa"))) | E5: =IF($A$3="","",IF(E$6>DAY(EOMONTH($A$3,0)),"",CHOOSE(WEEKDAY(DATE(YEAR($A$3),MONTH($A$3),E$6)),"Su","Mo","Tu","We","Th","Fr","Sa"))) | F5: =IF($A$3="","",IF(F$6>DAY(EOMONTH($A$3,0)),"",CHOOSE(WEEKDAY(DATE(YEAR($A$3),MONTH($A$3),F$6)),"Su","Mo","Tu","We","Th","Fr","Sa"))) | G5: =IF($A$3="","",IF(G$6>DAY(EOMONTH($A$3,0)),"",CHOOSE(WEEKDAY(DATE(YEAR($A$3),MONTH($A$3),G$6)),"Su","Mo","Tu","We","Th","Fr","Sa"))) | H5: =IF($A$3="","",IF(H$6>DAY(EOMONTH($A$3,0)),"",CHOOSE(WEEKDAY(DATE(YEAR($A$3),MONTH($A$3),H$6)),"Su","Mo","Tu","We","Th","Fr","Sa"))) | I5: =IF($A$3="","",IF(I$6>DAY(EOMONTH($A$3,0)),"",CHOOSE(WEEKDAY(DATE(YEAR($A$3),MONTH($A$3),I$6)),"Su","Mo","Tu","We","Th","Fr","Sa"))) | J5: =IF($A$3="","",IF(J$6>DAY(EOMONTH($A$3,0)),"",CHOOSE(WEEKDAY(DATE(YEAR($A$3),MONTH($A$3),J$6)),"Su","Mo","Tu","We","Th","Fr","Sa"))) | ... AG5: =IF($A$3="","",IF(AG$6>DAY(EOMONTH($A$3,0)),"",CHOOSE(WEEKDAY(DATE(YEAR($A$3),MONTH($A$3),AG$6)),"Su","Mo","Tu","We","Th","Fr","Sa")))
A6: # | B6: Employee | C6: 1 | D6: 2 | E6: 3 | F6: 4 | G6: 5 | H6: 6 | I6: 7 | J6: 8 | K6: 9 | L6: 10 | M6: 11 | N6: 12 | O6: 13 | P6: 14 | Q6: 15 | R6: 16 | S6: 17 | T6: 18 | U6: 19 | V6: 20 | W6: 21 | X6: 22 | Y6: 23 | Z6: 24 | AA6: 25 | AB6: 26 | AC6: 27 | AD6: 28 | AE6: 29 | AF6: 30 | AG6: 31 | AH6: Present | AI6: Late | AJ6: Absent | AK6: Sick | AL6: Vacation | AM6: Holiday
A7: =IF(B7="","",ROW()-6) | B7: =IF(Summary!$B7="","",Summary!$B7) | AH7: =IF(B7="","",COUNTIF($C7:$AG7,"P")+COUNTIF($C7:$AG7,"L")) | AI7: =IF(B7="","",COUNTIF($C7:$AG7,"L")) | AJ7: =IF(B7="","",COUNTIF($C7:$AG7,"A")) | AK7: =IF(B7="","",COUNTIF($C7:$AG7,"S")) | AL7: =IF(B7="","",COUNTIF($C7:$AG7,"V")) | AM7: =IF(B7="","",COUNTIF($C7:$AG7,"H"))
A8: =IF(B8="","",ROW()-6) | B8: =IF(Summary!$B8="","",Summary!$B8) | AH8: =IF(B8="","",COUNTIF($C8:$AG8,"P")+COUNTIF($C8:$AG8,"L")) | AI8: =IF(B8="","",COUNTIF($C8:$AG8,"L")) | AJ8: =IF(B8="","",COUNTIF($C8:$AG8,"A")) | AK8: =IF(B8="","",COUNTIF($C8:$AG8,"S")) | AL8: =IF(B8="","",COUNTIF($C8:$AG8,"V")) | AM8: =IF(B8="","",COUNTIF($C8:$AG8,"H"))
A9: =IF(B9="","",ROW()-6) | B9: =IF(Summary!$B9="","",Summary!$B9) | AH9: =IF(B9="","",COUNTIF($C9:$AG9,"P")+COUNTIF($C9:$AG9,"L")) | AI9: =IF(B9="","",COUNTIF($C9:$AG9,"L")) | AJ9: =IF(B9="","",COUNTIF($C9:$AG9,"A")) | AK9: =IF(B9="","",COUNTIF($C9:$AG9,"S")) | AL9: =IF(B9="","",COUNTIF($C9:$AG9,"V")) | AM9: =IF(B9="","",COUNTIF($C9:$AG9,"H"))
A10: =IF(B10="","",ROW()-6) | B10: =IF(Summary!$B10="","",Summary!$B10) | AH10: =IF(B10="","",COUNTIF($C10:$AG10,"P")+COUNTIF($C10:$AG10,"L")) | AI10: =IF(B10="","",COUNTIF($C10:$AG10,"L")) | AJ10: =IF(B10="","",COUNTIF($C10:$AG10,"A")) | AK10: =IF(B10="","",COUNTIF($C10:$AG10,"S")) | AL10: =IF(B10="","",COUNTIF($C10:$AG10,"V")) | AM10: =IF(B10="","",COUNTIF($C10:$AG10,"H"))
A11: =IF(B11="","",ROW()-6) | B11: =IF(Summary!$B11="","",Summary!$B11) | AH11: =IF(B11="","",COUNTIF($C11:$AG11,"P")+COUNTIF($C11:$AG11,"L")) | AI11: =IF(B11="","",COUNTIF($C11:$AG11,"L")) | AJ11: =IF(B11="","",COUNTIF($C11:$AG11,"A")) | AK11: =IF(B11="","",COUNTIF($C11:$AG11,"S")) | AL11: =IF(B11="","",COUNTIF($C11:$AG11,"V")) | AM11: =IF(B11="","",COUNTIF($C11:$AG11,"H"))
A12: =IF(B12="","",ROW()-6) | B12: =IF(Summary!$B12="","",Summary!$B12) | AH12: =IF(B12="","",COUNTIF($C12:$AG12,"P")+COUNTIF($C12:$AG12,"L")) | AI12: =IF(B12="","",COUNTIF($C12:$AG12,"L")) | AJ12: =IF(B12="","",COUNTIF($C12:$AG12,"A")) | AK12: =IF(B12="","",COUNTIF($C12:$AG12,"S")) | AL12: =IF(B12="","",COUNTIF($C12:$AG12,"V")) | AM12: =IF(B12="","",COUNTIF($C12:$AG12,"H"))
A13: =IF(B13="","",ROW()-6) | B13: =IF(Summary!$B13="","",Summary!$B13) | AH13: =IF(B13="","",COUNTIF($C13:$AG13,"P")+COUNTIF($C13:$AG13,"L")) | AI13: =IF(B13="","",COUNTIF($C13:$AG13,"L")) | AJ13: =IF(B13="","",COUNTIF($C13:$AG13,"A")) | AK13: =IF(B13="","",COUNTIF($C13:$AG13,"S")) | AL13: =IF(B13="","",COUNTIF($C13:$AG13,"V")) | AM13: =IF(B13="","",COUNTIF($C13:$AG13,"H"))
A14: =IF(B14="","",ROW()-6) | B14: =IF(Summary!$B14="","",Summary!$B14) | AH14: =IF(B14="","",COUNTIF($C14:$AG14,"P")+COUNTIF($C14:$AG14,"L")) | AI14: =IF(B14="","",COUNTIF($C14:$AG14,"L")) | AJ14: =IF(B14="","",COUNTIF($C14:$AG14,"A")) | AK14: =IF(B14="","",COUNTIF($C14:$AG14,"S")) | AL14: =IF(B14="","",COUNTIF($C14:$AG14,"V")) | AM14: =IF(B14="","",COUNTIF($C14:$AG14,"H"))
A15: =IF(B15="","",ROW()-6) | B15: =IF(Summary!$B15="","",Summary!$B15) | AH15: =IF(B15="","",COUNTIF($C15:$AG15,"P")+COUNTIF($C15:$AG15,"L")) | AI15: =IF(B15="","",COUNTIF($C15:$AG15,"L")) | AJ15: =IF(B15="","",COUNTIF($C15:$AG15,"A")) | AK15: =IF(B15="","",COUNTIF($C15:$AG15,"S")) | AL15: =IF(B15="","",COUNTIF($C15:$AG15,"V")) | AM15: =IF(B15="","",COUNTIF($C15:$AG15,"H"))
A16: =IF(B16="","",ROW()-6) | B16: =IF(Summary!$B16="","",Summary!$B16) | AH16: =IF(B16="","",COUNTIF($C16:$AG16,"P")+COUNTIF($C16:$AG16,"L")) | AI16: =IF(B16="","",COUNTIF($C16:$AG16,"L")) | AJ16: =IF(B16="","",COUNTIF($C16:$AG16,"A")) | AK16: =IF(B16="","",COUNTIF($C16:$AG16,"S")) | AL16: =IF(B16="","",COUNTIF($C16:$AG16,"V")) | AM16: =IF(B16="","",COUNTIF($C16:$AG16,"H"))
A17: =IF(B17="","",ROW()-6) | B17: =IF(Summary!$B17="","",Summary!$B17) | AH17: =IF(B17="","",COUNTIF($C17:$AG17,"P")+COUNTIF($C17:$AG17,"L")) | AI17: =IF(B17="","",COUNTIF($C17:$AG17,"L")) | AJ17: =IF(B17="","",COUNTIF($C17:$AG17,"A")) | AK17: =IF(B17="","",COUNTIF($C17:$AG17,"S")) | AL17: =IF(B17="","",COUNTIF($C17:$AG17,"V")) | AM17: =IF(B17="","",COUNTIF($C17:$AG17,"H"))
A18: =IF(B18="","",ROW()-6) | B18: =IF(Summary!$B18="","",Summary!$B18) | AH18: =IF(B18="","",COUNTIF($C18:$AG18,"P")+COUNTIF($C18:$AG18,"L")) | AI18: =IF(B18="","",COUNTIF($C18:$AG18,"L")) | AJ18: =IF(B18="","",COUNTIF($C18:$AG18,"A")) | AK18: =IF(B18="","",COUNTIF($C18:$AG18,"S")) | AL18: =IF(B18="","",COUNTIF($C18:$AG18,"V")) | AM18: =IF(B18="","",COUNTIF($C18:$AG18,"H"))
... A36: =IF(B36="","",ROW()-6) | B36: =IF(Summary!$B36="","",Summary!$B36) | AH36: =IF(B36="","",COUNTIF($C36:$AG36,"P")+COUNTIF($C36:$AG36,"L")) | AI36: =IF(B36="","",COUNTIF($C36:$AG36,"L")) | AJ36: =IF(B36="","",COUNTIF($C36:$AG36,"A")) | AK36: =IF(B36="","",COUNTIF($C36:$AG36,"S")) | AL36: =IF(B36="","",COUNTIF($C36:$AG36,"V")) | AM36: =IF(B36="","",COUNTIF($C36:$AG36,"H"))
A37: Totals per day
B38: Present (P + L) | C38: =IF(C$5="","",COUNTIF(C$7:C$36,"P")+COUNTIF(C$7:C$36,"L")) | D38: =IF(D$5="","",COUNTIF(D$7:D$36,"P")+COUNTIF(D$7:D$36,"L")) | E38: =IF(E$5="","",COUNTIF(E$7:E$36,"P")+COUNTIF(E$7:E$36,"L")) | F38: =IF(F$5="","",COUNTIF(F$7:F$36,"P")+COUNTIF(F$7:F$36,"L")) | G38: =IF(G$5="","",COUNTIF(G$7:G$36,"P")+COUNTIF(G$7:G$36,"L")) | H38: =IF(H$5="","",COUNTIF(H$7:H$36,"P")+COUNTIF(H$7:H$36,"L")) | I38: =IF(I$5="","",COUNTIF(I$7:I$36,"P")+COUNTIF(I$7:I$36,"L")) | J38: =IF(J$5="","",COUNTIF(J$7:J$36,"P")+COUNTIF(J$7:J$36,"L")) | ... AG38: =IF(AG$5="","",COUNTIF(AG$7:AG$36,"P")+COUNTIF(AG$7:AG$36,"L")) | AH38: =SUM(C38:AG38)
B39: Late | C39: =IF(C$5="","",COUNTIF(C$7:C$36,"L")) | D39: =IF(D$5="","",COUNTIF(D$7:D$36,"L")) | E39: =IF(E$5="","",COUNTIF(E$7:E$36,"L")) | F39: =IF(F$5="","",COUNTIF(F$7:F$36,"L")) | G39: =IF(G$5="","",COUNTIF(G$7:G$36,"L")) | H39: =IF(H$5="","",COUNTIF(H$7:H$36,"L")) | I39: =IF(I$5="","",COUNTIF(I$7:I$36,"L")) | J39: =IF(J$5="","",COUNTIF(J$7:J$36,"L")) | ... AG39: =IF(AG$5="","",COUNTIF(AG$7:AG$36,"L")) | AH39: =SUM(C39:AG39)
