Workbook

Sheet Week
A1: Shift rota
A2: Type a shift code (AM, PM, Night, Day, OFF: see Settings) or a time range like 09:00-17:30 in each cell. Hours, headcount and cost follow.
A3: Week starting | C3: 46328 | D3: Rate per hour is optional; leave it blank for a rota without costs.
A4: Yellow cells are yours to fill in. White cells are worked out for you and locked (Review › Unprotect Sheet, no password, if you need to change them).
A5: # | B5: Staff | C5: Role | D5: Rate | E5: =IF($C$3="","",CHOOSE(WEEKDAY($C$3+0),"Sun","Mon","Tue","Wed","Thu","Fri","Sat")) | F5: =IF($C$3="","",CHOOSE(WEEKDAY($C$3+1),"Sun","Mon","Tue","Wed","Thu","Fri","Sat")) | G5: =IF($C$3="","",CHOOSE(WEEKDAY($C$3+2),"Sun","Mon","Tue","Wed","Thu","Fri","Sat")) | H5: =IF($C$3="","",CHOOSE(WEEKDAY($C$3+3),"Sun","Mon","Tue","Wed","Thu","Fri","Sat")) | I5: =IF($C$3="","",CHOOSE(WEEKDAY($C$3+4),"Sun","Mon","Tue","Wed","Thu","Fri","Sat")) | J5: =IF($C$3="","",CHOOSE(WEEKDAY($C$3+5),"Sun","Mon","Tue","Wed","Thu","Fri","Sat")) | K5: =IF($C$3="","",CHOOSE(WEEKDAY($C$3+6),"Sun","Mon","Tue","Wed","Thu","Fri","Sat")) | L5: Hours | M5: Cost
E6: =IF($C$3="","",$C$3+0) | F6: =IF($C$3="","",$C$3+1) | G6: =IF($C$3="","",$C$3+2) | H6: =IF($C$3="","",$C$3+3) | I6: =IF($C$3="","",$C$3+4) | J6: =IF($C$3="","",$C$3+5) | K6: =IF($C$3="","",$C$3+6)
A7: =IF(B7="","",ROW()-6) | B7: Alex Example | C7: Supervisor | D7: 15 | E7: AM | F7: AM | G7: AM | H7: OFF | I7: OFF | J7: PM | K7: PM | L7: =SUM(E33:K33) | M7: =IF(D7="","",ROUND(L7*D7,2))
A8: =IF(B8="","",ROW()-6) | B8: Jordan Sample | C8: Server | D8: 10 | E8: PM | F8: PM | G8: OFF | H8: OFF | I8: AM | J8: AM | K8: AM | L8: =SUM(E34:K34) | M8: =IF(D8="","",ROUND(L8*D8,2))
A9: =IF(B9="","",ROW()-6) | B9: Sam Specimen | C9: Security | D9: 11 | E9: Night | F9: Night | G9: Night | H9: Night | I9: OFF | J9: OFF | K9: OFF | L9: =SUM(E35:K35) | M9: =IF(D9="","",ROUND(L9*D9,2))
A10: =IF(B10="","",ROW()-6) | B10: Riley Model | C10: Admin | D10: 12 | E10: 09:00-17:30 | F10: 09:00-17:30 | G10: 09:00-17:30 | H10: 09:00-17:30 | I10: 09:00-13:00 | J10: OFF | K10: OFF | L10: =SUM(E36:K36) | M10: =IF(D10="","",ROUND(L10*D10,2))
A11: =IF(B11="","",ROW()-6) | L11: =SUM(E37:K37) | M11: =IF(D11="","",ROUND(L11*D11,2))
A12: =IF(B12="","",ROW()-6) | L12: =SUM(E38:K38) | M12: =IF(D12="","",ROUND(L12*D12,2))
A13: =IF(B13="","",ROW()-6) | L13: =SUM(E39:K39) | M13: =IF(D13="","",ROUND(L13*D13,2))
A14: =IF(B14="","",ROW()-6) | L14: =SUM(E40:K40) | M14: =IF(D14="","",ROUND(L14*D14,2))
A15: =IF(B15="","",ROW()-6) | L15: =SUM(E41:K41) | M15: =IF(D15="","",ROUND(L15*D15,2))
A16: =IF(B16="","",ROW()-6) | L16: =SUM(E42:K42) | M16: =IF(D16="","",ROUND(L16*D16,2))
A17: =IF(B17="","",ROW()-6) | L17: =SUM(E43:K43) | M17: =IF(D17="","",ROUND(L17*D17,2))
A18: =IF(B18="","",ROW()-6) | L18: =SUM(E44:K44) | M18: =IF(D18="","",ROUND(L18*D18,2))
A19: =IF(B19="","",ROW()-6) | L19: =SUM(E45:K45) | M19: =IF(D19="","",ROUND(L19*D19,2))
A20: =IF(B20="","",ROW()-6) | L20: =SUM(E46:K46) | M20: =IF(D20="","",ROUND(L20*D20,2))
A21: =IF(B21="","",ROW()-6) | L21: =SUM(E47:K47) | M21: =IF(D21="","",ROUND(L21*D21,2))
A22: =IF(B22="","",ROW()-6) | L22: =SUM(E48:K48) | M22: =IF(D22="","",ROUND(L22*D22,2))
... A26: =IF(B26="","",ROW()-6) | L26: =SUM(E52:K52) | M26: =IF(D26="","",ROUND(L26*D26,2))
B27: Headcount | E27: =COUNTIF(E33:E52,">0") | F27: =COUNTIF(F33:F52,">0") | G27: =COUNTIF(G33:G52,">0") | H27: =COUNTIF(H33:H52,">0") | I27: =COUNTIF(I33:I52,">0") | J27: =COUNTIF(J33:J52,">0") | K27: =COUNTIF(K33:K52,">0") | L27: =COUNTIF(L7:L26,">0") | M27: staff rostered
B28: Hours | E28: =SUM(E33:E52) | F28: =SUM(F33:F52) | G28: =SUM(G33:G52) | H28: =SUM(H33:H52) | I28: =SUM(I33:I52) | J28: =SUM(J33:J52) | K28: =SUM(K33:K52) | L28: =SUM(L7:L26) | M28: hours
B29: Labour cost | E29: =IF(COUNT($D$7:$D$26)=0,"",SUMPRODUCT(E33:E52,$D$7:$D$26)) | F29: =IF(COUNT($D$7:$D$26)=0,"",SUMPRODUCT(F33:F52,$D$7:$D$26)) | G29: =IF(COUNT($D$7:$D$26)=0,"",SUMPRODUCT(G33:G52,$D$7:$D$26)) | H29: =IF(COUNT($D$7:$D$26)=0,"",SUMPRODUCT(H33:H52,$D$7:$D$26)) | I29: =IF(COUNT($D$7:$D$26)=0,"",SUMPRODUCT(I33:I52,$D$7:$D$26)) | J29: =IF(COUNT($D$7:$D$26)=0,"",SUMPRODUCT(J33:J52,$D$7:$D$26)) | K29: =IF(COUNT($D$7:$D$26)=0,"",SUMPRODUCT(K33:K52,$D$7:$D$26)) | M29: =IF(COUNT($D$7:$D$26)=0,"",SUM(M7:M26))
A31: Paid hours per shift (worked out from the grid above and the Settings sheet)
B32: Staff | E32: =E5 | F32: =F5 | G32: =G5 | H32: =H5 | I32: =I5 | J32: =J5 | K32: =K5 | L32: Hours
B33: =IF(B7="","",B7) | E33: =IF(E7="",0,IF(ISNUMBER(SEARCH("-",E7)),IFERROR(ROUND(MAX(0,MOD(TIMEVALUE(TRIM(MID(E7,SEARCH("-",E7)+1,20)))-TIMEVALUE(TRIM(LEFT(E7,SEARCH("-",E7)-1))),1)*24-Settings!$E$3/60),2),0),IFERROR(VLOOKUP(E7,Settings!$A$7:$E$16,5,FALSE),0))) | F33: =IF(F7="",0,IF(ISNUMBER(SEARCH("-",F7)),IFERROR(ROUND(MAX(0,MOD(TIMEVALUE(TRIM(MID(F7,SEARCH("-",F7)+1,20)))-TIMEVALUE(TRIM(LEFT(F7,SEARCH("-",F7)-1))),1)*24-Settings!$E$3/60),2),0),IFERROR(VLOOKUP(F7,Settings!$A$7:$E$16,5,FALSE),0))) | G33: =IF(G7="",0,IF(ISNUMBER(SEARCH("-",G7)),IFERROR(ROUND(MAX(0,MOD(TIMEVALUE(TRIM(MID(G7,SEARCH("-",G7)+1,20)))-TIMEVALUE(TRIM(LEFT(G7,SEARCH("-",G7)-1))),1)*24-Settings!$E$3/60),2),0),IFERROR(VLOOKUP(G7,Settings!$A$7:$E$16,5,FALSE),0))) | H33: =IF(H7="",0,IF(ISNUMBER(SEARCH("-",H7)),IFERROR(ROUND(MAX(0,MOD(TIMEVALUE(TRIM(MID(H7,SEARCH("-",H7)+1,20)))-TIMEVALUE(TRIM(LEFT(H7,SEARCH("-",H7)-1))),1)*24-Settings!$E$3/60),2),0),IFERROR(VLOOKUP(H7,Settings!$A$7:$E$16,5,FALSE),0))) | I33: =IF(I7="",0,IF(ISNUMBER(SEARCH("-",I7)),IFERROR(ROUND(MAX(0,MOD(TIMEVALUE(TRIM(MID(I7,SEARCH("-",I7)+1,20)))-TIMEVALUE(TRIM(LEFT(I7,SEARCH("-",I7)-1))),1)*24-Settings!$E$3/60),2),0),IFERROR(VLOOKUP(I7,Settings!$A$7:$E$16,5,FALSE),0))) | J33: =IF(J7="",0,IF(ISNUMBER(SEARCH("-",J7)),IFERROR(ROUND(MAX(0,MOD(TIMEVALUE(TRIM(MID(J7,SEARCH("-",J7)+1,20)))-TIMEVALUE(TRIM(LEFT(J7,SEARCH("-",J7)-1))),1)*24-Settings!$E$3/60),2),0),IFERROR(VLOOKUP(J7,Settings!$A$7:$E$16,5,FALSE),0))) | K33: =IF(K7="",0,IF(ISNUMBER(SEARCH("-",K7)),IFERROR(ROUND(MAX(0,MOD(TIMEVALUE(TRIM(MID(K7,SEARCH("-",K7)+1,20)))-TIMEVALUE(TRIM(LEFT(K7,SEARCH("-",K7)-1))),1)*24-Settings!$E$3/60),2),0),IFERROR(VLOOKUP(K7,Settings!$A$7:$E$16,5,FALSE),0))) | L33: =SUM(E33:K33)
B34: =IF(B8="","",B8) | E34: =IF(E8="",0,IF(ISNUMBER(SEARCH("-",E8)),IFERROR(ROUND(MAX(0,MOD(TIMEVALUE(TRIM(MID(E8,SEARCH("-",E8)+1,20)))-TIMEVALUE(TRIM(LEFT(E8,SEARCH("-",E8)-1))),1)*24-Settings!$E$3/60),2),0),IFERROR(VLOOKUP(E8,Settings!$A$7:$E$16,5,FALSE),0))) | F34: =IF(F8="",0,IF(ISNUMBER(SEARCH("-",F8)),IFERROR(ROUND(MAX(0,MOD(TIMEVALUE(TRIM(MID(F8,SEARCH("-",F8)+1,20)))-TIMEVALUE(TRIM(LEFT(F8,SEARCH("-",F8)-1))),1)*24-Settings!$E$3/60),2),0),IFERROR(VLOOKUP(F8,Settings!$A$7:$E$16,5,FALSE),0))) | G34: =IF(G8="",0,IF(ISNUMBER(SEARCH("-",G8)),IFERROR(ROUND(MAX(0,MOD(TIMEVALUE(TRIM(MID(G8,SEARCH("-",G8)+1,20)))-TIMEVALUE(TRIM(LEFT(G8,SEARCH("-",G8)-1))),1)*24-Settings!$E$3/60),2),0),IFERROR(VLOOKUP(G8,Settings!$A$7:$E$16,5,FALSE),0))) | H34: =IF(H8="",0,IF(ISNUMBER(SEARCH("-",H8)),IFERROR(ROUND(MAX(0,MOD(TIMEVALUE(TRIM(MID(H8,SEARCH("-",H8)+1,20)))-TIMEVALUE(TRIM(LEFT(H8,SEARCH("-",H8)-1))),1)*24-Settings!$E$3/60),2),0),IFERROR(VLOOKUP(H8,Settings!$A$7:$E$16,5,FALSE),0))) | I34: =IF(I8="",0,IF(ISNUMBER(SEARCH("-",I8)),IFERROR(ROUND(MAX(0,MOD(TIMEVALUE(TRIM(MID(I8,SEARCH("-",I8)+1,20)))-TIMEVALUE(TRIM(LEFT(I8,SEARCH("-",I8)-1))),1)*24-Settings!$E$3/60),2),0),IFERROR(VLOOKUP(I8,Settings!$A$7:$E$16,5,FALSE),0))) | J34: =IF(J8="",0,IF(ISNUMBER(SEARCH("-",J8)),IFERROR(ROUND(MAX(0,MOD(TIMEVALUE(TRIM(MID(J8,SEARCH("-",J8)+1,20)))-TIMEVALUE(TRIM(LEFT(J8,SEARCH("-",J8)-1))),1)*24-Settings!$E$3/60),2),0),IFERROR(VLOOKUP(J8,Settings!$A$7:$E$16,5,FALSE),0))) | K34: =IF(K8="",0,IF(ISNUMBER(SEARCH("-",K8)),IFERROR(ROUND(MAX(0,MOD(TIMEVALUE(TRIM(MID(K8,SEARCH("-",K8)+1,20)))-TIMEVALUE(TRIM(LEFT(K8,SEARCH("-",K8)-1))),1)*24-Settings!$E$3/60),2),0),IFERROR(VLOOKUP(K8,Settings!$A$7:$E$16,5,FALSE),0))) | L34: =SUM(E34:K34)
B35: =IF(B9="","",B9) | E35: =IF(E9="",0,IF(ISNUMBER(SEARCH("-",E9)),IFERROR(ROUND(MAX(0,MOD(TIMEVALUE(TRIM(MID(E9,SEARCH("-",E9)+1,20)))-TIMEVALUE(TRIM(LEFT(E9,SEARCH("-",E9)-1))),1)*24-Settings!$E$3/60),2),0),IFERROR(VLOOKUP(E9,Settings!$A$7:$E$16,5,FALSE),0))) | F35: =IF(F9="",0,IF(ISNUMBER(SEARCH("-",F9)),IFERROR(ROUND(MAX(0,MOD(TIMEVALUE(TRIM(MID(F9,SEARCH("-",F9)+1,20)))-TIMEVALUE(TRIM(LEFT(F9,SEARCH("-",F9)-1))),1)*24-Settings!$E$3/60),2),0),IFERROR(VLOOKUP(F9,Settings!$A$7:$E$16,5,FALSE),0))) | G35: =IF(G9="",0,IF(ISNUMBER(SEARCH("-",G9)),IFERROR(ROUND(MAX(0,MOD(TIMEVALUE(TRIM(MID(G9,SEARCH("-",G9)+1,20)))-TIMEVALUE(TRIM(LEFT(G9,SEARCH("-",G9)-1))),1)*24-Settings!$E$3/60),2),0),IFERROR(VLOOKUP(G9,Settings!$A$7:$E$16,5,FALSE),0))) | H35: =IF(H9="",0,IF(ISNUMBER(SEARCH("-",H9)),IFERROR(ROUND(MAX(0,MOD(TIMEVALUE(TRIM(MID(H9,SEARCH("-",H9)+1,20)))-TIMEVALUE(TRIM(LEFT(H9,SEARCH("-",H9)-1))),1)*24-Settings!$E$3/60),2),0),IFERROR(VLOOKUP(H9,Settings!$A$7:$E$16,5,FALSE),0))) | I35: =IF(I9="",0,IF(ISNUMBER(SEARCH("-",I9)),IFERROR(ROUND(MAX(0,MOD(TIMEVALUE(TRIM(MID(I9,SEARCH("-",I9)+1,20)))-TIMEVALUE(TRIM(LEFT(I9,SEARCH("-",I9)-1))),1)*24-Settings!$E$3/60),2),0),IFERROR(VLOOKUP(I9,Settings!$A$7:$E$16,5,FALSE),0))) | J35: =IF(J9="",0,IF(ISNUMBER(SEARCH("-",J9)),IFERROR(ROUND(MAX(0,MOD(TIMEVALUE(TRIM(MID(J9,SEARCH("-",J9)+1,20)))-TIMEVALUE(TRIM(LEFT(J9,SEARCH("-",J9)-1))),1)*24-Settings!$E$3/60),2),0),IFERROR(VLOOKUP(J9,Settings!$A$7:$E$16,5,FALSE),0))) | K35: =IF(K9="",0,IF(ISNUMBER(SEARCH("-",K9)),IFERROR(ROUND(MAX(0,MOD(TIMEVALUE(TRIM(MID(K9,SEARCH("-",K9)+1,20)))-TIMEVALUE(TRIM(LEFT(K9,SEARCH("-",K9)-1))),1)*24-Settings!$E$3/60),2),0),IFERROR(VLOOKUP(K9,Settings!$A$7:$E$16,5,FALSE),0))) | L35: =SUM(E35:K35)
B36: =IF(B10="","",B10) | E36: =IF(E10="",0,IF(ISNUMBER(SEARCH("-",E10)),IFERROR(ROUND(MAX(0,MOD(TIMEVALUE(TRIM(MID(E10,SEARCH("-",E10)+1,20)))-TIMEVALUE(TRIM(LEFT(E10,SEARCH("-",E10)-1))),1)*24-Settings!$E$3/60),2),0),IFERROR(VLOOKUP(E10,Settings!$A$7:$E$16,5,FALSE),0))) | F36: =IF(F10="",0,IF(ISNUMBER(SEARCH("-",F10)),IFERROR(ROUND(MAX(0,MOD(TIMEVALUE(TRIM(MID(F10,SEARCH("-",F10)+1,20)))-TIMEVALUE(TRIM(LEFT(F10,SEARCH("-",F10)-1))),1)*24-Settings!$E$3/60),2),0),IFERROR(VLOOKUP(F10,Settings!$A$7:$E$16,5,FALSE),0))) | G36: =IF(G10="",0,IF(ISNUMBER(SEARCH("-",G10)),IFERROR(ROUND(MAX(0,MOD(TIMEVALUE(TRIM(MID(G10,SEARCH("-",G10)+1,20)))-TIMEVALUE(TRIM(LEFT(G10,SEARCH("-",G10)-1))),1)*24-Settings!$E$3/60),2),0),IFERROR(VLOOKUP(G10,Settings!$A$7:$E$16,5,FALSE),0))) | H36: =IF(H10="",0,IF(ISNUMBER(SEARCH("-",H10)),IFERROR(ROUND(MAX(0,MOD(TIMEVALUE(TRIM(MID(H10,SEARCH("-",H10)+1,20)))-TIMEVALUE(TRIM(LEFT(H10,SEARCH("-",H10)-1))),1)*24-Settings!$E$3/60),2),0),IFERROR(VLOOKUP(H10,Settings!$A$7:$E$16,5,FALSE),0))) | I36: =IF(I10="",0,IF(ISNUMBER(SEARCH("-",I10)),IFERROR(ROUND(MAX(0,MOD(TIMEVALUE(TRIM(MID(I10,SEARCH("-",I10)+1,20)))-TIMEVALUE(TRIM(LEFT(I10,SEARCH("-",I10)-1))),1)*24-Settings!$E$3/60),2),0),IFERROR(VLOOKUP(I10,Settings!$A$7:$E$16,5,FALSE),0))) | J36: =IF(J10="",0,IF(ISNUMBER(SEARCH("-",J10)),IFERROR(ROUND(MAX(0,MOD(TIMEVALUE(TRIM(MID(J10,SEARCH("-",J10)+1,20)))-TIMEVALUE(TRIM(LEFT(J10,SEARCH("-",J10)-1))),1)*24-Settings!$E$3/60),2),0),IFERROR(VLOOKUP(J10,Settings!$A$7:$E$16,5,FALSE),0))) | K36: =IF(K10="",0,IF(ISNUMBER(SEARCH("-",K10)),IFERROR(ROUND(MAX(0,MOD(TIMEVALUE(TRIM(MID(K10,SEARCH("-",K10)+1,20)))-TIMEVALUE(TRIM(LEFT(K10,SEARCH("-",K10)-1))),1)*24-Settings!$E$3/60),2),0),IFERROR(VLOOKUP(K10,Settings!$A$7:$E$16,5,FALSE),0))) | L36: =SUM(E36:K36)
B37: =IF(B11="","",B11) | E37: =IF(E11="",0,IF(ISNUMBER(SEARCH("-",E11)),IFERROR(ROUND(MAX(0,MOD(TIMEVALUE(TRIM(MID(E11,SEARCH("-",E11)+1,20)))-TIMEVALUE(TRIM(LEFT(E11,SEARCH("-",E11)-1))),1)*24-Settings!$E$3/60),2),0),IFERROR(VLOOKUP(E11,Settings!$A$7:$E$16,5,FALSE),0))) | F37: =IF(F11="",0,IF(ISNUMBER(SEARCH("-",F11)),IFERROR(ROUND(MAX(0,MOD(TIMEVALUE(TRIM(MID(F11,SEARCH("-",F11)+1,20)))-TIMEVALUE(TRIM(LEFT(F11,SEARCH("-",F11)-1))),1)*24-Settings!$E$3/60),2),0),IFERROR(VLOOKUP(F11,Settings!$A$7:$E$16,5,FALSE),0))) | G37: =IF(G11="",0,IF(ISNUMBER(SEARCH("-",G11)),IFERROR(ROUND(MAX(0,MOD(TIMEVALUE(TRIM(MID(G11,SEARCH("-",G11)+1,20)))-TIMEVALUE(TRIM(LEFT(G11,SEARCH("-",G11)-1))),1)*24-Settings!$E$3/60),2),0),IFERROR(VLOOKUP(G11,Settings!$A$7:$E$16,5,FALSE),0))) | H37: =IF(H11="",0,IF(ISNUMBER(SEARCH("-",H11)),IFERROR(ROUND(MAX(0,MOD(TIMEVALUE(TRIM(MID(H11,SEARCH("-",H11)+1,20)))-TIMEVALUE(TRIM(LEFT(H11,SEARCH("-",H11)-1))),1)*24-Settings!$E$3/60),2),0),IFERROR(VLOOKUP(H11,Settings!$A$7:$E$16,5,FALSE),0))) | I37: =IF(I11="",0,IF(ISNUMBER(SEARCH("-",I11)),IFERROR(ROUND(MAX(0,MOD(TIMEVALUE(TRIM(MID(I11,SEARCH("-",I11)+1,20)))-TIMEVALUE(TRIM(LEFT(I11,SEARCH("-",I11)-1))),1)*24-Settings!$E$3/60),2),0),IFERROR(VLOOKUP(I11,Settings!$A$7:$E$16,5,FALSE),0))) | J37: =IF(J11="",0,IF(ISNUMBER(SEARCH("-",J11)),IFERROR(ROUND(MAX(0,MOD(TIMEVALUE(TRIM(MID(J11,SEARCH("-",J11)+1,20)))-TIMEVALUE(TRIM(LEFT(J11,SEARCH("-",J11)-1))),1)*24-Settings!$E$3/60),2),0),IFERROR(VLOOKUP(J11,Settings!$A$7:$E$16,5,FALSE),0))) | K37: =IF(K11="",0,IF(ISNUMBER(SEARCH("-",K11)),IFERROR(ROUND(MAX(0,MOD(TIMEVALUE(TRIM(MID(K11,SEARCH("-",K11)+1,20)))-TIMEVALUE(TRIM(LEFT(K11,SEARCH("-",K11)-1))),1)*24-Settings!$E$3/60),2),0),IFERROR(VLOOKUP(K11,Settings!$A$7:$E$16,5,FALSE),0))) | L37: =SUM(E37:K37)
B38: =IF(B12="","",B12) | E38: =IF(E12="",0,IF(ISNUMBER(SEARCH("-",E12)),IFERROR(ROUND(MAX(0,MOD(TIMEVALUE(TRIM(MID(E12,SEARCH("-",E12)+1,20)))-TIMEVALUE(TRIM(LEFT(E12,SEARCH("-",E12)-1))),1)*24-Settings!$E$3/60),2),0),IFERROR(VLOOKUP(E12,Settings!$A$7:$E$16,5,FALSE),0))) | F38: =IF(F12="",0,IF(ISNUMBER(SEARCH("-",F12)),IFERROR(ROUND(MAX(0,MOD(TIMEVALUE(TRIM(MID(F12,SEARCH("-",F12)+1,20)))-TIMEVALUE(TRIM(LEFT(F12,SEARCH("-",F12)-1))),1)*24-Settings!$E$3/60),2),0),IFERROR(VLOOKUP(F12,Settings!$A$7:$E$16,5,FALSE),0))) | G38: =IF(G12="",0,IF(ISNUMBER(SEARCH("-",G12)),IFERROR(ROUND(MAX(0,MOD(TIMEVALUE(TRIM(MID(G12,SEARCH("-",G12)+1,20)))-TIMEVALUE(TRIM(LEFT(G12,SEARCH("-",G12)-1))),1)*24-Settings!$E$3/60),2),0),IFERROR(VLOOKUP(G12,Settings!$A$7:$E$16,5,FALSE),0))) | H38: =IF(H12="",0,IF(ISNUMBER(SEARCH("-",H12)),IFERROR(ROUND(MAX(0,MOD(TIMEVALUE(TRIM(MID(H12,SEARCH("-",H12)+1,20)))-TIMEVALUE(TRIM(LEFT(H12,SEARCH("-",H12)-1))),1)*24-Settings!$E$3/60),2),0),IFERROR(VLOOKUP(H12,Settings!$A$7:$E$16,5,FALSE),0))) | I38: =IF(I12="",0,IF(ISNUMBER(SEARCH("-",I12)),IFERROR(ROUND(MAX(0,MOD(TIMEVALUE(TRIM(MID(I12,SEARCH("-",I12)+1,20)))-TIMEVALUE(TRIM(LEFT(I12,SEARCH("-",I12)-1))),1)*24-Settings!$E$3/60),2),0),IFERROR(VLOOKUP(I12,Settings!$A$7:$E$16,5,FALSE),0))) | J38: =IF(J12="",0,IF(ISNUMBER(SEARCH("-",J12)),IFERROR(ROUND(MAX(0,MOD(TIMEVALUE(TRIM(MID(J12,SEARCH("-",J12)+1,20)))-TIMEVALUE(TRIM(LEFT(J12,SEARCH("-",J12)-1))),1)*24-Settings!$E$3/60),2),0),IFERROR(VLOOKUP(J12,Settings!$A$7:$E$16,5,FALSE),0))) | K38: =IF(K12="",0,IF(ISNUMBER(SEARCH("-",K12)),IFERROR(ROUND(MAX(0,MOD(TIMEVALUE(TRIM(MID(K12,SEARCH("-",K12)+1,20)))-TIMEVALUE(TRIM(LEFT(K12,SEARCH("-",K12)-1))),1)*24-Settings!$E$3/60),2),0),IFERROR(VLOOKUP(K12,Settings!$A$7:$E$16,5,FALSE),0))) | L38: =SUM(E38:K38)
B39: =IF(B13="","",B13) | E39: =IF(E13="",0,IF(ISNUMBER(SEARCH("-",E13)),IFERROR(ROUND(MAX(0,MOD(TIMEVALUE(TRIM(MID(E13,SEARCH("-",E13)+1,20)))-TIMEVALUE(TRIM(LEFT(E13,SEARCH("-",E13)-1))),1)*24-Settings!$E$3/60),2),0),IFERROR(VLOOKUP(E13,Settings!$A$7:$E$16,5,FALSE),0))) | F39: =IF(F13="",0,IF(ISNUMBER(SEARCH("-",F13)),IFERROR(ROUND(MAX(0,MOD(TIMEVALUE(TRIM(MID(F13,SEARCH("-",F13)+1,20)))-TIMEVALUE(TRIM(LEFT(F13,SEARCH("-",F13)-1))),1)*24-Settings!$E$3/60),2),0),IFERROR(VLOOKUP(F13,Settings!$A$7:$E$16,5,FALSE),0))) | G39: =IF(G13="",0,IF(ISNUMBER(SEARCH("-",G13)),IFERROR(ROUND(MAX(0,MOD(TIMEVALUE(TRIM(MID(G13,SEARCH("-",G13)+1,20)))-TIMEVALUE(TRIM(LEFT(G13,SEARCH("-",G13)-1))),1)*24-Settings!$E$3/60),2),0),IFERROR(VLOOKUP(G13,Settings!$A$7:$E$16,5,FALSE),0))) | H39: =IF(H13="",0,IF(ISNUMBER(SEARCH("-",H13)),IFERROR(ROUND(MAX(0,MOD(TIMEVALUE(TRIM(MID(H13,SEARCH("-",H13)+1,20)))-TIMEVALUE(TRIM(LEFT(H13,SEARCH("-",H13)-1))),1)*24-Settings!$E$3/60),2),0),IFERROR(VLOOKUP(H13,Settings!$A$7:$E$16,5,FALSE),0))) | I39: =IF(I13="",0,IF(ISNUMBER(SEARCH("-",I13)),IFERROR(ROUND(MAX(0,MOD(TIMEVALUE(TRIM(MID(I13,SEARCH("-",I13)+1,20)))-TIMEVALUE(TRIM(LEFT(I13,SEARCH("-",I13)-1))),1)*24-Settings!$E$3/60),2),0),IFERROR(VLOOKUP(I13,Settings!$A$7:$E$16,5,FALSE),0))) | J39: =IF(J13="",0,IF(ISNUMBER(SEARCH("-",J13)),IFERROR(ROUND(MAX(0,MOD(TIMEVALUE(TRIM(MID(J13,SEARCH("-",J13)+1,20)))-TIMEVALUE(TRIM(LEFT(J13,SEARCH("-",J13)-1))),1)*24-Settings!$E$3/60),2),0),IFERROR(VLOOKUP(J13,Settings!$A$7:$E$16,5,FALSE),0))) | K39: =IF(K13="",0,IF(ISNUMBER(SEARCH("-",K13)),IFERROR(ROUND(MAX(0,MOD(TIMEVALUE(TRIM(MID(K13,SEARCH("-",K13)+1,20)))-TIMEVALUE(TRIM(LEFT(K13,SEARCH("-",K13)-1))),1)*24-Settings!$E$3/60),2),0),IFERROR(VLOOKUP(K13,Settings!$A$7:$E$16,5,FALSE),0))) | L39: =SUM(E39:K39)
B40: =IF(B14="","",B14) | E40: =IF(E14="",0,IF(ISNUMBER(SEARCH("-",E14)),IFERROR(ROUND(MAX(0,MOD(TIMEVALUE(TRIM(MID(E14,SEARCH("-",E14)+1,20)))-TIMEVALUE(TRIM(LEFT(E14,SEARCH("-",E14)-1))),1)*24-Settings!$E$3/60),2),0),IFERROR(VLOOKUP(E14,Settings!$A$7:$E$16,5,FALSE),0))) | F40: =IF(F14="",0,IF(ISNUMBER(SEARCH("-",F14)),IFERROR(ROUND(MAX(0,MOD(TIMEVALUE(TRIM(MID(F14,SEARCH("-",F14)+1,20)))-TIMEVALUE(TRIM(LEFT(F14,SEARCH("-",F14)-1))),1)*24-Settings!$E$3/60),2),0),IFERROR(VLOOKUP(F14,Settings!$A$7:$E$16,5,FALSE),0))) | G40: =IF(G14="",0,IF(ISNUMBER(SEARCH("-",G14)),IFERROR(ROUND(MAX(0,MOD(TIMEVALUE(TRIM(MID(G14,SEARCH("-",G14)+1,20)))-TIMEVALUE(TRIM(LEFT(G14,SEARCH("-",G14)-1))),1)*24-Settings!$E$3/60),2),0),IFERROR(VLOOKUP(G14,Settings!$A$7:$E$16,5,FALSE),0))) | H40: =IF(H14="",0,IF(ISNUMBER(SEARCH("-",H14)),IFERROR(ROUND(MAX(0,MOD(TIMEVALUE(TRIM(MID(H14,SEARCH("-",H14)+1,20)))-TIMEVALUE(TRIM(LEFT(H14,SEARCH("-",H14)-1))),1)*24-Settings!$E$3/60),2),0),IFERROR(VLOOKUP(H14,Settings!$A$7:$E$16,5,FALSE),0))) | I40: =IF(I14="",0,IF(ISNUMBER(SEARCH("-",I14)),IFERROR(ROUND(MAX(0,MOD(TIMEVALUE(TRIM(MID(I14,SEARCH("-",I14)+1,20)))-TIMEVALUE(TRIM(LEFT(I14,SEARCH("-",I14)-1))),1)*24-Settings!$E$3/60),2),0),IFERROR(VLOOKUP(I14,Settings!$A$7:$E$16,5,FALSE),0))) | J40: =IF(J14="",0,IF(ISNUMBER(SEARCH("-",J14)),IFERROR(ROUND(MAX(0,MOD(TIMEVALUE(TRIM(MID(J14,SEARCH("-",J14)+1,20)))-TIMEVALUE(TRIM(LEFT(J14,SEARCH("-",J14)-1))),1)*24-Settings!$E$3/60),2),0),IFERROR(VLOOKUP(J14,Settings!$A$7:$E$16,5,FALSE),0))) | K40: =IF(K14="",0,IF(ISNUMBER(SEARCH("-",K14)),IFERROR(ROUND(MAX(0,MOD(TIMEVALUE(TRIM(MID(K14,SEARCH("-",K14)+1,20)))-TIMEVALUE(TRIM(LEFT(K14,SEARCH("-",K14)-1))),1)*24-Settings!$E$3/60),2),0),IFERROR(VLOOKUP(K14,Settings!$A$7:$E$16,5,FALSE),0))) | L40: =SUM(E40:K40)
B41: =IF(B15="","",B15) | E41: =IF(E15="",0,IF(ISNUMBER(SEARCH("-",E15)),IFERROR(ROUND(MAX(0,MOD(TIMEVALUE(TRIM(MID(E15,SEARCH("-",E15)+1,20)))-TIMEVALUE(TRIM(LEFT(E15,SEARCH("-",E15)-1))),1)*24-Settings!$E$3/60),2),0),IFERROR(VLOOKUP(E15,Settings!$A$7:$E$16,5,FALSE),0))) | F41: =IF(F15="",0,IF(ISNUMBER(SEARCH("-",F15)),IFERROR(ROUND(MAX(0,MOD(TIMEVALUE(TRIM(MID(F15,SEARCH("-",F15)+1,20)))-TIMEVALUE(TRIM(LEFT(F15,SEARCH("-",F15)-1))),1)*24-Settings!$E$3/60),2),0),IFERROR(VLOOKUP(F15,Settings!$A$7:$E$16,5,FALSE),0))) | G41: =IF(G15="",0,IF(ISNUMBER(SEARCH("-",G15)),IFERROR(ROUND(MAX(0,MOD(TIMEVALUE(TRIM(MID(G15,SEARCH("-",G15)+1,20)))-TIMEVALUE(TRIM(LEFT(G15,SEARCH("-",G15)-1))),1)*24-Settings!$E$3/60),2),0),IFERROR(VLOOKUP(G15,Settings!$A$7:$E$16,5,FALSE),0))) | H41: =IF(H15="",0,IF(ISNUMBER(SEARCH("-",H15)),IFERROR(ROUND(MAX(0,MOD(TIMEVALUE(TRIM(MID(H15,SEARCH("-",H15)+1,20)))-TIMEVALUE(TRIM(LEFT(H15,SEARCH("-",H15)-1))),1)*24-Settings!$E$3/60),2),0),IFERROR(VLOOKUP(H15,Settings!$A$7:$E$16,5,FALSE),0))) | I41: =IF(I15="",0,IF(ISNUMBER(SEARCH("-",I15)),IFERROR(ROUND(MAX(0,MOD(TIMEVALUE(TRIM(MID(I15,SEARCH("-",I15)+1,20)))-TIMEVALUE(TRIM(LEFT(I15,SEARCH("-",I15)-1))),1)*24-Settings!$E$3/60),2),0),IFERROR(VLOOKUP(I15,Settings!$A$7:$E$16,5,FALSE),0))) | J41: =IF(J15="",0,IF(ISNUMBER(SEARCH("-",J15)),IFERROR(ROUND(MAX(0,MOD(TIMEVALUE(TRIM(MID(J15,SEARCH("-",J15)+1,20)))-TIMEVALUE(TRIM(LEFT(J15,SEARCH("-",J15)-1))),1)*24-Settings!$E$3/60),2),0),IFERROR(VLOOKUP(J15,Settings!$A$7:$E$16,5,FALSE),0))) | K41: =IF(K15="",0,IF(ISNUMBER(SEARCH("-",K15)),IFERROR(ROUND(MAX(0,MOD(TIMEVALUE(TRIM(MID(K15,SEARCH("-",K15)+1,20)))-TIMEVALUE(TRIM(LEFT(K15,SEARCH("-",K15)-1))),1)*24-Settings!$E$3/60),2),0),IFERROR(VLOOKUP(K15,Settings!$A$7:$E$16,5,FALSE),0))) | L41: =SUM(E41:K41)
B42: =IF(B16="","",B16) | E42: =IF(E16="",0,IF(ISNUMBER(SEARCH("-",E16)),IFERROR(ROUND(MAX(0,MOD(TIMEVALUE(TRIM(MID(E16,SEARCH("-",E16)+1,20)))-TIMEVALUE(TRIM(LEFT(E16,SEARCH("-",E16)-1))),1)*24-Settings!$E$3/60),2),0),IFERROR(VLOOKUP(E16,Settings!$A$7:$E$16,5,FALSE),0))) | F42: =IF(F16="",0,IF(ISNUMBER(SEARCH("-",F16)),IFERROR(ROUND(MAX(0,MOD(TIMEVALUE(TRIM(MID(F16,SEARCH("-",F16)+1,20)))-TIMEVALUE(TRIM(LEFT(F16,SEARCH("-",F16)-1))),1)*24-Settings!$E$3/60),2),0),IFERROR(VLOOKUP(F16,Settings!$A$7:$E$16,5,FALSE),0))) | G42: =IF(G16="",0,IF(ISNUMBER(SEARCH("-",G16)),IFERROR(ROUND(MAX(0,MOD(TIMEVALUE(TRIM(MID(G16,SEARCH("-",G16)+1,20)))-TIMEVALUE(TRIM(LEFT(G16,SEARCH("-",G16)-1))),1)*24-Settings!$E$3/60),2),0),IFERROR(VLOOKUP(G16,Settings!$A$7:$E$16,5,FALSE),0))) | H42: =IF(H16="",0,IF(ISNUMBER(SEARCH("-",H16)),IFERROR(ROUND(MAX(0,MOD(TIMEVALUE(TRIM(MID(H16,SEARCH("-",H16)+1,20)))-TIMEVALUE(TRIM(LEFT(H16,SEARCH("-",H16)-1))),1)*24-Settings!$E$3/60),2),0),IFERROR(VLOOKUP(H16,Settings!$A$7:$E$16,5,FALSE),0))) | I42: =IF(I16="",0,IF(ISNUMBER(SEARCH("-",I16)),IFERROR(ROUND(MAX(0,MOD(TIMEVALUE(TRIM(MID(I16,SEARCH("-",I16)+1,20)))-TIMEVALUE(TRIM(LEFT(I16,SEARCH("-",I16)-1))),1)*24-Settings!$E$3/60),2),0),IFERROR(VLOOKUP(I16,Settings!$A$7:$E$16,5,FALSE),0))) | J42: =IF(J16="",0,IF(ISNUMBER(SEARCH("-",J16)),IFERROR(ROUND(MAX(0,MOD(TIMEVALUE(TRIM(MID(J16,SEARCH("-",J16)+1,20)))-TIMEVALUE(TRIM(LEFT(J16,SEARCH("-",J16)-1))),1)*24-Settings!$E$3/60),2),0),IFERROR(VLOOKUP(J16,Settings!$A$7:$E$16,5,FALSE),0))) | K42: =IF(K16="",0,IF(ISNUMBER(SEARCH("-",K16)),IFERROR(ROUND(MAX(0,MOD(TIMEVALUE(TRIM(MID(K16,SEARCH("-",K16)+1,20)))-TIMEVALUE(TRIM(LEFT(K16,SEARCH("-",K16)-1))),1)*24-Settings!$E$3/60),2),0),IFERROR(VLOOKUP(K16,Settings!$A$7:$E$16,5,FALSE),0))) | L42: =SUM(E42:K42)
B43: =IF(B17="","",B17) | E43: =IF(E17="",0,IF(ISNUMBER(SEARCH("-",E17)),IFERROR(ROUND(MAX(0,MOD(TIMEVALUE(TRIM(MID(E17,SEARCH("-",E17)+1,20)))-TIMEVALUE(TRIM(LEFT(E17,SEARCH("-",E17)-1))),1)*24-Settings!$E$3/60),2),0),IFERROR(VLOOKUP(E17,Settings!$A$7:$E$16,5,FALSE),0))) | F43: =IF(F17="",0,IF(ISNUMBER(SEARCH("-",F17)),IFERROR(ROUND(MAX(0,MOD(TIMEVALUE(TRIM(MID(F17,SEARCH("-",F17)+1,20)))-TIMEVALUE(TRIM(LEFT(F17,SEARCH("-",F17)-1))),1)*24-Settings!$E$3/60),2),0),IFERROR(VLOOKUP(F17,Settings!$A$7:$E$16,5,FALSE),0))) | G43: =IF(G17="",0,IF(ISNUMBER(SEARCH("-",G17)),IFERROR(ROUND(MAX(0,MOD(TIMEVALUE(TRIM(MID(G17,SEARCH("-",G17)+1,20)))-TIMEVALUE(TRIM(LEFT(G17,SEARCH("-",G17)-1))),1)*24-Settings!$E$3/60),2),0),IFERROR(VLOOKUP(G17,Settings!$A$7:$E$16,5,FALSE),0))) | H43: =IF(H17="",0,IF(ISNUMBER(SEARCH("-",H17)),IFERROR(ROUND(MAX(0,MOD(TIMEVALUE(TRIM(MID(H17,SEARCH("-",H17)+1,20)))-TIMEVALUE(TRIM(LEFT(H17,SEARCH("-",H17)-1))),1)*24-Settings!$E$3/60),2),0),IFERROR(VLOOKUP(H17,Settings!$A$7:$E$16,5,FALSE),0))) | I43: =IF(I17="",0,IF(ISNUMBER(SEARCH("-",I17)),IFERROR(ROUND(MAX(0,MOD(TIMEVALUE(TRIM(MID(I17,SEARCH("-",I17)+1,20)))-TIMEVALUE(TRIM(LEFT(I17,SEARCH("-",I17)-1))),1)*24-Settings!$E$3/60),2),0),IFERROR(VLOOKUP(I17,Settings!$A$7:$E$16,5,FALSE),0))) | J43: =IF(J17="",0,IF(ISNUMBER(SEARCH("-",J17)),IFERROR(ROUND(MAX(0,MOD(TIMEVALUE(TRIM(MID(J17,SEARCH("-",J17)+1,20)))-TIMEVALUE(TRIM(LEFT(J17,SEARCH("-",J17)-1))),1)*24-Settings!$E$3/60),2),0),IFERROR(VLOOKUP(J17,Settings!$A$7:$E$16,5,FALSE),0))) | K43: =IF(K17="",0,IF(ISNUMBER(SEARCH("-",K17)),IFERROR(ROUND(MAX(0,MOD(TIMEVALUE(TRIM(MID(K17,SEARCH("-",K17)+1,20)))-TIMEVALUE(TRIM(LEFT(K17,SEARCH("-",K17)-1))),1)*24-Settings!$E$3/60),2),0),IFERROR(VLOOKUP(K17,Settings!$A$7:$E$16,5,FALSE),0))) | L43: =SUM(E43:K43)
B44: =IF(B18="","",B18) | E44: =IF(E18="",0,IF(ISNUMBER(SEARCH("-",E18)),IFERROR(ROUND(MAX(0,MOD(TIMEVALUE(TRIM(MID(E18,SEARCH("-",E18)+1,20)))-TIMEVALUE(TRIM(LEFT(E18,SEARCH("-",E18)-1))),1)*24-Settings!$E$3/60),2),0),IFERROR(VLOOKUP(E18,Settings!$A$7:$E$16,5,FALSE),0))) | F44: =IF(F18="",0,IF(ISNUMBER(SEARCH("-",F18)),IFERROR(ROUND(MAX(0,MOD(TIMEVALUE(TRIM(MID(F18,SEARCH("-",F18)+1,20)))-TIMEVALUE(TRIM(LEFT(F18,SEARCH("-",F18)-1))),1)*24-Settings!$E$3/60),2),0),IFERROR(VLOOKUP(F18,Settings!$A$7:$E$16,5,FALSE),0))) | G44: =IF(G18="",0,IF(ISNUMBER(SEARCH("-",G18)),IFERROR(ROUND(MAX(0,MOD(TIMEVALUE(TRIM(MID(G18,SEARCH("-",G18)+1,20)))-TIMEVALUE(TRIM(LEFT(G18,SEARCH("-",G18)-1))),1)*24-Settings!$E$3/60),2),0),IFERROR(VLOOKUP(G18,Settings!$A$7:$E$16,5,FALSE),0))) | H44: =IF(H18="",0,IF(ISNUMBER(SEARCH("-",H18)),IFERROR(ROUND(MAX(0,MOD(TIMEVALUE(TRIM(MID(H18,SEARCH("-",H18)+1,20)))-TIMEVALUE(TRIM(LEFT(H18,SEARCH("-",H18)-1))),1)*24-Settings!$E$3/60),2),0),IFERROR(VLOOKUP(H18,Settings!$A$7:$E$16,5,FALSE),0))) | I44: =IF(I18="",0,IF(ISNUMBER(SEARCH("-",I18)),IFERROR(ROUND(MAX(0,MOD(TIMEVALUE(TRIM(MID(I18,SEARCH("-",I18)+1,20)))-TIMEVALUE(TRIM(LEFT(I18,SEARCH("-",I18)-1))),1)*24-Settings!$E$3/60),2),0),IFERROR(VLOOKUP(I18,Settings!$A$7:$E$16,5,FALSE),0))) | J44: =IF(J18="",0,IF(ISNUMBER(SEARCH("-",J18)),IFERROR(ROUND(MAX(0,MOD(TIMEVALUE(TRIM(MID(J18,SEARCH("-",J18)+1,20)))-TIMEVALUE(TRIM(LEFT(J18,SEARCH("-",J18)-1))),1)*24-Settings!$E$3/60),2),0),IFERROR(VLOOKUP(J18,Settings!$A$7:$E$16,5,FALSE),0))) | K44: =IF(K18="",0,IF(ISNUMBER(SEARCH("-",K18)),IFERROR(ROUND(MAX(0,MOD(TIMEVALUE(TRIM(MID(K18,SEARCH("-",K18)+1,20)))-TIMEVALUE(TRIM(LEFT(K18,SEARCH("-",K18)-1))),1)*24-Settings!$E$3/60),2),0),IFERROR(VLOOKUP(K18,Settings!$A$7:$E$16,5,FALSE),0))) | L44: =SUM(E44:K44)
...

Sheet Two weeks
A1: Shift rota (two weeks)
A2: Type a shift code (AM, PM, Night, Day, OFF: see Settings) or a time range like 09:00-17:30 in each cell. Hours, headcount and cost follow.
A3: Week starting | C3: 46328 | D3: Rate per hour is optional; leave it blank for a rota without costs.
A4: Yellow cells are yours to fill in. White cells are worked out for you and locked (Review › Unprotect Sheet, no password, if you need to change them).
A5: # | B5: Staff | C5: Role | D5: Rate | E5: =IF($C$3="","",CHOOSE(WEEKDAY($C$3+0),"Sun","Mon","Tue","Wed","Thu","Fri","Sat")) | F5: =IF($C$3="","",CHOOSE(WEEKDAY($C$3+1),"Sun","Mon","Tue","Wed","Thu","Fri","Sat")) | G5: =IF($C$3="","",CHOOSE(WEEKDAY($C$3+2),"Sun","Mon","Tue","Wed","Thu","Fri","Sat")) | H5: =IF($C$3="","",CHOOSE(WEEKDAY($C$3+3),"Sun","Mon","Tue","Wed","Thu","Fri","Sat")) | I5: =IF($C$3="","",CHOOSE(WEEKDAY($C$3+4),"Sun","Mon","Tue","Wed","Thu","Fri","Sat")) | J5: =IF($C$3="","",CHOOSE(WEEKDAY($C$3+5),"Sun","Mon","Tue","Wed","Thu","Fri","Sat")) | K5: =IF($C$3="","",CHOOSE(WEEKDAY($C$3+6),"Sun","Mon","Tue","Wed","Thu","Fri","Sat")) | L5: =IF($C$3="","",CHOOSE(WEEKDAY($C$3+7),"Sun","Mon","Tue","Wed","Thu","Fri","Sat")) | M5: =IF($C$3="","",CHOOSE(WEEKDAY($C$3+8),"Sun","Mon","Tue","Wed","Thu","Fri","Sat")) | N5: =IF($C$3="","",CHOOSE(WEEKDAY($C$3+9),"Sun","Mon","Tue","Wed","Thu","Fri","Sat")) | O5: =IF($C$3="","",CHOOSE(WEEKDAY($C$3+10),"Sun","Mon","Tue","Wed","Thu","Fri","Sat")) | P5: =IF($C$3="","",CHOOSE(WEEKDAY($C$3+11),"Sun","Mon","Tue","Wed","Thu","Fri","Sat")) | Q5: =IF($C$3="","",CHOOSE(WEEKDAY($C$3+12),"Sun","Mon","Tue","Wed","Thu","Fri","Sat")) | R5: =IF($C$3="","",CHOOSE(WEEKDAY($C$3+13),"Sun","Mon","Tue","Wed","Thu","Fri","Sat")) | S5: Week 1 h | T5: Week 2 h | U5: Hours | V5: Cost
E6: =IF($C$3="","",$C$3+0) | F6: =IF($C$3="","",$C$3+1) | G6: =IF($C$3="","",$C$3+2) | H6: =IF($C$3="","",$C$3+3) | I6: =IF($C$3="","",$C$3+4) | J6: =IF($C$3="","",$C$3+5) | K6: =IF($C$3="","",$C$3+6) | L6: =IF($C$3="","",$C$3+7) | M6: =IF($C$3="","",$C$3+8) | N6: =IF($C$3="","",$C$3+9) | O6: =IF($C$3="","",$C$3+10) | P6: =IF($C$3="","",$C$3+11) | Q6: =IF($C$3="","",$C$3+12) | R6: =IF($C$3="","",$C$3+13)
A7: =IF(B7="","",ROW()-6) | B7: Alex Example | C7: Supervisor | D7: 15 | E7: AM | F7: AM | G7: AM | H7: OFF | I7: OFF | J7: PM | K7: PM | L7: AM | M7: AM | N7: AM | O7: OFF | P7: OFF | Q7: PM | R7: PM | S7: =SUM(E33:K33) | T7: =SUM(L33:R33) | U7: =S7+T7 | V7: =IF(D7="","",ROUND(U7*D7,2))
A8: =IF(B8="","",ROW()-6) | B8: Jordan Sample | C8: Server | D8: 10 | E8: PM | F8: PM | G8: OFF | H8: OFF | I8: AM | J8: AM | K8: AM | L8: PM | M8: PM | N8: OFF | O8: OFF | P8: AM | Q8: AM | R8: AM | S8: =SUM(E34:K34) | T8: =SUM(L34:R34) | U8: =S8+T8 | V8: =IF(D8="","",ROUND(U8*D8,2))
A9: =IF(B9="","",ROW()-6) | B9: Sam Specimen | C9: Security | D9: 11 | E9: Night | F9: Night | G9: Night | H9: Night | I9: OFF | J9: OFF | K9: OFF | L9: Night | M9: Night | N9: Night | O9: Night | P9: OFF | Q9: OFF | R9: OFF | S9: =SUM(E35:K35) | T9: =SUM(L35:R35) | U9: =S9+T9 | V9: =IF(D9="","",ROUND(U9*D9,2))
A10: =IF(B10="","",ROW()-6) | B10: Riley Model | C10: Admin | D10: 12 | E10: 09:00-17:30 | F10: 09:00-17:30 | G10: 09:00-17:30 | H10: 09:00-17:30 | I10: 09:00-13:00 | J10: OFF | K10: OFF | L10: 09:00-17:30 | M10: 09:00-17:30 | N10: 09:00-17:30 | O10: 09:00-17:30 | P10: 09:00-13:00 | Q10: OFF | R10: OFF | S10: =SUM(E36:K36) | T10: =SUM(L36:R36) | U10: =S10+T10 | V10: =IF(D10="","",ROUND(U10*D10,2))
A11: =IF(B11="","",ROW()-6) | S11: =SUM(E37:K37) | T11: =SUM(L37:R37) | U11: =S11+T11 | V11: =IF(D11="","",ROUND(U11*D11,2))
A12: =IF(B12="","",ROW()-6) | S12: =SUM(E38:K38) | T12: =SUM(L38:R38) | U12: =S12+T12 | V12: =IF(D12="","",ROUND(U12*D12,2))
A13: =IF(B13="","",ROW()-6) | S13: =SUM(E39:K39) | T13: =SUM(L39:R39) | U13: =S13+T13 | V13: =IF(D13="","",ROUND(U13*D13,2))
A14: =IF(B14="","",ROW()-6) | S14: =SUM(E40:K40) | T14: =SUM(L40:R40) | U14: =S14+T14 | V14: =IF(D14="","",ROUND(U14*D14,2))
A15: =IF(B15="","",ROW()-6) | S15: =SUM(E41:K41) | T15: =SUM(L41:R41) | U15: =S15+T15 | V15: =IF(D15="","",ROUND(U15*D15,2))
A16: =IF(B16="","",ROW()-6) | S16: =SUM(E42:K42) | T16: =SUM(L42:R42) | U16: =S16+T16 | V16: =IF(D16="","",ROUND(U16*D16,2))
A17: =IF(B17="","",ROW()-6) | S17: =SUM(E43:K43) | T17: =SUM(L43:R43) | U17: =S17+T17 | V17: =IF(D17="","",ROUND(U17*D17,2))
A18: =IF(B18="","",ROW()-6) | S18: =SUM(E44:K44) | T18: =SUM(L44:R44) | U18: =S18+T18 | V18: =IF(D18="","",ROUND(U18*D18,2))
A19: =IF(B19="","",ROW()-6) | S19: =SUM(E45:K45) | T19: =SUM(L45:R45) | U19: =S19+T19 | V19: =IF(D19="","",ROUND(U19*D19,2))
A20: =IF(B20="","",ROW()-6) | S20: =SUM(E46:K46) | T20: =SUM(L46:R46) | U20: =S20+T20 | V20: =IF(D20="","",ROUND(U20*D20,2))
A21: =IF(B21="","",ROW()-6) | S21: =SUM(E47:K47) | T21: =SUM(L47:R47) | U21: =S21+T21 | V21: =IF(D21="","",ROUND(U21*D21,2))
A22: =IF(B22="","",ROW()-6) | S22: =SUM(E48:K48) | T22: =SUM(L48:R48) | U22: =S22+T22 | V22: =IF(D22="","",ROUND(U22*D22,2))
... A26: =IF(B26="","",ROW()-6) | S26: =SUM(E52:K52) | T26: =SUM(L52:R52) | U26: =S26+T26 | V26: =IF(D26="","",ROUND(U26*D26,2))
B27: Headcount | E27: =COUNTIF(E33:E52,">0") | F27: =COUNTIF(F33:F52,">0") | G27: =COUNTIF(G33:G52,">0") | H27: =COUNTIF(H33:H52,">0") | I27: =COUNTIF(I33:I52,">0") | J27: =COUNTIF(J33:J52,">0") | K27: =COUNTIF(K33:K52,">0") | L27: =COUNTIF(L33:L52,">0") | ... R27: =COUNTIF(R33:R52,">0") | U27: =COUNTIF(U7:U26,">0") | V27: staff rostered
B28: Hours | E28: =SUM(E33:E52) | F28: =SUM(F33:F52) | G28: =SUM(G33:G52) | H28: =SUM(H33:H52) | I28: =SUM(I33:I52) | J28: =SUM(J33:J52) | K28: =SUM(K33:K52) | L28: =SUM(L33:L52) | ... R28: =SUM(R33:R52) | S28: =SUM(S7:S26) | T28: =SUM(T7:T26) | U28: =SUM(U7:U26) | V28: hours
B29: Labour cost | E29: =IF(COUNT($D$7:$D$26)=0,"",SUMPRODUCT(E33:E52,$D$7:$D$26)) | F29: =IF(COUNT($D$7:$D$26)=0,"",SUMPRODUCT(F33:F52,$D$7:$D$26)) | G29: =IF(COUNT($D$7:$D$26)=0,"",SUMPRODUCT(G33:G52,$D$7:$D$26)) | H29: =IF(COUNT($D$7:$D$26)=0,"",SUMPRODUCT(H33:H52,$D$7:$D$26)) | I29: =IF(COUNT($D$7:$D$26)=0,"",SUMPRODUCT(I33:I52,$D$7:$D$26)) | J29: =IF(COUNT($D$7:$D$26)=0,"",SUMPRODUCT(J33:J52,$D$7:$D$26)) | K29: =IF(COUNT($D$7:$D$26)=0,"",SUMPRODUCT(K33:K52,$D$7:$D$26)) | L29: =IF(COUNT($D$7:$D$26)=0,"",SUMPRODUCT(L33:L52,$D$7:$D$26)) | ... R29: =IF(COUNT($D$7:$D$26)=0,"",SUMPRODUCT(R33:R52,$D$7:$D$26)) | V29: =IF(COUNT($D$7:$D$26)=0,"",SUM(V7:V26))
A31: Paid hours per shift (worked out from the grid above and the Settings sheet)
B32: Staff | E32: =E5 | F32: =F5 | G32: =G5 | H32: =H5 | I32: =I5 | J32: =J5 | K32: =K5 | L32: =L5 | ... R32: =R5 | U32: Hours
B33: =IF(B7="","",B7) | E33: =IF(E7="",0,IF(ISNUMBER(SEARCH("-",E7)),IFERROR(ROUND(MAX(0,MOD(TIMEVALUE(TRIM(MID(E7,SEARCH("-",E7)+1,20)))-TIMEVALUE(TRIM(LEFT(E7,SEARCH("-",E7)-1))),1)*24-Settings!$E$3/60),2),0),IFERROR(VLOOKUP(E7,Settings!$A$7:$E$16,5,FALSE),0))) | F33: =IF(F7="",0,IF(ISNUMBER(SEARCH("-",F7)),IFERROR(ROUND(MAX(0,MOD(TIMEVALUE(TRIM(MID(F7,SEARCH("-",F7)+1,20)))-TIMEVALUE(TRIM(LEFT(F7,SEARCH("-",F7)-1))),1)*24-Settings!$E$3/60),2),0),IFERROR(VLOOKUP(F7,Settings!$A$7:$E$16,5,FALSE),0))) | G33: =IF(G7="",0,IF(ISNUMBER(SEARCH("-",G7)),IFERROR(ROUND(MAX(0,MOD(TIMEVALUE(TRIM(MID(G7,SEARCH("-",G7)+1,20)))-TIMEVALUE(TRIM(LEFT(G7,SEARCH("-",G7)-1))),1)*24-Settings!$E$3/60),2),0),IFERROR(VLOOKUP(G7,Settings!$A$7:$E$16,5,FALSE),0))) | H33: =IF(H7="",0,IF(ISNUMBER(SEARCH("-",H7)),IFERROR(ROUND(MAX(0,MOD(TIMEVALUE(TRIM(MID(H7,SEARCH("-",H7)+1,20)))-TIMEVALUE(TRIM(LEFT(H7,SEARCH("-",H7)-1))),1)*24-Settings!$E$3/60),2),0),IFERROR(VLOOKUP(H7,Settings!$A$7:$E$16,5,FALSE),0))) | I33: =IF(I7="",0,IF(ISNUMBER(SEARCH("-",I7)),IFERROR(ROUND(MAX(0,MOD(TIMEVALUE(TRIM(MID(I7,SEARCH("-",I7)+1,20)))-TIMEVALUE(TRIM(LEFT(I7,SEARCH("-",I7)-1))),1)*24-Settings!$E$3/60),2),0),IFERROR(VLOOKUP(I7,Settings!$A$7:$E$16,5,FALSE),0))) | J33: =IF(J7="",0,IF(ISNUMBER(SEARCH("-",J7)),IFERROR(ROUND(MAX(0,MOD(TIMEVALUE(TRIM(MID(J7,SEARCH("-",J7)+1,20)))-TIMEVALUE(TRIM(LEFT(J7,SEARCH("-",J7)-1))),1)*24-Settings!$E$3/60),2),0),IFERROR(VLOOKUP(J7,Settings!$A$7:$E$16,5,FALSE),0))) | K33: =IF(K7="",0,IF(ISNUMBER(SEARCH("-",K7)),IFERROR(ROUND(MAX(0,MOD(TIMEVALUE(TRIM(MID(K7,SEARCH("-",K7)+1,20)))-TIMEVALUE(TRIM(LEFT(K7,SEARCH("-",K7)-1))),1)*24-Settings!$E$3/60),2),0),IFERROR(VLOOKUP(K7,Settings!$A$7:$E$16,5,FALSE),0))) | L33: =IF(L7="",0,IF(ISNUMBER(SEARCH("-",L7)),IFERROR(ROUND(MAX(0,MOD(TIMEVALUE(TRIM(MID(L7,SEARCH("-",L7)+1,20)))-TIMEVALUE(TRIM(LEFT(L7,SEARCH("-",L7)-1))),1)*24-Settings!$E$3/60),2),0),IFERROR(VLOOKUP(L7,Settings!$A$7:$E$16,5,FALSE),0))) | ... R33: =IF(R7="",0,IF(ISNUMBER(SEARCH("-",R7)),IFERROR(ROUND(MAX(0,MOD(TIMEVALUE(TRIM(MID(R7,SEARCH("-",R7)+1,20)))-TIMEVALUE(TRIM(LEFT(R7,SEARCH("-",R7)-1))),1)*24-Settings!$E$3/60),2),0),IFERROR(VLOOKUP(R7,Settings!$A$7:$E$16,5,FALSE),0))) | U33: =SUM(E33:R33)
B34: =IF(B8="","",B8) | E34: =IF(E8="",0,IF(ISNUMBER(SEARCH("-",E8)),IFERROR(ROUND(MAX(0,MOD(TIMEVALUE(TRIM(MID(E8,SEARCH("-",E8)+1,20)))-TIMEVALUE(TRIM(LEFT(E8,SEARCH("-",E8)-1))),1)*24-Settings!$E$3/60),2),0),IFERROR(VLOOKUP(E8,Settings!$A$7:$E$16,5,FALSE),0))) | F34: =IF(F8="",0,IF(ISNUMBER(SEARCH("-",F8)),IFERROR(ROUND(MAX(0,MOD(TIMEVALUE(TRIM(MID(F8,SEARCH("-",F8)+1,20)))-TIMEVALUE(TRIM(LEFT(F8,SEARCH("-",F8)-1))),1)*24-Settings!$E$3/60),2),0),IFERROR(VLOOKUP(F8,Settings!$A$7:$E$16,5,FALSE),0))) | G34: =IF(G8="",0,IF(ISNUMBER(SEARCH("-",G8)),IFERROR(ROUND(MAX(0,MOD(TIMEVALUE(TRIM(MID(G8,SEARCH("-",G8)+1,20)))-TIMEVALUE(TRIM(LEFT(G8,SEARCH("-",G8)-1))),1)*24-Settings!$E$3/60),2),0),IFERROR(VLOOKUP(G8,Settings!$A$7:$E$16,5,FALSE),0))) | H34: =IF(H8="",0,IF(ISNUMBER(SEARCH("-",H8)),IFERROR(ROUND(MAX(0,MOD(TIMEVALUE(TRIM(MID(H8,SEARCH("-",H8)+1,20)))-TIMEVALUE(TRIM(LEFT(H8,SEARCH("-",H8)-1))),1)*24-Settings!$E$3/60),2),0),IFERROR(VLOOKUP(H8,Settings!$A$7:$E$16,5,FALSE),0))) | I34: =IF(I8="",0,IF(ISNUMBER(SEARCH("-",I8)),IFERROR(ROUND(MAX(0,MOD(TIMEVALUE(TRIM(MID(I8,SEARCH("-",I8)+1,20)))-TIMEVALUE(TRIM(LEFT(I8,SEARCH("-",I8)-1))),1)*24-Settings!$E$3/60),2),0),IFERROR(VLOOKUP(I8,Settings!$A$7:$E$16,5,FALSE),0))) | J34: =IF(J8="",0,IF(ISNUMBER(SEARCH("-",J8)),IFERROR(ROUND(MAX(0,MOD(TIMEVALUE(TRIM(MID(J8,SEARCH("-",J8)+1,20)))-TIMEVALUE(TRIM(LEFT(J8,SEARCH("-",J8)-1))),1)*24-Settings!$E$3/60),2),0),IFERROR(VLOOKUP(J8,Settings!$A$7:$E$16,5,FALSE),0))) | K34: =IF(K8="",0,IF(ISNUMBER(SEARCH("-",K8)),IFERROR(ROUND(MAX(0,MOD(TIMEVALUE(TRIM(MID(K8,SEARCH("-",K8)+1,20)))-TIMEVALUE(TRIM(LEFT(K8,SEARCH("-",K8)-1))),1)*24-Settings!$E$3/60),2),0),IFERROR(VLOOKUP(K8,Settings!$A$7:$E$16,5,FALSE),0))) | L34: =IF(L8="",0,IF(ISNUMBER(SEARCH("-",L8)),IFERROR(ROUND(MAX(0,MOD(TIMEVALUE(TRIM(MID(L8,SEARCH("-",L8)+1,20)))-TIMEVALUE(TRIM(LEFT(L8,SEARCH("-",L8)-1))),1)*24-Settings!$E$3/60),2),0),IFERROR(VLOOKUP(L8,Settings!$A$7:$E$16,5,FALSE),0))) | ... R34: =IF(R8="",0,IF(ISNUMBER(SEARCH("-",R8)),IFERROR(ROUND(MAX(0,MOD(TIMEVALUE(TRIM(MID(R8,SEARCH("-",R8)+1,20)))-TIMEVALUE(TRIM(LEFT(R8,SEARCH("-",R8)-1))),1)*24-Settings!$E$3/60),2),0),IFERROR(VLOOKUP(R8,Settings!$A$7:$E$16,5,FALSE),0))) | U34: =SUM(E34:R34)
B35: =IF(B9="","",B9) | E35: =IF(E9="",0,IF(ISNUMBER(SEARCH("-",E9)),IFERROR(ROUND(MAX(0,MOD(TIMEVALUE(TRIM(MID(E9,SEARCH("-",E9)+1,20)))-TIMEVALUE(TRIM(LEFT(E9,SEARCH("-",E9)-1))),1)*24-Settings!$E$3/60),2),0),IFERROR(VLOOKUP(E9,Settings!$A$7:$E$16,5,FALSE),0))) | F35: =IF(F9="",0,IF(ISNUMBER(SEARCH("-",F9)),IFERROR(ROUND(MAX(0,MOD(TIMEVALUE(TRIM(MID(F9,SEARCH("-",F9)+1,20)))-TIMEVALUE(TRIM(LEFT(F9,SEARCH("-",F9)-1))),1)*24-Settings!$E$3/60),2),0),IFERROR(VLOOKUP(F9,Settings!$A$7:$E$16,5,FALSE),0))) | G35: =IF(G9="",0,IF(ISNUMBER(SEARCH("-",G9)),IFERROR(ROUND(MAX(0,MOD(TIMEVALUE(TRIM(MID(G9,SEARCH("-",G9)+1,20)))-TIMEVALUE(TRIM(LEFT(G9,SEARCH("-",G9)-1))),1)*24-Settings!$E$3/60),2),0),IFERROR(VLOOKUP(G9,Settings!$A$7:$E$16,5,FALSE),0))) | H35: =IF(H9="",0,IF(ISNUMBER(SEARCH("-",H9)),IFERROR(ROUND(MAX(0,MOD(TIMEVALUE(TRIM(MID(H9,SEARCH("-",H9)+1,20)))-TIMEVALUE(TRIM(LEFT(H9,SEARCH("-",H9)-1))),1)*24-Settings!$E$3/60),2),0),IFERROR(VLOOKUP(H9,Settings!$A$7:$E$16,5,FALSE),0))) | I35: =IF(I9="",0,IF(ISNUMBER(SEARCH("-",I9)),IFERROR(ROUND(MAX(0,MOD(TIMEVALUE(TRIM(MID(I9,SEARCH("-",I9)+1,20)))-TIMEVALUE(TRIM(LEFT(I9,SEARCH("-",I9)-1))),1)*24-Settings!$E$3/60),2),0),IFERROR(VLOOKUP(I9,Settings!$A$7:$E$16,5,FALSE),0))) | J35: =IF(J9="",0,IF(ISNUMBER(SEARCH("-",J9)),IFERROR(ROUND(MAX(0,MOD(TIMEVALUE(TRIM(MID(J9,SEARCH("-",J9)+1,20)))-TIMEVALUE(TRIM(LEFT(J9,SEARCH("-",J9)-1))),1)*24-Settings!$E$3/60),2),0),IFERROR(VLOOKUP(J9,Settings!$A$7:$E$16,5,FALSE),0))) | K35: =IF(K9="",0,IF(ISNUMBER(SEARCH("-",K9)),IFERROR(ROUND(MAX(0,MOD(TIMEVALUE(TRIM(MID(K9,SEARCH("-",K9)+1,20)))-TIMEVALUE(TRIM(LEFT(K9,SEARCH("-",K9)-1))),1)*24-Settings!$E$3/60),2),0),IFERROR(VLOOKUP(K9,Settings!$A$7:$E$16,5,FALSE),0))) | L35: =IF(L9="",0,IF(ISNUMBER(SEARCH("-",L9)),IFERROR(ROUND(MAX(0,MOD(TIMEVALUE(TRIM(MID(L9,SEARCH("-",L9)+1,20)))-TIMEVALUE(TRIM(LEFT(L9,SEARCH("-",L9)-1))),1)*24-Settings!$E$3/60),2),0),IFERROR(VLOOKUP(L9,Settings!$A$7:$E$16,5,FALSE),0))) | ... R35: =IF(R9="",0,IF(ISNUMBER(SEARCH("-",R9)),IFERROR(ROUND(MAX(0,MOD(TIMEVALUE(TRIM(MID(R9,SEARCH("-",R9)+1,20)))-TIMEVALUE(TRIM(LEFT(R9,SEARCH("-",R9)-1))),1)*24-Settings!$E$3/60),2),0),IFERROR(VLOOKUP(R9,Settings!$A$7:$E$16,5,FALSE),0))) | U35: =SUM(E35:R35)
B36: =IF(B10="","",B10) | E36: =IF(E10="",0,IF(ISNUMBER(SEARCH("-",E10)),IFERROR(ROUND(MAX(0,MOD(TIMEVALUE(TRIM(MID(E10,SEARCH("-",E10)+1,20)))-TIMEVALUE(TRIM(LEFT(E10,SEARCH("-",E10)-1))),1)*24-Settings!$E$3/60),2),0),IFERROR(VLOOKUP(E10,Settings!$A$7:$E$16,5,FALSE),0))) | F36: =IF(F10="",0,IF(ISNUMBER(SEARCH("-",F10)),IFERROR(ROUND(MAX(0,MOD(TIMEVALUE(TRIM(MID(F10,SEARCH("-",F10)+1,20)))-TIMEVALUE(TRIM(LEFT(F10,SEARCH("-",F10)-1))),1)*24-Settings!$E$3/60),2),0),IFERROR(VLOOKUP(F10,Settings!$A$7:$E$16,5,FALSE),0))) | G36: =IF(G10="",0,IF(ISNUMBER(SEARCH("-",G10)),IFERROR(ROUND(MAX(0,MOD(TIMEVALUE(TRIM(MID(G10,SEARCH("-",G10)+1,20)))-TIMEVALUE(TRIM(LEFT(G10,SEARCH("-",G10)-1))),1)*24-Settings!$E$3/60),2),0),IFERROR(VLOOKUP(G10,Settings!$A$7:$E$16,5,FALSE),0))) | H36: =IF(H10="",0,IF(ISNUMBER(SEARCH("-",H10)),IFERROR(ROUND(MAX(0,MOD(TIMEVALUE(TRIM(MID(H10,SEARCH("-",H10)+1,20)))-TIMEVALUE(TRIM(LEFT(H10,SEARCH("-",H10)-1))),1)*24-Settings!$E$3/60),2),0),IFERROR(VLOOKUP(H10,Settings!$A$7:$E$16,5,FALSE),0))) | I36: =IF(I10="",0,IF(ISNUMBER(SEARCH("-",I10)),IFERROR(ROUND(MAX(0,MOD(TIMEVALUE(TRIM(MID(I10,SEARCH("-",I10)+1,20)))-TIMEVALUE(TRIM(LEFT(I10,SEARCH("-",I10)-1))),1)*24-Settings!$E$3/60),2),0),IFERROR(VLOOKUP(I10,Settings!$A$7:$E$16,5,FALSE),0))) | J36: =IF(J10="",0,IF(ISNUMBER(SEARCH("-",J10)),IFERROR(ROUND(MAX(0,MOD(TIMEVALUE(TRIM(MID(J10,SEARCH("-",J10)+1,20)))-TIMEVALUE(TRIM(LEFT(J10,SEARCH("-",J10)-1))),1)*24-Settings!$E$3/60),2),0),IFERROR(VLOOKUP(J10,Settings!$A$7:$E$16,5,FALSE),0))) | K36: =IF(K10="",0,IF(ISNUMBER(SEARCH("-",K10)),IFERROR(ROUND(MAX(0,MOD(TIMEVALUE(TRIM(MID(K10,SEARCH("-",K10)+1,20)))-TIMEVALUE(TRIM(LEFT(K10,SEARCH("-",K10)-1))),1)*24-Settings!$E$3/60),2),0),IFERROR(VLOOKUP(K10,Settings!$A$7:$E$16,5,FALSE),0))) | L36: =IF(L10="",0,IF(ISNUMBER(SEARCH("-",L10)),IFERROR(ROUND(MAX(0,MOD(TIMEVALUE(TRIM(MID(L10,SEARCH("-",L10)+1,20)))-TIMEVALUE(TRIM(LEFT(L10,SEARCH("-",L10)-1))),1)*24-Settings!$E$3/60),2),0),IFERROR(VLOOKUP(L10,Settings!$A$7:$E$16,5,FALSE),0))) | ... R36: =IF(R10="",0,IF(ISNUMBER(SEARCH("-",R10)),IFERROR(ROUND(MAX(0,MOD(TIMEVALUE(TRIM(MID(R10,SEARCH("-",R10)+1,20)))-TIMEVALUE(TRIM(LEFT(R10,SEARCH("-",R10)-1))),1)*24-Settings!$E$3/60),2),0),IFERROR(VLOOKUP(R10,Settings!$A$7:$E$16,5,FALSE),0))) | U36: =SUM(E36:R36)
B37: =IF(B11="","",B11) | E37: =IF(E11="",0,IF(ISNUMBER(SEARCH("-",E11)),IFERROR(ROUND(MAX(0,MOD(TIMEVALUE(TRIM(MID(E11,SEARCH("-",E11)+1,20)))-TIMEVALUE(TRIM(LEFT(E11,SEARCH("-",E11)-1))),1)*24-Settings!$E$3/60),2),0),IFERROR(VLOOKUP(E11,Settings!$A$7:$E$16,5,FALSE),0))) | F37: =IF(F11="",0,IF(ISNUMBER(SEARCH("-",F11)),IFERROR(ROUND(MAX(0,MOD(TIMEVALUE(TRIM(MID(F11,SEARCH("-",F11)+1,20)))-TIMEVALUE(TRIM(LEFT(F11,SEARCH("-",F11)-1))),1)*24-Settings!$E$3/60),2),0),IFERROR(VLOOKUP(F11,Settings!$A$7:$E$16,5,FALSE),0))) | G37: =IF(G11="",0,IF(ISNUMBER(SEARCH("-",G11)),IFERROR(ROUND(MAX(0,MOD(TIMEVALUE(TRIM(MID(G11,SEARCH("-",G11)+1,20)))-TIMEVALUE(TRIM(LEFT(G11,SEARCH("-",G11)-1))),1)*24-Settings!$E$3/60),2),0),IFERROR(VLOOKUP(G11,Settings!$A$7:$E$16,5,FALSE),0))) | H37: =IF(H11="",0,IF(ISNUMBER(SEARCH("-",H11)),IFERROR(ROUND(MAX(0,MOD(TIMEVALUE(TRIM(MID(H11,SEARCH("-",H11)+1,20)))-TIMEVALUE(TRIM(LEFT(H11,SEARCH("-",H11)-1))),1)*24-Settings!$E$3/60),2),0),IFERROR(VLOOKUP(H11,Settings!$A$7:$E$16,5,FALSE),0))) | I37: =IF(I11="",0,IF(ISNUMBER(SEARCH("-",I11)),IFERROR(ROUND(MAX(0,MOD(TIMEVALUE(TRIM(MID(I11,SEARCH("-",I11)+1,20)))-TIMEVALUE(TRIM(LEFT(I11,SEARCH("-",I11)-1))),1)*24-Settings!$E$3/60),2),0),IFERROR(VLOOKUP(I11,Settings!$A$7:$E$16,5,FALSE),0))) | J37: =IF(J11="",0,IF(ISNUMBER(SEARCH("-",J11)),IFERROR(ROUND(MAX(0,MOD(TIMEVALUE(TRIM(MID(J11,SEARCH("-",J11)+1,20)))-TIMEVALUE(TRIM(LEFT(J11,SEARCH("-",J11)-1))),1)*24-Settings!$E$3/60),2),0),IFERROR(VLOOKUP(J11,Settings!$A$7:$E$16,5,FALSE),0))) | K37: =IF(K11="",0,IF(ISNUMBER(SEARCH("-",K11)),IFERROR(ROUND(MAX(0,MOD(TIMEVALUE(TRIM(MID(K11,SEARCH("-",K11)+1,20)))-TIMEVALUE(TRIM(LEFT(K11,SEARCH("-",K11)-1))),1)*24-Settings!$E$3/60),2),0),IFERROR(VLOOKUP(K11,Settings!$A$7:$E$16,5,FALSE),0))) | L37: =IF(L11="",0,IF(ISNUMBER(SEARCH("-",L11)),IFERROR(ROUND(MAX(0,MOD(TIMEVALUE(TRIM(MID(L11,SEARCH("-",L11)+1,20)))-TIMEVALUE(TRIM(LEFT(L11,SEARCH("-",L11)-1))),1)*24-Settings!$E$3/60),2),0),IFERROR(VLOOKUP(L11,Settings!$A$7:$E$16,5,FALSE),0))) | ... R37: =IF(R11="",0,IF(ISNUMBER(SEARCH("-",R11)),IFERROR(ROUND(MAX(0,MOD(TIMEVALUE(TRIM(MID(R11,SEARCH("-",R11)+1,20)))-TIMEVALUE(TRIM(LEFT(R11,SEARCH("-",R11)-1))),1)*24-Settings!$E$3/60),2),0),IFERROR(VLOOKUP(R11,Settings!$A$7:$E$16,5,FALSE),0))) | U37: =SUM(E37:R37)
B38: =IF(B12="","",B12) | E38: =IF(E12="",0,IF(ISNUMBER(SEARCH("-",E12)),IFERROR(ROUND(MAX(0,MOD(TIMEVALUE(TRIM(MID(E12,SEARCH("-",E12)+1,20)))-TIMEVALUE(TRIM(LEFT(E12,SEARCH("-",E12)-1))),1)*24-Settings!$E$3/60),2),0),IFERROR(VLOOKUP(E12,Settings!$A$7:$E$16,5,FALSE),0))) | F38: =IF(F12="",0,IF(ISNUMBER(SEARCH("-",F12)),IFERROR(ROUND(MAX(0,MOD(TIMEVALUE(TRIM(MID(F12,SEARCH("-",F12)+1,20)))-TIMEVALUE(TRIM(LEFT(F12,SEARCH("-",F12)-1))),1)*24-Settings!$E$3/60),2),0),IFERROR(VLOOKUP(F12,Settings!$A$7:$E$16,5,FALSE),0))) | G38: =IF(G12="",0,IF(ISNUMBER(SEARCH("-",G12)),IFERROR(ROUND(MAX(0,MOD(TIMEVALUE(TRIM(MID(G12,SEARCH("-",G12)+1,20)))-TIMEVALUE(TRIM(LEFT(G12,SEARCH("-",G12)-1))),1)*24-Settings!$E$3/60),2),0),IFERROR(VLOOKUP(G12,Settings!$A$7:$E$16,5,FALSE),0))) | H38: =IF(H12="",0,IF(ISNUMBER(SEARCH("-",H12)),IFERROR(ROUND(MAX(0,MOD(TIMEVALUE(TRIM(MID(H12,SEARCH("-",H12)+1,20)))-TIMEVALUE(TRIM(LEFT(H12,SEARCH("-",H12)-1))),1)*24-Settings!$E$3/60),2),0),IFERROR(VLOOKUP(H12,Settings!$A$7:$E$16,5,FALSE),0))) | I38: =IF(I12="",0,IF(ISNUMBER(SEARCH("-",I12)),IFERROR(ROUND(MAX(0,MOD(TIMEVALUE(TRIM(MID(I12,SEARCH("-",I12)+1,20)))-TIMEVALUE(TRIM(LEFT(I12,SEARCH("-",I12)-1))),1)*24-Settings!$E$3/60),2),0),IFERROR(VLOOKUP(I12,Settings!$A$7:$E$16,5,FALSE),0))) | J38: =IF(J12="",0,IF(ISNUMBER(SEARCH("-",J12)),IFERROR(ROUND(MAX(0,MOD(TIMEVALUE(TRIM(MID(J12,SEARCH("-",J12)+1,20)))-TIMEVALUE(TRIM(LEFT(J12,SEARCH("-",J12)-1))),1)*24-Settings!$E$3/60),2),0),IFERROR(VLOOKUP(J12,Settings!$A$7:$E$16,5,FALSE),0))) | K38: =IF(K12="",0,IF(ISNUMBER(SEARCH("-",K12)),IFERROR(ROUND(MAX(0,MOD(TIMEVALUE(TRIM(MID(K12,SEARCH("-",K12)+1,20)))-TIMEVALUE(TRIM(LEFT(K12,SEARCH("-",K12)-1))),1)*24-Settings!$E$3/60),2),0),IFERROR(VLOOKUP(K12,Settings!$A$7:$E$16,5,FALSE),0))) | L38: =IF(L12="",0,IF(ISNUMBER(SEARCH("-",L12)),IFERROR(ROUND(MAX(0,MOD(TIMEVALUE(TRIM(MID(L12,SEARCH("-",L12)+1,20)))-TIMEVALUE(TRIM(LEFT(L12,SEARCH("-",L12)-1))),1)*24-Settings!$E$3/60),2),0),IFERROR(VLOOKUP(L12,Settings!$A$7:$E$16,5,FALSE),0))) | ... R38: =IF(R12="",0,IF(ISNUMBER(SEARCH("-",R12)),IFERROR(ROUND(MAX(0,MOD(TIMEVALUE(TRIM(MID(R12,SEARCH("-",R12)+1,20)))-TIMEVALUE(TRIM(LEFT(R12,SEARCH("-",R12)-1))),1)*24-Settings!$E$3/60),2),0),IFERROR(VLOOKUP(R12,Settings!$A$7:$E$16,5,FALSE),0))) | U38: =SUM(E38:R38)
B39: =IF(B13="","",B13) | E39: =IF(E13="",0,IF(ISNUMBER(SEARCH("-",E13)),IFERROR(ROUND(MAX(0,MOD(TIMEVALUE(TRIM(MID(E13,SEARCH("-",E13)+1,20)))-TIMEVALUE(TRIM(LEFT(E13,SEARCH("-",E13)-1))),1)*24-Settings!$E$3/60),2),0),IFERROR(VLOOKUP(E13,Settings!$A$7:$E$16,5,FALSE),0))) | F39: =IF(F13="",0,IF(ISNUMBER(SEARCH("-",F13)),IFERROR(ROUND(MAX(0,MOD(TIMEVALUE(TRIM(MID(F13,SEARCH("-",F13)+1,20)))-TIMEVALUE(TRIM(LEFT(F13,SEARCH("-",F13)-1))),1)*24-Settings!$E$3/60),2),0),IFERROR(VLOOKUP(F13,Settings!$A$7:$E$16,5,FALSE),0))) | G39: =IF(G13="",0,IF(ISNUMBER(SEARCH("-",G13)),IFERROR(ROUND(MAX(0,MOD(TIMEVALUE(TRIM(MID(G13,SEARCH("-",G13)+1,20)))-TIMEVALUE(TRIM(LEFT(G13,SEARCH("-",G13)-1))),1)*24-Settings!$E$3/60),2),0),IFERROR(VLOOKUP(G13,Settings!$A$7:$E$16,5,FALSE),0))) | H39: =IF(H13="",0,IF(ISNUMBER(SEARCH("-",H13)),IFERROR(ROUND(MAX(0,MOD(TIMEVALUE(TRIM(MID(H13,SEARCH("-",H13)+1,20)))-TIMEVALUE(TRIM(LEFT(H13,SEARCH("-",H13)-1))),1)*24-Settings!$E$3/60),2),0),IFERROR(VLOOKUP(H13,Settings!$A$7:$E$16,5,FALSE),0))) | I39: =IF(I13="",0,IF(ISNUMBER(SEARCH("-",I13)),IFERROR(ROUND(MAX(0,MOD(TIMEVALUE(TRIM(MID(I13,SEARCH("-",I13)+1,20)))-TIMEVALUE(TRIM(LEFT(I13,SEARCH("-",I13)-1))),1)*24-Settings!$E$3/60),2),0),IFERROR(VLOOKUP(I13,Settings!$A$7:$E$16,5,FALSE),0))) | J39: =IF(J13="",0,IF(ISNUMBER(SEARCH("-",J13)),IFERROR(ROUND(MAX(0,MOD(TIMEVALUE(TRIM(MID(J13,SEARCH("-",J13)+1,20)))-TIMEVALUE(TRIM(LEFT(J13,SEARCH("-",J13)-1))),1)*24-Settings!$E$3/60),2),0),IFERROR(VLOOKUP(J13,Settings!$A$7:$E$16,5,FALSE),0))) | K39: =IF(K13="",0,IF(ISNUMBER(SEARCH("-",K13)),IFERROR(ROUND(MAX(0,MOD(TIMEVALUE(TRIM(MID(K13,SEARCH("-",K13)+1,20)))-TIMEVALUE(TRIM(LEFT(K13,SEARCH("-",K13)-1))),1)*24-Settings!$E$3/60),2),0),IFERROR(VLOOKUP(K13,Settings!$A$7:$E$16,5,FALSE),0))) | L39: =IF(L13="",0,IF(ISNUMBER(SEARCH("-",L13)),IFERROR(ROUND(MAX(0,MOD(TIMEVALUE(TRIM(MID(L13,SEARCH("-",L13)+1,20)))-TIMEVALUE(TRIM(LEFT(L13,SEARCH("-",L13)-1))),1)*24-Settings!$E$3/60),2),0),IFERROR(VLOOKUP(L13,Settings!$A$7:$E$16,5,FALSE),0))) | ... R39: =IF(R13="",0,IF(ISNUMBER(SEARCH("-",R13)),IFERROR(ROUND(MAX(0,MOD(TIMEVALUE(TRIM(MID(R13,SEARCH("-",R13)+1,20)))-TIMEVALUE(TRIM(LEFT(R13,SEARCH("-",R13)-1))),1)*24-Settings!$E$3/60),2),0),IFERROR(VLOOKUP(R13,Settings!$A$7:$E$16,5,FALSE),0))) | U39: =SUM(E39:R39)
B40: =IF(B14="","",B14) | E40: =IF(E14="",0,IF(ISNUMBER(SEARCH("-",E14)),IFERROR(ROUND(MAX(0,MOD(TIMEVALUE(TRIM(MID(E14,SEARCH("-",E14)+1,20)))-TIMEVALUE(TRIM(LEFT(E14,SEARCH("-",E14)-1))),1)*24-Settings!$E$3/60),2),0),IFERROR(VLOOKUP(E14,Settings!$A$7:$E$16,5,FALSE),0))) | F40: =IF(F14="",0,IF(ISNUMBER(SEARCH("-",F14)),IFERROR(ROUND(MAX(0,MOD(TIMEVALUE(TRIM(MID(F14,SEARCH("-",F14)+1,20)))-TIMEVALUE(TRIM(LEFT(F14,SEARCH("-",F14)-1))),1)*24-Settings!$E$3/60),2),0),IFERROR(VLOOKUP(F14,Settings!$A$7:$E$16,5,FALSE),0))) | G40: =IF(G14="",0,IF(ISNUMBER(SEARCH("-",G14)),IFERROR(ROUND(MAX(0,MOD(TIMEVALUE(TRIM(MID(G14,SEARCH("-",G14)+1,20)))-TIMEVALUE(TRIM(LEFT(G14,SEARCH("-",G14)-1))),1)*24-Settings!$E$3/60),2),0),IFERROR(VLOOKUP(G14,Settings!$A$7:$E$16,5,FALSE),0))) | H40: =IF(H14="",0,IF(ISNUMBER(SEARCH("-",H14)),IFERROR(ROUND(MAX(0,MOD(TIMEVALUE(TRIM(MID(H14,SEARCH("-",H14)+1,20)))-TIMEVALUE(TRIM(LEFT(H14,SEARCH("-",H14)-1))),1)*24-Settings!$E$3/60),2),0),IFERROR(VLOOKUP(H14,Settings!$A$7:$E$16,5,FALSE),0))) | I40: =IF(I14="",0,IF(ISNUMBER(SEARCH("-",I14)),IFERROR(ROUND(MAX(0,MOD(TIMEVALUE(TRIM(MID(I14,SEARCH("-",I14)+1,20)))-TIMEVALUE(TRIM(LEFT(I14,SEARCH("-",I14)-1))),1)*24-Settings!$E$3/60),2),0),IFERROR(VLOOKUP(I14,Settings!$A$7:$E$16,5,FALSE),0))) | J40: =IF(J14="",0,IF(ISNUMBER(SEARCH("-",J14)),IFERROR(ROUND(MAX(0,MOD(TIMEVALUE(TRIM(MID(J14,SEARCH("-",J14)+1,20)))-TIMEVALUE(TRIM(LEFT(J14,SEARCH("-",J14)-1))),1)*24-Settings!$E$3/60),2),0),IFERROR(VLOOKUP(J14,Settings!$A$7:$E$16,5,FALSE),0))) | K40: =IF(K14="",0,IF(ISNUMBER(SEARCH("-",K14)),IFERROR(ROUND(MAX(0,MOD(TIMEVALUE(TRIM(MID(K14,SEARCH("-",K14)+1,20)))-TIMEVALUE(TRIM(LEFT(K14,SEARCH("-",K14)-1))),1)*24-Settings!$E$3/60),2),0),IFERROR(VLOOKUP(K14,Settings!$A$7:$E$16,5,FALSE),0))) | L40: =IF(L14="",0,IF(ISNUMBER(SEARCH("-",L14)),IFERROR(ROUND(MAX(0,MOD(TIMEVALUE(TRIM(MID(L14,SEARCH("-",L14)+1,20)))-TIMEVALUE(TRIM(LEFT(L14,SEARCH("-",L14)-1))),1)*24-Settings!$E$3/60),2),0),IFERROR(VLOOKUP(L14,Settings!$A$7:$E$16,5,FALSE),0))) | ... R40: =IF(R14="",0,IF(ISNUMBER(SEARCH("-",R14)),IFERROR(ROUND(MAX(0,MOD(TIMEVALUE(TRIM(MID(R14,SEARCH("-",R14)+1,20)))-TIMEVALUE(TRIM(LEFT(R14,SEARCH("-",R14)-1))),1)*24-Settings!$E$3/60),2),0),IFERROR(VLOOKUP(R14,Settings!$A$7:$E$16,5,FALSE),0))) | U40: =SUM(E40:R40)
B41: =IF(B15="","",B15) | E41: =IF(E15="",0,IF(ISNUMBER(SEARCH("-",E15)),IFERROR(ROUND(MAX(0,MOD(TIMEVALUE(TRIM(MID(E15,SEARCH("-",E15)+1,20)))-TIMEVALUE(TRIM(LEFT(E15,SEARCH("-",E15)-1))),1)*24-Settings!$E$3/60),2),0),IFERROR(VLOOKUP(E15,Settings!$A$7:$E$16,5,FALSE),0))) | F41: =IF(F15="",0,IF(ISNUMBER(SEARCH("-",F15)),IFERROR(ROUND(MAX(0,MOD(TIMEVALUE(TRIM(MID(F15,SEARCH("-",F15)+1,20)))-TIMEVALUE(TRIM(LEFT(F15,SEARCH("-",F15)-1))),1)*24-Settings!$E$3/60),2),0),IFERROR(VLOOKUP(F15,Settings!$A$7:$E$16,5,FALSE),0))) | G41: =IF(G15="",0,IF(ISNUMBER(SEARCH("-",G15)),IFERROR(ROUND(MAX(0,MOD(TIMEVALUE(TRIM(MID(G15,SEARCH("-",G15)+1,20)))-TIMEVALUE(TRIM(LEFT(G15,SEARCH("-",G15)-1))),1)*24-Settings!$E$3/60),2),0),IFERROR(VLOOKUP(G15,Settings!$A$7:$E$16,5,FALSE),0))) | H41: =IF(H15="",0,IF(ISNUMBER(SEARCH("-",H15)),IFERROR(ROUND(MAX(0,MOD(TIMEVALUE(TRIM(MID(H15,SEARCH("-",H15)+1,20)))-TIMEVALUE(TRIM(LEFT(H15,SEARCH("-",H15)-1))),1)*24-Settings!$E$3/60),2),0),IFERROR(VLOOKUP(H15,Settings!$A$7:$E$16,5,FALSE),0))) | I41: =IF(I15="",0,IF(ISNUMBER(SEARCH("-",I15)),IFERROR(ROUND(MAX(0,MOD(TIMEVALUE(TRIM(MID(I15,SEARCH("-",I15)+1,20)))-TIMEVALUE(TRIM(LEFT(I15,SEARCH("-",I15)-1))),1)*24-Settings!$E$3/60),2),0),IFERROR(VLOOKUP(I15,Settings!$A$7:$E$16,5,FALSE),0))) | J41: =IF(J15="",0,IF(ISNUMBER(SEARCH("-",J15)),IFERROR(ROUND(MAX(0,MOD(TIMEVALUE(TRIM(MID(J15,SEARCH("-",J15)+1,20)))-TIMEVALUE(TRIM(LEFT(J15,SEARCH("-",J15)-1))),1)*24-Settings!$E$3/60),2),0),IFERROR(VLOOKUP(J15,Settings!$A$7:$E$16,5,FALSE),0))) | K41: =IF(K15="",0,IF(ISNUMBER(SEARCH("-",K15)),IFERROR(ROUND(MAX(0,MOD(TIMEVALUE(TRIM(MID(K15,SEARCH("-",K15)+1,20)))-TIMEVALUE(TRIM(LEFT(K15,SEARCH("-",K15)-1))),1)*24-Settings!$E$3/60),2),0),IFERROR(VLOOKUP(K15,Settings!$A$7:$E$16,5,FALSE),0))) | L41: =IF(L15="",0,IF(ISNUMBER(SEARCH("-",L15)),IFERROR(ROUND(MAX(0,MOD(TIMEVALUE(TRIM(MID(L15,SEARCH("-",L15)+1,20)))-TIMEVALUE(TRIM(LEFT(L15,SEARCH("-",L15)-1))),1)*24-Settings!$E$3/60),2),0),IFERROR(VLOOKUP(L15,Settings!$A$7:$E$16,5,FALSE),0))) | ... R41: =IF(R15="",0,IF(ISNUMBER(SEARCH("-",R15)),IFERROR(ROUND(MAX(0,MOD(TIMEVALUE(TRIM(MID(R15,SEARCH("-",R15)+1,20)))-TIMEVALUE(TRIM(LEFT(R15,SEARCH("-",R15)-1))),1)*24-Settings!$E$3/60),2),0),IFERROR(VLOOKUP(R15,Settings!$A$7:$E$16,5,FALSE),0))) | U41: =SUM(E41:R41)
B42: =IF(B16="","",B16) | E42: =IF(E16="",0,IF(ISNUMBER(SEARCH("-",E16)),IFERROR(ROUND(MAX(0,MOD(TIMEVALUE(TRIM(MID(E16,SEARCH("-",E16)+1,20)))-TIMEVALUE(TRIM(LEFT(E16,SEARCH("-",E16)-1))),1)*24-Settings!$E$3/60),2),0),IFERROR(VLOOKUP(E16,Settings!$A$7:$E$16,5,FALSE),0))) | F42: =IF(F16="",0,IF(ISNUMBER(SEARCH("-",F16)),IFERROR(ROUND(MAX(0,MOD(TIMEVALUE(TRIM(MID(F16,SEARCH("-",F16)+1,20)))-TIMEVALUE(TRIM(LEFT(F16,SEARCH("-",F16)-1))),1)*24-Settings!$E$3/60),2),0),IFERROR(VLOOKUP(F16,Settings!$A$7:$E$16,5,FALSE),0))) | G42: =IF(G16="",0,IF(ISNUMBER(SEARCH("-",G16)),IFERROR(ROUND(MAX(0,MOD(TIMEVALUE(TRIM(MID(G16,SEARCH("-",G16)+1,20)))-TIMEVALUE(TRIM(LEFT(G16,SEARCH("-",G16)-1))),1)*24-Settings!$E$3/60),2),0),IFERROR(VLOOKUP(G16,Settings!$A$7:$E$16,5,FALSE),0))) | H42: =IF(H16="",0,IF(ISNUMBER(SEARCH("-",H16)),IFERROR(ROUND(MAX(0,MOD(TIMEVALUE(TRIM(MID(H16,SEARCH("-",H16)+1,20)))-TIMEVALUE(TRIM(LEFT(H16,SEARCH("-",H16)-1))),1)*24-Settings!$E$3/60),2),0),IFERROR(VLOOKUP(H16,Settings!$A$7:$E$16,5,FALSE),0))) | I42: =IF(I16="",0,IF(ISNUMBER(SEARCH("-",I16)),IFERROR(ROUND(MAX(0,MOD(TIMEVALUE(TRIM(MID(I16,SEARCH("-",I16)+1,20)))-TIMEVALUE(TRIM(LEFT(I16,SEARCH("-",I16)-1))),1)*24-Settings!$E$3/60),2),0),IFERROR(VLOOKUP(I16,Settings!$A$7:$E$16,5,FALSE),0))) | J42: =IF(J16="",0,IF(ISNUMBER(SEARCH("-",J16)),IFERROR(ROUND(MAX(0,MOD(TIMEVALUE(TRIM(MID(J16,SEARCH("-",J16)+1,20)))-TIMEVALUE(TRIM(LEFT(J16,SEARCH("-",J16)-1))),1)*24-Settings!$E$3/60),2),0),IFERROR(VLOOKUP(J16,Settings!$A$7:$E$16,5,FALSE),0))) | K42: =IF(K16="",0,IF(ISNUMBER(SEARCH("-",K16)),IFERROR(ROUND(MAX(0,MOD(TIMEVALUE(TRIM(MID(K16,SEARCH("-",K16)+1,20)))-TIMEVALUE(TRIM(LEFT(K16,SEARCH("-",K16)-1))),1)*24-Settings!$E$3/60),2),0),IFERROR(VLOOKUP(K16,Settings!$A$7:$E$16,5,FALSE),0))) | L42: =IF(L16="",0,IF(ISNUMBER(SEARCH("-",L16)),IFERROR(ROUND(MAX(0,MOD(TIMEVALUE(TRIM(MID(L16,SEARCH("-",L16)+1,20)))-TIMEVALUE(TRIM(LEFT(L16,SEARCH("-",L16)-1))),1)*24-Settings!$E$3/60),2),0),IFERROR(VLOOKUP(L16,Settings!$A$7:$E$16,5,FALSE),0))) | ... R42: =IF(R16="",0,IF(ISNUMBER(SEARCH("-",R16)),IFERROR(ROUND(MAX(0,MOD(TIMEVALUE(TRIM(MID(R16,SEARCH("-",R16)+1,20)))-TIMEVALUE(TRIM(LEFT(R16,SEARCH("-",R16)-1))),1)*24-Settings!$E$3/60),2),0),IFERROR(VLOOKUP(R16,Settings!$A$7:$E$16,5,FALSE),0))) | U42: =SUM(E42:R42)
B43: =IF(B17="","",B17) | E43: =IF(E17="",0,IF(ISNUMBER(SEARCH("-",E17)),IFERROR(ROUND(MAX(0,MOD(TIMEVALUE(TRIM(MID(E17,SEARCH("-",E17)+1,20)))-TIMEVALUE(TRIM(LEFT(E17,SEARCH("-",E17)-1))),1)*24-Settings!$E$3/60),2),0),IFERROR(VLOOKUP(E17,Settings!$A$7:$E$16,5,FALSE),0))) | F43: =IF(F17="",0,IF(ISNUMBER(SEARCH("-",F17)),IFERROR(ROUND(MAX(0,MOD(TIMEVALUE(TRIM(MID(F17,SEARCH("-",F17)+1,20)))-TIMEVALUE(TRIM(LEFT(F17,SEARCH("-",F17)-1))),1)*24-Settings!$E$3/60),2),0),IFERROR(VLOOKUP(F17,Settings!$A$7:$E$16,5,FALSE),0))) | G43: =IF(G17="",0,IF(ISNUMBER(SEARCH("-",G17)),IFERROR(ROUND(MAX(0,MOD(TIMEVALUE(TRIM(MID(G17,SEARCH("-",G17)+1,20)))-TIMEVALUE(TRIM(LEFT(G17,SEARCH("-",G17)-1))),1)*24-Settings!$E$3/60),2),0),IFERROR(VLOOKUP(G17,Settings!$A$7:$E$16,5,FALSE),0))) | H43: =IF(H17="",0,IF(ISNUMBER(SEARCH("-",H17)),IFERROR(ROUND(MAX(0,MOD(TIMEVALUE(TRIM(MID(H17,SEARCH("-",H17)+1,20)))-TIMEVALUE(TRIM(LEFT(H17,SEARCH("-",H17)-1))),1)*24-Settings!$E$3/60),2),0),IFERROR(VLOOKUP(H17,Settings!$A$7:$E$16,5,FALSE),0))) | I43: =IF(I17="",0,IF(ISNUMBER(SEARCH("-",I17)),IFERROR(ROUND(MAX(0,MOD(TIMEVALUE(TRIM(MID(I17,SEARCH("-",I17)+1,20)))-TIMEVALUE(TRIM(LEFT(I17,SEARCH("-",I17)-1))),1)*24-Settings!$E$3/60),2),0),IFERROR(VLOOKUP(I17,Settings!$A$7:$E$16,5,FALSE),0))) | J43: =IF(J17="",0,IF(ISNUMBER(SEARCH("-",J17)),IFERROR(ROUND(MAX(0,MOD(TIMEVALUE(TRIM(MID(J17,SEARCH("-",J17)+1,20)))-TIMEVALUE(TRIM(LEFT(J17,SEARCH("-",J17)-1))),1)*24-Settings!$E$3/60),2),0),IFERROR(VLOOKUP(J17,Settings!$A$7:$E$16,5,FALSE),0))) | K43: =IF(K17="",0,IF(ISNUMBER(SEARCH("-",K17)),IFERROR(ROUND(MAX(0,MOD(TIMEVALUE(TRIM(MID(K17,SEARCH("-",K17)+1,20)))-TIMEVALUE(TRIM(LEFT(K17,SEARCH("-",K17)-1))),1)*24-Settings!$E$3/60),2),0),IFERROR(VLOOKUP(K17,Settings!$A$7:$E$16,5,FALSE),0))) | L43: =IF(L17="",0,IF(ISNUMBER(SEARCH("-",L17)),IFERROR(ROUND(MAX(0,MOD(TIMEVALUE(TRIM(MID(L17,SEARCH("-",L17)+1,20)))-TIMEVALUE(TRIM(LEFT(L17,SEARCH("-",L17)-1))),1)*24-Settings!$E$3/60),2),0),IFERROR(VLOOKUP(L17,Settings!$A$7:$E$16,5,FALSE),0))) | ... R43: =IF(R17="",0,IF(ISNUMBER(SEARCH("-",R17)),IFERROR(ROUND(MAX(0,MOD(TIMEVALUE(TRIM(MID(R17,SEARCH("-",R17)+1,20)))-TIMEVALUE(TRIM(LEFT(R17,SEARCH("-",R17)-1))),1)*24-Settings!$E$3/60),2),0),IFERROR(VLOOKUP(R17,Settings!$A$7:$E$16,5,FALSE),0))) | U43: =SUM(E43:R43)
B44: =IF(B18="","",B18) | E44: =IF(E18="",0,IF(ISNUMBER(SEARCH("-",E18)),IFERROR(ROUND(MAX(0,MOD(TIMEVALUE(TRIM(MID(E18,SEARCH("-",E18)+1,20)))-TIMEVALUE(TRIM(LEFT(E18,SEARCH("-",E18)-1))),1)*24-Settings!$E$3/60),2),0),IFERROR(VLOOKUP(E18,Settings!$A$7:$E$16,5,FALSE),0))) | F44: =IF(F18="",0,IF(ISNUMBER(SEARCH("-",F18)),IFERROR(ROUND(MAX(0,MOD(TIMEVALUE(TRIM(MID(F18,SEARCH("-",F18)+1,20)))-TIMEVALUE(TRIM(LEFT(F18,SEARCH("-",F18)-1))),1)*24-Settings!$E$3/60),2),0),IFERROR(VLOOKUP(F18,Settings!$A$7:$E$16,5,FALSE),0))) | G44: =IF(G18="",0,IF(ISNUMBER(SEARCH("-",G18)),IFERROR(ROUND(MAX(0,MOD(TIMEVALUE(TRIM(MID(G18,SEARCH("-",G18)+1,20)))-TIMEVALUE(TRIM(LEFT(G18,SEARCH("-",G18)-1))),1)*24-Settings!$E$3/60),2),0),IFERROR(VLOOKUP(G18,Settings!$A$7:$E$16,5,FALSE),0))) | H44: =IF(H18="",0,IF(ISNUMBER(SEARCH("-",H18)),IFERROR(ROUND(MAX(0,MOD(TIMEVALUE(TRIM(MID(H18,SEARCH("-",H18)+1,20)))-TIMEVALUE(TRIM(LEFT(H18,SEARCH("-",H18)-1))),1)*24-Settings!$E$3/60),2),0),IFERROR(VLOOKUP(H18,Settings!$A$7:$E$16,5,FALSE),0))) | I44: =IF(I18="",0,IF(ISNUMBER(SEARCH("-",I18)),IFERROR(ROUND(MAX(0,MOD(TIMEVALUE(TRIM(MID(I18,SEARCH("-",I18)+1,20)))-TIMEVALUE(TRIM(LEFT(I18,SEARCH("-",I18)-1))),1)*24-Settings!$E$3/60),2),0),IFERROR(VLOOKUP(I18,Settings!$A$7:$E$16,5,FALSE),0))) | J44: =IF(J18="",0,IF(ISNUMBER(SEARCH("-",J18)),IFERROR(ROUND(MAX(0,MOD(TIMEVALUE(TRIM(MID(J18,SEARCH("-",J18)+1,20)))-TIMEVALUE(TRIM(LEFT(J18,SEARCH("-",J18)-1))),1)*24-Settings!$E$3/60),2),0),IFERROR(VLOOKUP(J18,Settings!$A$7:$E$16,5,FALSE),0))) | K44: =IF(K18="",0,IF(ISNUMBER(SEARCH("-",K18)),IFERROR(ROUND(MAX(0,MOD(TIMEVALUE(TRIM(MID(K18,SEARCH("-",K18)+1,20)))-TIMEVALUE(TRIM(LEFT(K18,SEARCH("-",K18)-1))),1)*24-Settings!$E$3/60),2),0),IFERROR(VLOOKUP(K18,Settings!$A$7:$E$16,5,FALSE),0))) | L44: =IF(L18="",0,IF(ISNUMBER(SEARCH("-",L18)),IFERROR(ROUND(MAX(0,MOD(TIMEVALUE(TRIM(MID(L18,SEARCH("-",L18)+1,20)))-TIMEVALUE(TRIM(LEFT(L18,SEARCH("-",L18)-1))),1)*24-Settings!$E$3/60),2),0),IFERROR(VLOOKUP(L18,Settings!$A$7:$E$16,5,FALSE),0))) | ... R44: =IF(R18="",0,IF(ISNUMBER(SEARCH("-",R18)),IFERROR(ROUND(MAX(0,MOD(TIMEVALUE(TRIM(MID(R18,SEARCH("-",R18)+1,20)))-TIMEVALUE(TRIM(LEFT(R18,SEARCH("-",R18)-1))),1)*24-Settings!$E$3/60),2),0),IFERROR(VLOOKUP(R18,Settings!$A$7:$E$16,5,FALSE),0))) | U44: =SUM(E44:R44)
...

Sheet Settings
A1: Shift codes
A2: Type these codes on the rota (or a time range such as 09:00-17:30). Paid hours are worked out here.
A3: Unpaid break (min) taken off a typed time range | E3: 30 | F3: Applies to ranges typed as 09:00-17:30; shift codes use their own break below.
